BEGIN:VCALENDAR
VERSION:2.0
PRODID:-//Access Winnipeg - ECPv6.15.20//NONSGML v1.0//EN
CALSCALE:GREGORIAN
METHOD:PUBLISH
X-WR-CALNAME:Access Winnipeg
X-ORIGINAL-URL:https://accesswinnipeg.com
X-WR-CALDESC:Events for Access Winnipeg
REFRESH-INTERVAL;VALUE=DURATION:PT1H
X-Robots-Tag:noindex
X-PUBLISHED-TTL:PT1H
BEGIN:VTIMEZONE
TZID:America/Winnipeg
BEGIN:DAYLIGHT
TZOFFSETFROM:-0600
TZOFFSETTO:-0500
TZNAME:CDT
DTSTART:20130310T080000
END:DAYLIGHT
BEGIN:STANDARD
TZOFFSETFROM:-0500
TZOFFSETTO:-0600
TZNAME:CST
DTSTART:20131103T070000
END:STANDARD
BEGIN:DAYLIGHT
TZOFFSETFROM:-0600
TZOFFSETTO:-0500
TZNAME:CDT
DTSTART:20140309T080000
END:DAYLIGHT
BEGIN:STANDARD
TZOFFSETFROM:-0500
TZOFFSETTO:-0600
TZNAME:CST
DTSTART:20141102T070000
END:STANDARD
BEGIN:DAYLIGHT
TZOFFSETFROM:-0600
TZOFFSETTO:-0500
TZNAME:CDT
DTSTART:20150308T080000
END:DAYLIGHT
BEGIN:STANDARD
TZOFFSETFROM:-0500
TZOFFSETTO:-0600
TZNAME:CST
DTSTART:20151101T070000
END:STANDARD
END:VTIMEZONE
BEGIN:VEVENT
DTSTART;TZID=America/Winnipeg:20140827T183000
DTEND;TZID=America/Winnipeg:20140827T183000
DTSTAMP:20260421T113911
CREATED:20140424T202158Z
LAST-MODIFIED:20140424T203826Z
UID:29437-1409164200-1409164200@accesswinnipeg.com
SUMMARY:LINKIN PARK: Carnivores Tour
DESCRIPTION:Linkin Park and 30 Seconds to Mars with special guests AFI will be rocking MTS Centre on Wednesday\, August 27\, 2014 for their The Carnivores Tour. \nIn explaining the unusual name of the tour\, co-lead singer of LINKIN PARK Mike Shinoda says\, “Carnivores is a metaphor that is meant to convey an appetite for something visceral and substantive\, and I feel that’s exactly the hunger this tour will feed.” Jared Leto of THIRTY SECONDS TO MARS adds\, ‎”We are so excited to join our friends on this epic journey. It’s going to be the adventure of a lifetime.”
URL:https://accesswinnipeg.com/event/linkin-park-carnivores-tour/
LOCATION:MTS Centre\, 300 Portage Ave\, Winnipeg\, Manitoba\, R3C 5S4\, Canada
CATEGORIES:Concerts
END:VEVENT
BEGIN:VEVENT
DTSTART;TZID=America/Winnipeg:20140826T190000
DTEND;TZID=America/Winnipeg:20140826T190000
DTSTAMP:20260421T113911
CREATED:20140424T202517Z
LAST-MODIFIED:20140506T152950Z
UID:29439-1409079600-1409079600@accesswinnipeg.com
SUMMARY:Katy Perry - The Prismatic World Tour
DESCRIPTION:Katy Perry will be performing at MTS Centre on Tuesday\, August 26\, 2014 for her Prismatic World Tour. \nThe tour will have 46 shows and kicks off June 22 in Raleigh\, North Carolina. It will come to a close on October 10 in Houston.
URL:https://accesswinnipeg.com/event/katy-perry-the-prismatic-world-tour/
LOCATION:MTS Centre\, 300 Portage Ave\, Winnipeg\, Manitoba\, R3C 5S4\, Canada
CATEGORIES:Concerts
ATTACH;FMTTYPE=image/jpeg:https://accesswinnipeg.com/wp-content/uploads/2014/04/katy-perry-prismatic-tour-650-430.jpg
END:VEVENT
BEGIN:VEVENT
DTSTART;TZID=America/Winnipeg:20140821T193000
DTEND;TZID=America/Winnipeg:20140821T193000
DTSTAMP:20260421T113911
CREATED:20140520T135701Z
LAST-MODIFIED:20140520T135701Z
UID:30057-1408649400-1408649400@accesswinnipeg.com
SUMMARY:Tom Petty and The Heartbreakers
DESCRIPTION:TOM PETTY AND THE HEARTBREAKERS released their debut album in 1976 and have since sold over 60 million records. They were inducted into the Rock and Roll Hall of Fame in 2002\, their first year of eligibility\, and in recent years have continued to build on their already legendary success. Their concerts are celebrated by fans and critics alike and their music has influenced numerous young bands and writers around the world.  Between the Heartbreakers’ recordings\, his solo work and his membership in The Traveling Wilburys along with George Harrison\, Bob Dylan\, Roy Orbison and Jeff Lynne\, Tom Petty has received 18 Grammy nominations and been honored with lifetime achievement awards including Billboard’s Century Award\, ASCAP’s Founders Award\, MTV’s Video Vanguard Award. Tom Petty’s SiriusXM radio show\, Tom Petty’s Buried Treasure\, now in its eighth season\, is one of the most beloved and popular shows on satellite radio. It features Tom Petty spinning favorite tunes from his extensive private music collection. Tom Petty\, with the Heartbreakers at his side\, has become a rock and roll icon lauded by fellow musicians and music lovers worldwide.
URL:https://accesswinnipeg.com/event/tom-petty-and-the-heartbreakers/
LOCATION:MTS Centre\, 300 Portage Ave\, Winnipeg\, Manitoba\, R3C 5S4\, Canada
CATEGORIES:Concerts
ATTACH;FMTTYPE=image/png:https://accesswinnipeg.com/wp-content/uploads/2014/05/petty.png
END:VEVENT
BEGIN:VEVENT
DTSTART;TZID=America/Winnipeg:20140816T200000
DTEND;TZID=America/Winnipeg:20140816T200000
DTSTAMP:20260421T113911
CREATED:20140513T145927Z
LAST-MODIFIED:20140514T141937Z
UID:29973-1408219200-1408219200@accesswinnipeg.com
SUMMARY:Earth\, Wind & Fire
DESCRIPTION:Earth\, Wind & Fire has spanned the musical genres of R&B\, soul\, jazz\, pop\, rock\, funk\, disco\, latin\, african and gospel. They have been dubbed one of the most successful and critically acclaimed bands of the twentieth century. The bas has received 20 Grammy nominations: they won six as a group and two of its members\, Maurice White and Bailey\, won separate individual awards.
URL:https://accesswinnipeg.com/event/earth-wind-fire/
LOCATION:Centennial Concert Hall\, 555 Main St\, Winnipeg\, Manitoba\, R3B 1C3\, Canada
CATEGORIES:Concerts
ATTACH;FMTTYPE=image/jpeg:https://accesswinnipeg.com/wp-content/uploads/2014/05/unnamed1.jpg
END:VEVENT
BEGIN:VEVENT
DTSTART;TZID=America/Winnipeg:20140814T193000
DTEND;TZID=America/Winnipeg:20140814T193000
DTSTAMP:20260421T113911
CREATED:20140424T202902Z
LAST-MODIFIED:20140424T203826Z
UID:29442-1408044600-1408044600@accesswinnipeg.com
SUMMARY:Arcade Fire: Reflektor Tour
DESCRIPTION:Based in Montreal\, Quebec\, Canada\, consisting of husband and wife Win Butler and Régine Chassagne\, along with Richard Reed Parry\, William Butler\, Tim Kingsbury and Jeremy Gara. The band’s current touring line-up also includes former core member Sarah Neufeld\, frequent collaborators Owen Pallett\, Marika Anthony-Shaw and Colin Stetson\, and two additional percussionists\, Diol and Tiwill.
URL:https://accesswinnipeg.com/event/arcade-fire-reflektor-tour/
LOCATION:MTS Centre\, 300 Portage Ave\, Winnipeg\, Manitoba\, R3C 5S4\, Canada
CATEGORIES:Concerts
END:VEVENT
BEGIN:VEVENT
DTSTART;TZID=America/Winnipeg:20140810T140000
DTEND;TZID=America/Winnipeg:20140810T140000
DTSTAMP:20260421T113911
CREATED:20140424T200520Z
LAST-MODIFIED:20140709T152528Z
UID:29430-1407679200-1407679200@accesswinnipeg.com
SUMMARY:Prairie Jam Music Festival
DESCRIPTION:Prairie Jam Music Festival\, Winnipeg’s first-ever day-long country music festival\, will take place at Investors Group Field on Sunday\, August 10\, 2014.
URL:https://accesswinnipeg.com/event/prairie-jam-music-festival/
LOCATION:Investors Group Field\, 315 Chancellor Matheson Road\, Winnipeg\, MB\, R3T 1Z2\, Canada
CATEGORIES:Concerts
ATTACH;FMTTYPE=image/jpeg:https://accesswinnipeg.com/wp-content/uploads/2014/04/PrairieJamLogo_withMTS_v2.jpg
END:VEVENT
BEGIN:VEVENT
DTSTART;TZID=America/Winnipeg:20140808T193000
DTEND;TZID=America/Winnipeg:20140808T193000
DTSTAMP:20260421T113911
CREATED:20140424T202350Z
LAST-MODIFIED:20140424T203826Z
UID:29438-1407526200-1407526200@accesswinnipeg.com
SUMMARY:Rod Stewart & Santana
DESCRIPTION:Two of rock’s legendary artists are teaming up for a 18-concert North American Tour. Rod Stewart & Santana will be playing MTS Centre on Friday\, August 8\, 2014 for whats sure to be a night to remember.
URL:https://accesswinnipeg.com/event/rod-stewart-santana/
LOCATION:MTS Centre\, 300 Portage Ave\, Winnipeg\, Manitoba\, R3C 5S4\, Canada
CATEGORIES:Concerts
END:VEVENT
BEGIN:VEVENT
DTSTART;TZID=America/Winnipeg:20140806T200000
DTEND;TZID=America/Winnipeg:20140806T200000
DTSTAMP:20260421T113911
CREATED:20140617T132904Z
LAST-MODIFIED:20140617T132904Z
UID:30461-1407355200-1407355200@accesswinnipeg.com
SUMMARY:Serena Ryder
DESCRIPTION:Serena Ryder continues to break new ground on all musical fronts with her 2012 release\, Harmony achieving Gold-selling status in just a few short months and then sky-rocketing to her first platinum album certification shortly after. The trailblazing\, infectious lead single\, “Stompa” is currently triple platinum and the equally anthemic follow-up track\, “What I Wouldn’t Do” raced to the top of the radio airwaves top 10 lists across all formats and double platinum. Testament to the depth of Harmony\, the album’s third single\, “Fall” is currently a mainstay at radio. \nRyder is quickly becoming a radio sensation south of the border too\, with massive radio airplay and topping the U.S. Triple A charts. \nOn the 2013 music awards front\, Ryder has had a banner year with two knock-out live performances at The Juno Awards in Regina (solo ”Stompa” & a killer Billy Talent collaboration) and took home her fourth Juno for Adult Alternative Album of The Year. At The 2013 MuchMusic Video Awards\, Serena earned herself three nominations and added more hardware to her trophy collection\, winning Rock / Alternative Video of The Year and then went on to perform a stellar live medley of her two hits\, “What I Wouldn’t Do” & “Stompa”.
URL:https://accesswinnipeg.com/event/serena-ryder/
LOCATION:Burton Cummings Theatre\, 364 Smith Street\, Winnipeg\, Manitoba\, R3B 2H2\, Canada
CATEGORIES:Concerts
ATTACH;FMTTYPE=image/jpeg:https://accesswinnipeg.com/wp-content/uploads/2014/06/serena_slider2.jpg
END:VEVENT
BEGIN:VEVENT
DTSTART;TZID=America/Winnipeg:20140802T200000
DTEND;TZID=America/Winnipeg:20140802T200000
DTSTAMP:20260421T113911
CREATED:20140424T202647Z
LAST-MODIFIED:20140506T152609Z
UID:29440-1407009600-1407009600@accesswinnipeg.com
SUMMARY:Bruno Mars: Moonshine Jungle Tour
DESCRIPTION:Bruno Mars will be stopping by MTS Centre on Saturday\, August 2\, 2014 for his The Moonshine Jungle Tour. \nThe Moonshine Jungle Tour was voted #23 on Billboards Top 25 Tours of 2013. It grossed $46\,417\,795 in 2013 with a total attendance of 666\,926. Out of the 48 total shows\, 44 of them completely sold out.
URL:https://accesswinnipeg.com/event/bruno-mars-moonshine-jungle-tour/
LOCATION:MTS Centre\, 300 Portage Ave\, Winnipeg\, Manitoba\, R3C 5S4\, Canada
CATEGORIES:Concerts
ATTACH;FMTTYPE=image/jpeg:https://accesswinnipeg.com/wp-content/uploads/2014/04/98fb846afbf385de347341fb29adad9c.jpg
END:VEVENT
BEGIN:VEVENT
DTSTART;TZID=America/Winnipeg:20140727T200000
DTEND;TZID=America/Winnipeg:20140727T200000
DTSTAMP:20260421T113911
CREATED:20140428T143913Z
LAST-MODIFIED:20140428T143913Z
UID:29525-1406491200-1406491200@accesswinnipeg.com
SUMMARY:On The Run: Beyoncé and Jay Z
DESCRIPTION:Beyoncé and Jay Z. On The Run Tour at Investors Group Field.
URL:https://accesswinnipeg.com/event/on-the-run-beyonce-and-jay-z/
LOCATION:Investors Group Field\, 315 Chancellor Matheson Road\, Winnipeg\, MB\, R3T 1Z2\, Canada
CATEGORIES:Concerts
ATTACH;FMTTYPE=image/png:https://accesswinnipeg.com/wp-content/uploads/2014/04/50629924.png
END:VEVENT
BEGIN:VEVENT
DTSTART;TZID=America/Winnipeg:20140714T210000
DTEND;TZID=America/Winnipeg:20140714T210000
DTSTAMP:20260421T113911
CREATED:20140603T150043Z
LAST-MODIFIED:20140603T150043Z
UID:30283-1405371600-1405371600@accesswinnipeg.com
SUMMARY:Tyler\, the Creator
DESCRIPTION:Born in Ladera Heights\, Tyler Okonma rose to prominence as the leader and co-founder of the alternative hip hop collective Odd Future\, and has rapped on and produced songs for nearly every Odd Future release. Okonma also creates all the artwork for the group’s releases and said in an interview with radio presenter DJ Semtex\, that he designs all the group’s clothing and other merchandise as well. \nAfter releasing his debut album Goblin under XL Recordings\, in April 2011\, he signed a joint venture deal for him and his label Odd Future Records\, with RED Distribution and Sony Music Entertainment. Following that he released his second studio album Wolf\, which was met with generally positive reviews and debuted at number three on the Billboard 200 selling 90\,000 copies in its first week.
URL:https://accesswinnipeg.com/event/tyler-the-creator/
LOCATION:Burton Cummings Theatre\, 364 Smith Street\, Winnipeg\, Manitoba\, R3B 2H2\, Canada
CATEGORIES:Concerts
ATTACH;FMTTYPE=image/jpeg:https://accesswinnipeg.com/wp-content/uploads/2014/06/terry-richardson-shoots-frank-ocean-tyler-the-creator-odd-future-2.jpg
END:VEVENT
BEGIN:VEVENT
DTSTART;TZID=America/Winnipeg:20140627T200000
DTEND;TZID=America/Winnipeg:20140627T200000
DTSTAMP:20260421T113911
CREATED:20140424T195938Z
LAST-MODIFIED:20140424T203826Z
UID:29428-1403899200-1403899200@accesswinnipeg.com
SUMMARY:Wu-Tang Clan
DESCRIPTION:Legendary hip-hop group\, Wu-Tang Clan\, will be coming to Burton Cummings Theatre on Friday\, June 27\, 2014. Don’t miss your chance to see the most revolutionary rap group of the mid-’90s. Kris Ex of Rolling Stone called Wu-Tang Clan “the best rap group ever.” and in 2004\, NME hailed them as one of the most influential groups of the last ten years.
URL:https://accesswinnipeg.com/event/wu-tang-clan/
LOCATION:Burton Cummings Theatre\, 364 Smith Street\, Winnipeg\, Manitoba\, R3B 2H2\, Canada
CATEGORIES:Concerts
END:VEVENT
BEGIN:VEVENT
DTSTART;TZID=America/Winnipeg:20140626T200000
DTEND;TZID=America/Winnipeg:20140626T200000
DTSTAMP:20260421T113911
CREATED:20140506T153209Z
LAST-MODIFIED:20140506T153323Z
UID:29790-1403812800-1403812800@accesswinnipeg.com
SUMMARY:Michael Bublé
DESCRIPTION:Michael Bublé is a Canadian vocalist\, songwriter and actor. He has won several awards\, including four Grammy Awards and multiple Juno Awards. His first album reached the top ten in Canada and the UK. He found a worldwide audience with his 2005 album It’s Time\, and his 2007 album Call Me Irresponsible which reached number one on the Canadian Albums Chart\, the UK Albums Chart\, the U.S. Billboard 200 albums chart\, the Australian ARIA Albums Chart and several European charts.
URL:https://accesswinnipeg.com/event/michael-buble/
LOCATION:MTS Centre\, 300 Portage Ave\, Winnipeg\, Manitoba\, R3C 5S4\, Canada
CATEGORIES:Concerts
ATTACH;FMTTYPE=image/jpeg:https://accesswinnipeg.com/wp-content/uploads/2014/05/michael-buble08.jpg
END:VEVENT
BEGIN:VEVENT
DTSTART;TZID=America/Winnipeg:20140621T200000
DTEND;TZID=America/Winnipeg:20140621T200000
DTSTAMP:20260421T113911
CREATED:20140424T201747Z
LAST-MODIFIED:20140616T180537Z
UID:29436-1403380800-1403380800@accesswinnipeg.com
SUMMARY:Queen + Adam Lambert
DESCRIPTION:Legendary rock band\, Queen\, will be coming to MTS Centre on Saturday\, June 21\, 2014 for their first North American tour in nearly a decade. The band will feature singer Adam Lambert alongside founding members Brian May and Roger Taylor.
URL:https://accesswinnipeg.com/event/queen-adam-lambert/
LOCATION:MTS Centre\, 300 Portage Ave\, Winnipeg\, Manitoba\, R3C 5S4\, Canada
CATEGORIES:Concerts
ATTACH;FMTTYPE=image/jpeg:https://accesswinnipeg.com/wp-content/uploads/2014/04/queen-adam-lambert-tour-2014.jpg
END:VEVENT
BEGIN:VEVENT
DTSTART;TZID=America/Winnipeg:20140620T120000
DTEND;TZID=America/Winnipeg:20140620T130000
DTSTAMP:20260421T113911
CREATED:20140616T140103Z
LAST-MODIFIED:20140616T140118Z
UID:30424-1403265600-1403269200@accesswinnipeg.com
SUMMARY:Summer Solstice Concert in the Park
DESCRIPTION:Mayor Sam Katz is inviting all Winnipeggers to join him in celebrating the Arts at the Summer Solstice Concert in the Park on Friday\, June 20\, 2014\, 12:00 noon to 1:00pm at Central Park. \nThe free event will feature performances by: \n\nThe Winnipeg Symphony Orchestra\nThe Royal Winnipeg Ballet\nSarah Sommer Chai Folk Ensemble\nRusalka Ukrainian Dance Ensemble
URL:https://accesswinnipeg.com/event/summer-solstice-concert-in-the-park/
LOCATION:Central Park\, Winnipeg\, Manitoba\, Canada
CATEGORIES:Concerts
ATTACH;FMTTYPE=image/png:https://accesswinnipeg.com/wp-content/uploads/2014/06/concert.png
END:VEVENT
BEGIN:VEVENT
DTSTART;VALUE=DATE:20140612
DTEND;VALUE=DATE:20140623
DTSTAMP:20260421T113911
CREATED:20140424T201108Z
LAST-MODIFIED:20140425T191627Z
UID:29432-1402531200-1403481599@accesswinnipeg.com
SUMMARY:2014 TD Winnipeg International Jazz Festival
DESCRIPTION:A world-class lineup of artists is set to perform at the 2014 TD Winnipeg International Jazz Festival. From June 12-22\, the Festival will celebrate its 25th anniversary with music performed by the best local\, national and international artists.
URL:https://accesswinnipeg.com/event/2014-td-winnipeg-international-jazz-festival/
LOCATION:Manitoba
CATEGORIES:Concerts
ATTACH;FMTTYPE=image/jpeg:https://accesswinnipeg.com/wp-content/uploads/2014/04/2014FestivalPoster_web.jpg
END:VEVENT
BEGIN:VEVENT
DTSTART;TZID=America/Winnipeg:20140522T193000
DTEND;TZID=America/Winnipeg:20140522T193000
DTSTAMP:20260421T113911
CREATED:20140424T202756Z
LAST-MODIFIED:20140506T152734Z
UID:29441-1400787000-1400787000@accesswinnipeg.com
SUMMARY:Lady Gaga's artRave - The ARTPOP Ball
DESCRIPTION:Lady Gaga\, is an American pop-singer\, songwriter\, activist\, record producer\, businesswoman\, fashion designer\, philanthropist\, and actress. Born and raised in New York City\, where she lives\, Gaga primarily studied at the Convent of the Sacred Heart and briefly attended New York University’s Tisch School of the Arts before withdrawing to focus on her musical career. She soon began performing in the rock music scene of Manhattan’s Lower East Side. By the end of 2007\, record executive and producer Vincent Herbert signed her to his label Streamline Records\, an imprint of Interscope Records. Initially working as a songwriter at Interscope Records\, her vocal abilities captured the attention of recording artist Akon\, who also signed her to Kon Live Distribution\, his own label under Interscope.
URL:https://accesswinnipeg.com/event/lady-gagas-artrave-the-artpop-ball/
LOCATION:MTS Centre\, 300 Portage Ave\, Winnipeg\, Manitoba\, R3C 5S4\, Canada
CATEGORIES:Concerts
ATTACH;FMTTYPE=image/jpeg:https://accesswinnipeg.com/wp-content/uploads/2014/04/admat-web.jpg
END:VEVENT
BEGIN:VEVENT
DTSTART;TZID=America/Winnipeg:20140520T200000
DTEND;TZID=America/Winnipeg:20140520T200000
DTSTAMP:20260421T113911
CREATED:20140506T181821Z
LAST-MODIFIED:20140506T181821Z
UID:29801-1400616000-1400616000@accesswinnipeg.com
SUMMARY:Atmosphere: North of Hell Tour
DESCRIPTION:Atmosphere will embark on an extensive Canadian tour with Prof and deM atlaS as support\, kicking off on May 14 in Saskatoon at O’Brians Event Centre. The Minneapolis-based hip hop duo will release their 8th studio album\, Southsiders – their first album since 2011’s The Family Sign – on May 6 via Rhymesayers. \nThe North Of Hell Tour will feature direct support by Prof\, celebrity agitator and newest member of the Rhymesayers family\, and deM atlaS\, who brings crazy energy and positive vibes to every track he touches.
URL:https://accesswinnipeg.com/event/atmosphere-north-of-hell-tour/
LOCATION:Garrick Centre\, 330 Garry St\, Winnipeg\, Manitoba\, R3B 2G7\, Canada
CATEGORIES:Concerts
ATTACH;FMTTYPE=image/jpeg:https://accesswinnipeg.com/wp-content/uploads/2014/05/unnamed.jpg
END:VEVENT
BEGIN:VEVENT
DTSTART;TZID=America/Winnipeg:20140511T193000
DTEND;TZID=America/Winnipeg:20140511T193000
DTSTAMP:20260421T113911
CREATED:20140424T183742Z
LAST-MODIFIED:20140424T203826Z
UID:29415-1399836600-1399836600@accesswinnipeg.com
SUMMARY:Backstreet Boys: In a World Like This Tour
DESCRIPTION:The In a World Like This Tour is the tenth concert tour by American boy band\, the Backstreet Boys. Supporting their eighth studio album\, In a World Like This\, the tour consists of over 140 shows in Asia\, North America and Europe. It is the band’s first tour as a quintet in seven years\, as band member Kevin Richardson rejoined in 2012.
URL:https://accesswinnipeg.com/event/backstreet-boys-in-a-world-like-this-tour/
LOCATION:MTS Centre\, 300 Portage Ave\, Winnipeg\, Manitoba\, R3C 5S4\, Canada
CATEGORIES:Concerts
ATTACH;FMTTYPE=image/jpeg:https://accesswinnipeg.com/wp-content/uploads/2014/04/374994_10151432615323379_1002905791_n-e1398369194296.jpg
END:VEVENT
END:VCALENDAR