BEGIN:VCALENDAR
VERSION:2.0
PRODID:-//Access Winnipeg - ECPv6.15.20//NONSGML v1.0//EN
CALSCALE:GREGORIAN
METHOD:PUBLISH
X-WR-CALNAME:Access Winnipeg
X-ORIGINAL-URL:https://accesswinnipeg.com
X-WR-CALDESC:Events for Access Winnipeg
REFRESH-INTERVAL;VALUE=DURATION:PT1H
X-Robots-Tag:noindex
X-PUBLISHED-TTL:PT1H
BEGIN:VTIMEZONE
TZID:America/Winnipeg
BEGIN:DAYLIGHT
TZOFFSETFROM:-0600
TZOFFSETTO:-0500
TZNAME:CDT
DTSTART:20170312T080000
END:DAYLIGHT
BEGIN:STANDARD
TZOFFSETFROM:-0500
TZOFFSETTO:-0600
TZNAME:CST
DTSTART:20171105T070000
END:STANDARD
BEGIN:DAYLIGHT
TZOFFSETFROM:-0600
TZOFFSETTO:-0500
TZNAME:CDT
DTSTART:20180311T080000
END:DAYLIGHT
BEGIN:STANDARD
TZOFFSETFROM:-0500
TZOFFSETTO:-0600
TZNAME:CST
DTSTART:20181104T070000
END:STANDARD
BEGIN:DAYLIGHT
TZOFFSETFROM:-0600
TZOFFSETTO:-0500
TZNAME:CDT
DTSTART:20190310T080000
END:DAYLIGHT
BEGIN:STANDARD
TZOFFSETFROM:-0500
TZOFFSETTO:-0600
TZNAME:CST
DTSTART:20191103T070000
END:STANDARD
END:VTIMEZONE
BEGIN:VEVENT
DTSTART;TZID=America/Winnipeg:20180904T000000
DTEND;TZID=America/Winnipeg:20180905T000000
DTSTAMP:20260420T230729
CREATED:20180902T204944Z
LAST-MODIFIED:20180904T210449Z
UID:58876-1536019200-1536105600@accesswinnipeg.com
SUMMARY:Trevor Hall
DESCRIPTION:Venue: West End Cultural Centre	 586 Ellice Avenue	 Winnipeg All Ages / General Admission Doors: 7:00pm / Show: 8:00pm Facebook Presale: Thu\, June 14 at 10am – 10pm Password: MELODY Public on Sale: Fri\, June 15 at 10am
URL:https://accesswinnipeg.com/event/trevor-hall/
CATEGORIES:Music
END:VEVENT
BEGIN:VEVENT
DTSTART;TZID=America/Winnipeg:20180904T000000
DTEND;TZID=America/Winnipeg:20180905T000000
DTSTAMP:20260420T230729
CREATED:20180902T204944Z
LAST-MODIFIED:20180904T210449Z
UID:58877-1536019200-1536105600@accesswinnipeg.com
SUMMARY:Sugar-Sugar
DESCRIPTION:Venue: Sherbrook Inn	 685 Westminster Avenue	 Winnipeg
URL:https://accesswinnipeg.com/event/sugar-sugar-5/
CATEGORIES:Music
END:VEVENT
BEGIN:VEVENT
DTSTART;TZID=America/Winnipeg:20180904T000000
DTEND;TZID=America/Winnipeg:20180905T000000
DTSTAMP:20260420T230729
CREATED:20180902T204944Z
LAST-MODIFIED:20180904T210449Z
UID:58878-1536019200-1536105600@accesswinnipeg.com
SUMMARY:Curtis Newton
DESCRIPTION:Venue: Palm Lounge	 222 Broadway	 Winnipeg
URL:https://accesswinnipeg.com/event/curtis-newton-2/
CATEGORIES:Music
END:VEVENT
END:VCALENDAR