BEGIN:VCALENDAR
VERSION:2.0
PRODID:-//Access Winnipeg - ECPv6.15.20//NONSGML v1.0//EN
CALSCALE:GREGORIAN
METHOD:PUBLISH
X-ORIGINAL-URL:https://accesswinnipeg.com
X-WR-CALDESC:Events for Access Winnipeg
REFRESH-INTERVAL;VALUE=DURATION:PT1H
X-Robots-Tag:noindex
X-PUBLISHED-TTL:PT1H
BEGIN:VTIMEZONE
TZID:America/Winnipeg
BEGIN:DAYLIGHT
TZOFFSETFROM:-0600
TZOFFSETTO:-0500
TZNAME:CDT
DTSTART:20170312T080000
END:DAYLIGHT
BEGIN:STANDARD
TZOFFSETFROM:-0500
TZOFFSETTO:-0600
TZNAME:CST
DTSTART:20171105T070000
END:STANDARD
BEGIN:DAYLIGHT
TZOFFSETFROM:-0600
TZOFFSETTO:-0500
TZNAME:CDT
DTSTART:20180311T080000
END:DAYLIGHT
BEGIN:STANDARD
TZOFFSETFROM:-0500
TZOFFSETTO:-0600
TZNAME:CST
DTSTART:20181104T070000
END:STANDARD
BEGIN:DAYLIGHT
TZOFFSETFROM:-0600
TZOFFSETTO:-0500
TZNAME:CDT
DTSTART:20190310T080000
END:DAYLIGHT
BEGIN:STANDARD
TZOFFSETFROM:-0500
TZOFFSETTO:-0600
TZNAME:CST
DTSTART:20191103T070000
END:STANDARD
END:VTIMEZONE
BEGIN:VEVENT
DTSTART;TZID=America/Winnipeg:20180905T000000
DTEND;TZID=America/Winnipeg:20180906T000000
DTSTAMP:20260421T023957
CREATED:20180902T204944Z
LAST-MODIFIED:20180905T210444Z
UID:58880-1536105600-1536192000@accesswinnipeg.com
SUMMARY:Nadia Douglas
DESCRIPTION:Venue: Metropolitan Entertainment Centre	 281 Donald Street	 Winnipeg Live at 5 – Rooftop Patio Series
URL:https://accesswinnipeg.com/event/nadia-douglas/
CATEGORIES:Music
END:VEVENT
BEGIN:VEVENT
DTSTART;TZID=America/Winnipeg:20180905T000000
DTEND;TZID=America/Winnipeg:20180906T000000
DTSTAMP:20260421T023957
CREATED:20180902T204944Z
LAST-MODIFIED:20180905T210444Z
UID:58879-1536105600-1536192000@accesswinnipeg.com
SUMMARY:Open Mic: Rory Verbrugge
DESCRIPTION:Venue: Shannon\’s Irish Pub	 175 Carlton Street	 Winnipeg
URL:https://accesswinnipeg.com/event/open-mic-rory-verbrugge-2/
CATEGORIES:Music
END:VEVENT
BEGIN:VEVENT
DTSTART;TZID=America/Winnipeg:20180905T000000
DTEND;TZID=America/Winnipeg:20180906T000000
DTSTAMP:20260421T023957
CREATED:20180903T210446Z
LAST-MODIFIED:20180905T210444Z
UID:58891-1536105600-1536192000@accesswinnipeg.com
SUMMARY:Dadweed\,housepanther
DESCRIPTION:Venue: The New Club St. B	 171 Dumoulin Street	 Winnipeg Dadweed blend elements of pop\, rock\, and emo with a 90\’s aesthetic to create their unique take on a classic 4 piece rock band lineup. After a string of lo-fi demo tapes\, last summer saw the vinyl debut of Dadweed with a single released via Vancouver indie label Kingfisher Bluez. Over spring of 20…
URL:https://accesswinnipeg.com/event/dadweedhousepanther/
CATEGORIES:Music
END:VEVENT
BEGIN:VEVENT
DTSTART;TZID=America/Winnipeg:20180905T000000
DTEND;TZID=America/Winnipeg:20180906T000000
DTSTAMP:20260421T023957
CREATED:20180903T210446Z
LAST-MODIFIED:20180905T210444Z
UID:58892-1536105600-1536192000@accesswinnipeg.com
SUMMARY:Forest Pilots\,Deep Dark Cave
DESCRIPTION:Venue: Cavern	 112 Osborne Street	 Winnipeg Deep Dark Cave on first.   Forest Pilots on second.
URL:https://accesswinnipeg.com/event/forest-pilotsdeep-dark-cave/
CATEGORIES:Music
END:VEVENT
BEGIN:VEVENT
DTSTART;TZID=America/Winnipeg:20180905T000000
DTEND;TZID=America/Winnipeg:20180906T000000
DTSTAMP:20260421T023957
CREATED:20180903T210446Z
LAST-MODIFIED:20180905T210444Z
UID:58893-1536105600-1536192000@accesswinnipeg.com
SUMMARY:New Music Night: Free Morgan\,Dana Lee\,Banned & Outlawed
DESCRIPTION:Venue: The Good Will Social Club	 625 Portage Avenue	 Winnipeg Promoters: Manitoba Music	 New Music Night $3 cover / 18+ / Doors at 7:30PM / Music at 8PM 9:30PM Free Morgan 8:45PM Dana Lee 8PM Banned & Outlawed Manitoba Music is teaming up with live music hot spot The Good Will to shine a spotlight on emerging local music. New Music Night offers music fans a space to find their next favourite…
URL:https://accesswinnipeg.com/event/new-music-night-free-morgandana-leebanned-outlawed/
CATEGORIES:Music
END:VEVENT
BEGIN:VEVENT
DTSTART;TZID=America/Winnipeg:20180905T000000
DTEND;TZID=America/Winnipeg:20180906T000000
DTSTAMP:20260421T023957
CREATED:20180903T210446Z
LAST-MODIFIED:20180905T210444Z
UID:58894-1536105600-1536192000@accesswinnipeg.com
SUMMARY:Ron Paley
DESCRIPTION:Venue: Palm Lounge	 222 Broadway	 Winnipeg
URL:https://accesswinnipeg.com/event/ron-paley/
CATEGORIES:Music
END:VEVENT
BEGIN:VEVENT
DTSTART;TZID=America/Winnipeg:20180905T000000
DTEND;TZID=America/Winnipeg:20180906T000000
DTSTAMP:20260421T023957
CREATED:20180904T210449Z
LAST-MODIFIED:20180905T210443Z
UID:58906-1536105600-1536192000@accesswinnipeg.com
SUMMARY:Common Deer\,Tyler Del Pino\,Olivia Lunny
DESCRIPTION:Venue: Park Theatre	 698 Osborne Street	 Winnipeg
URL:https://accesswinnipeg.com/event/common-deertyler-del-pinoolivia-lunny/
CATEGORIES:Music
END:VEVENT
END:VCALENDAR