BEGIN:VCALENDAR
VERSION:2.0
PRODID:-//Access Winnipeg - ECPv6.15.20//NONSGML v1.0//EN
CALSCALE:GREGORIAN
METHOD:PUBLISH
X-WR-CALNAME:Access Winnipeg
X-ORIGINAL-URL:https://accesswinnipeg.com
X-WR-CALDESC:Events for Access Winnipeg
REFRESH-INTERVAL;VALUE=DURATION:PT1H
X-Robots-Tag:noindex
X-PUBLISHED-TTL:PT1H
BEGIN:VTIMEZONE
TZID:America/Winnipeg
BEGIN:DAYLIGHT
TZOFFSETFROM:-0600
TZOFFSETTO:-0500
TZNAME:CDT
DTSTART:20170312T080000
END:DAYLIGHT
BEGIN:STANDARD
TZOFFSETFROM:-0500
TZOFFSETTO:-0600
TZNAME:CST
DTSTART:20171105T070000
END:STANDARD
BEGIN:DAYLIGHT
TZOFFSETFROM:-0600
TZOFFSETTO:-0500
TZNAME:CDT
DTSTART:20180311T080000
END:DAYLIGHT
BEGIN:STANDARD
TZOFFSETFROM:-0500
TZOFFSETTO:-0600
TZNAME:CST
DTSTART:20181104T070000
END:STANDARD
BEGIN:DAYLIGHT
TZOFFSETFROM:-0600
TZOFFSETTO:-0500
TZNAME:CDT
DTSTART:20190310T080000
END:DAYLIGHT
BEGIN:STANDARD
TZOFFSETFROM:-0500
TZOFFSETTO:-0600
TZNAME:CST
DTSTART:20191103T070000
END:STANDARD
END:VTIMEZONE
BEGIN:VEVENT
DTSTART;TZID=America/Winnipeg:20180920T000000
DTEND;TZID=America/Winnipeg:20180921T000000
DTSTAMP:20260420T153114
CREATED:20180919T220447Z
LAST-MODIFIED:20180920T221942Z
UID:59180-1537401600-1537488000@accesswinnipeg.com
SUMMARY:Jazz at the Station: Brian Chipney & Tim Cummings Trio\,Nadia Douglas\,Darren Ritchie\,Burton Trio\,Ken Gold\,Larry Roy\,Candice Tugby\,Sean Irvine\,Neil Watson\,Philippe Meunier
DESCRIPTION:Venue: Resto Gare	 630 Des Meurons	 Winnipeg Join us for \”Jazz at the Station\” every Thursday evening from 6:30 to 8:30! When the weather cooperates we\’re outside on the patio. If that isn\’t possible\, the music moves inside to our elegant dining room. Either way\, you\’ll hear the finest in Winnipeg jazz talent each Thursday at Resto Gare! …
URL:https://accesswinnipeg.com/event/jazz-at-the-station-brian-chipney-tim-cummings-trionadia-douglasdarren-ritchieburton-trioken-goldlarry-roycandice-tugbysean-irvineneil-watsonphilippe-meunier-3/
CATEGORIES:Music
END:VEVENT
BEGIN:VEVENT
DTSTART;TZID=America/Winnipeg:20180920T000000
DTEND;TZID=America/Winnipeg:20180921T000000
DTSTAMP:20260420T153114
CREATED:20180920T221942Z
LAST-MODIFIED:20180920T221942Z
UID:59196-1537401600-1537488000@accesswinnipeg.com
SUMMARY:Marisolle Negash
DESCRIPTION:Venue: Forth	 171 McDermot Ave	 Winnipeg Come take a load off on a Thursday down in Forth Cocktail Bar and enjoy some live tunes by a rotating cast of local heroes. The music is chill\, and the vibe is always right. 
URL:https://accesswinnipeg.com/event/marisolle-negash/
CATEGORIES:Music
END:VEVENT
BEGIN:VEVENT
DTSTART;TZID=America/Winnipeg:20180920T000000
DTEND;TZID=America/Winnipeg:20180921T000000
DTSTAMP:20260420T153114
CREATED:20180920T221942Z
LAST-MODIFIED:20180920T221942Z
UID:59191-1537401600-1537488000@accesswinnipeg.com
SUMMARY:Open Mic
DESCRIPTION:Venue: Sam\’s Place	 159 Henderson Highway	 Winnipeg Sam\’s Place is having an open mic every other Thursday\, hosted by Derrick McCandless.  Come by at 6:45pm to sign up and perform a song or two you wrote.
URL:https://accesswinnipeg.com/event/open-mic-15/
CATEGORIES:Music
END:VEVENT
BEGIN:VEVENT
DTSTART;TZID=America/Winnipeg:20180920T000000
DTEND;TZID=America/Winnipeg:20180921T000000
DTSTAMP:20260420T153114
CREATED:20180920T221942Z
LAST-MODIFIED:20180920T221942Z
UID:59193-1537401600-1537488000@accesswinnipeg.com
SUMMARY:The Tugbys
DESCRIPTION:Venue: King\’s Head Pub	 120 King Street	 Winnipeg Promoters: King\’s Head Pub Join us for an evening of live music at the King\’s Head Pub every Thursday night from 7-10pm.
URL:https://accesswinnipeg.com/event/the-tugbys-3/
CATEGORIES:Music
END:VEVENT
BEGIN:VEVENT
DTSTART;TZID=America/Winnipeg:20180920T000000
DTEND;TZID=America/Winnipeg:20180921T000000
DTSTAMP:20260420T153114
CREATED:20180920T221942Z
LAST-MODIFIED:20180920T221942Z
UID:59194-1537401600-1537488000@accesswinnipeg.com
SUMMARY:Big City Filter
DESCRIPTION:Venue: Shannon\’s Irish Pub	 175 Carlton Street	 Winnipeg
URL:https://accesswinnipeg.com/event/big-city-filter-2/
CATEGORIES:Music
END:VEVENT
BEGIN:VEVENT
DTSTART;TZID=America/Winnipeg:20180920T000000
DTEND;TZID=America/Winnipeg:20180921T000000
DTSTAMP:20260420T153114
CREATED:20180920T221942Z
LAST-MODIFIED:20180920T221942Z
UID:59195-1537401600-1537488000@accesswinnipeg.com
SUMMARY:Rae Spoon\,respectfulchild
DESCRIPTION:Venue: The Good Will Social Club	 625 Portage Avenue	 Winnipeg About Rae Spoon:  Rae Spoon is an award-winning nonbinary musician and author. They have released nine solo albums spanning folk\, indie rock and electronic genres and have toured across Canada and internationally. Rae was the subject and composer of the score for the National Film Board–produc…
URL:https://accesswinnipeg.com/event/rae-spoonrespectfulchild/
CATEGORIES:Music
END:VEVENT
BEGIN:VEVENT
DTSTART;TZID=America/Winnipeg:20180920T000000
DTEND;TZID=America/Winnipeg:20180921T000000
DTSTAMP:20260420T153114
CREATED:20180920T221943Z
LAST-MODIFIED:20180920T221943Z
UID:59198-1537401600-1537488000@accesswinnipeg.com
SUMMARY:Grant Leutschaft
DESCRIPTION:Venue: Palm Lounge	 222 Broadway	 Winnipeg
URL:https://accesswinnipeg.com/event/grant-leutschaft-3/
CATEGORIES:Music
END:VEVENT
BEGIN:VEVENT
DTSTART;TZID=America/Winnipeg:20180920T000000
DTEND;TZID=America/Winnipeg:20180921T000000
DTSTAMP:20260420T153114
CREATED:20180920T221943Z
LAST-MODIFIED:20180920T221943Z
UID:59199-1537401600-1537488000@accesswinnipeg.com
SUMMARY:Curtis Newton
DESCRIPTION:Venue:  Nicolino\’s Restaurant	 4-2077 Pembina Highway	 Winnipeg
URL:https://accesswinnipeg.com/event/curtis-newton-6/
CATEGORIES:Music
END:VEVENT
BEGIN:VEVENT
DTSTART;TZID=America/Winnipeg:20180920T000000
DTEND;TZID=America/Winnipeg:20180921T000000
DTSTAMP:20260420T153114
CREATED:20180920T221943Z
LAST-MODIFIED:20180920T221943Z
UID:59200-1537401600-1537488000@accesswinnipeg.com
SUMMARY:Respect: Music in Memory of Aretha Franklin
DESCRIPTION:Venue: Times Change(d) High & Lonesome Club	 234 Main Street	 Winnipeg Featuring Jennifer Hanson\, Ami Cheon\, Heitha Forsyth\, Andrina Turenne and an All-Star Band (Gilles Fournier\, Joanna Miller\, Marc Arnould\, Austin Parachoniak). An evening of music in tribute to the Queen of Soul.
URL:https://accesswinnipeg.com/event/respect-music-in-memory-of-aretha-franklin/
CATEGORIES:Music
END:VEVENT
BEGIN:VEVENT
DTSTART;TZID=America/Winnipeg:20180920T000000
DTEND;TZID=America/Winnipeg:20180921T000000
DTSTAMP:20260420T153114
CREATED:20180920T221943Z
LAST-MODIFIED:20180920T221943Z
UID:59201-1537401600-1537488000@accesswinnipeg.com
SUMMARY:Jammin\'
DESCRIPTION:Venue: Belgian Club	 407 Provencher Boulevard	 Winnipeg Come jam live with me and my talented friends at Winnipeg\’s Belgian Club 407 Provencher Blvd. Hosted weekly by Beg Borrow & Steel\, Winnipeg\’s best blues/rock jam hosts! Open to all levels of performers!
URL:https://accesswinnipeg.com/event/jammin/
CATEGORIES:Music
END:VEVENT
BEGIN:VEVENT
DTSTART;TZID=America/Winnipeg:20180921T000000
DTEND;TZID=America/Winnipeg:20180922T000000
DTSTAMP:20260420T153114
CREATED:20180921T221958Z
LAST-MODIFIED:20180921T221958Z
UID:59213-1537488000-1537574400@accesswinnipeg.com
SUMMARY:Jim Waterous
DESCRIPTION:Venue: Anavets – John Osborn VC Unit #1	 300-1395 Ellice Ave	 Winnipeg Promoters: Ian Dawson Jim Waterous\, guitar/ vocals performing Folk/ Country.
URL:https://accesswinnipeg.com/event/jim-waterous/
CATEGORIES:Music
END:VEVENT
BEGIN:VEVENT
DTSTART;TZID=America/Winnipeg:20180921T000000
DTEND;TZID=America/Winnipeg:20180922T000000
DTSTAMP:20260420T153114
CREATED:20180921T221958Z
LAST-MODIFIED:20180921T221958Z
UID:59214-1537488000-1537574400@accesswinnipeg.com
SUMMARY:ResisDANCE: Mama Cutsworth\,Lady LP
DESCRIPTION:Venue: The Good Will Social Club	 625 Portage Avenue	 Winnipeg Promoters: Women\’s Health Clinic Join us for a night of feminist comedy and dance\, with all proceeds going to Women\’s Health Clinic! Feminist comedy featuring Ashley Burdett\, Danielle Kayahara\, Elissa Kixen and Angie St. Mars kick off the evening. A performance by the Fat Babes Dance Collective will get the dance floor LIT with …
URL:https://accesswinnipeg.com/event/resisdance-mama-cutsworthlady-lp/
CATEGORIES:Music
END:VEVENT
BEGIN:VEVENT
DTSTART;TZID=America/Winnipeg:20180921T000000
DTEND;TZID=America/Winnipeg:20180922T000000
DTSTAMP:20260420T153114
CREATED:20180921T221958Z
LAST-MODIFIED:20180921T221958Z
UID:59212-1537488000-1537574400@accesswinnipeg.com
SUMMARY:Mark David Stallard
DESCRIPTION:Venue: St. Amant\, FM Cafe	 440 River Road	 Winnipeg Mark David Stallard is performing for St. Amant\’s FM Cafe! Fun and music will fill the air! A highlght of your muisc calendar.
URL:https://accesswinnipeg.com/event/mark-david-stallard/
CATEGORIES:Music
END:VEVENT
BEGIN:VEVENT
DTSTART;TZID=America/Winnipeg:20180921T000000
DTEND;TZID=America/Winnipeg:20180922T000000
DTSTAMP:20260420T153114
CREATED:20180921T221959Z
LAST-MODIFIED:20180921T221959Z
UID:59223-1537488000-1537574400@accesswinnipeg.com
SUMMARY:Coffeehouse Evening
DESCRIPTION:Venue: Sam\’s Place	 159 Henderson Highway	 Winnipeg Local Winnipeg artists will be performing here at Sam\’s Place. Free event. Come out and enjoy a night of great music and fellowship. 
URL:https://accesswinnipeg.com/event/coffeehouse-evening/
CATEGORIES:Music
END:VEVENT
BEGIN:VEVENT
DTSTART;TZID=America/Winnipeg:20180921T000000
DTEND;TZID=America/Winnipeg:20180922T000000
DTSTAMP:20260420T153114
CREATED:20180921T221959Z
LAST-MODIFIED:20180921T221959Z
UID:59218-1537488000-1537574400@accesswinnipeg.com
SUMMARY:Standard Transmission\,Laurie Mackenzie\,Bill Spornitz\,Kim Russell
DESCRIPTION:Venue: Palm Lounge	 222 Broadway	 Winnipeg
URL:https://accesswinnipeg.com/event/standard-transmissionlaurie-mackenziebill-spornitzkim-russell/
CATEGORIES:Music
END:VEVENT
BEGIN:VEVENT
DTSTART;TZID=America/Winnipeg:20180921T000000
DTEND;TZID=America/Winnipeg:20180922T000000
DTSTAMP:20260420T153114
CREATED:20180921T221959Z
LAST-MODIFIED:20180921T221959Z
UID:59219-1537488000-1537574400@accesswinnipeg.com
SUMMARY:Vintage Groove
DESCRIPTION:Venue: West Kildonan Legion	 1748 Main Street	 Winnipeg
URL:https://accesswinnipeg.com/event/vintage-groove/
CATEGORIES:Music
END:VEVENT
BEGIN:VEVENT
DTSTART;TZID=America/Winnipeg:20180921T000000
DTEND;TZID=America/Winnipeg:20180922T000000
DTSTAMP:20260420T153114
CREATED:20180921T221959Z
LAST-MODIFIED:20180921T221959Z
UID:59220-1537488000-1537574400@accesswinnipeg.com
SUMMARY:Almost Famous
DESCRIPTION:Venue: Palomino Club	 436 Main St.	 Winnipeg
URL:https://accesswinnipeg.com/event/almost-famous/
CATEGORIES:Music
END:VEVENT
BEGIN:VEVENT
DTSTART;TZID=America/Winnipeg:20180921T000000
DTEND;TZID=America/Winnipeg:20180922T000000
DTSTAMP:20260420T153114
CREATED:20180921T221959Z
LAST-MODIFIED:20180921T221959Z
UID:59215-1537488000-1537574400@accesswinnipeg.com
SUMMARY:Crankie Festival: Del Barber\,Linda McRae\,Nathan Rogers\,The Small Glories\,D.Rangers\,E-T-E\,Anna & Elizabeth\,Scott Nolan\,Red Moon Road
DESCRIPTION:Venue: Crescent Fort Rouge United Church	 525 Wardlaw Avenue	 Winnipeg Promoters: Crescent Fort Rouge United Church	 Home Routes/Chemin Chez Nous Tickets are on sale NOW for the Winnipeg Crankie Festival. The festival will benefit Home Routes FolkSchool\, a new educational project that is part of the Winnipeg-based house concert network Home Routes/Chemin Chez Nous.  The First Annual ​Winnipeg Crankie Festival takes place at ​Crescent Fo…
URL:https://accesswinnipeg.com/event/crankie-festival-del-barberlinda-mcraenathan-rogersthe-small-gloriesd-rangerse-t-eanna-elizabethscott-nolanred-moon-road/
CATEGORIES:Music
END:VEVENT
BEGIN:VEVENT
DTSTART;TZID=America/Winnipeg:20180921T000000
DTEND;TZID=America/Winnipeg:20180922T000000
DTSTAMP:20260420T153114
CREATED:20180921T221959Z
LAST-MODIFIED:20180921T221959Z
UID:59221-1537488000-1537574400@accesswinnipeg.com
SUMMARY:\'after they built the dam\': Kipp Kocay
DESCRIPTION:Venue: Forth	 171 McDermot Ave	 Winnipeg Live Album Recording by Kipp Kocay jazz standards from the 50\’s. @ Forth Bar
URL:https://accesswinnipeg.com/event/after-they-built-the-dam-kipp-kocay/
CATEGORIES:Music
END:VEVENT
BEGIN:VEVENT
DTSTART;TZID=America/Winnipeg:20180921T000000
DTEND;TZID=America/Winnipeg:20180922T000000
DTSTAMP:20260420T153114
CREATED:20180921T221959Z
LAST-MODIFIED:20180921T221959Z
UID:59216-1537488000-1537574400@accesswinnipeg.com
SUMMARY:Classical Mystery Tour: A Tribute to The Beatles: Classical Mystery Tour\,Winnipeg Symphony Orchestra
DESCRIPTION:Venue: Centennial Concert Hall	 555 Main Street	 Winnipeg Join us for the opening of the WSO\’s 2018-2019 Pops Series! Experience the magic of The Beatles all over again in this show featuring over a dozen Beatles masterpieces with live symphonic accompaniment\, just as they recorded them. Hear “Penny Lane” with a live trumpet section\, experience the b…
URL:https://accesswinnipeg.com/event/classical-mystery-tour-a-tribute-to-the-beatles-classical-mystery-tourwinnipeg-symphony-orchestra/
CATEGORIES:Music
END:VEVENT
BEGIN:VEVENT
DTSTART;TZID=America/Winnipeg:20180921T000000
DTEND;TZID=America/Winnipeg:20180922T000000
DTSTAMP:20260420T153114
CREATED:20180921T221959Z
LAST-MODIFIED:20180921T221959Z
UID:59222-1537488000-1537574400@accesswinnipeg.com
SUMMARY:Ricki Redbone
DESCRIPTION:Venue: Royal Canadian Legion No. 4	 1755 Portage Avenue 	 Winnipeg
URL:https://accesswinnipeg.com/event/ricki-redbone/
CATEGORIES:Music
END:VEVENT
BEGIN:VEVENT
DTSTART;TZID=America/Winnipeg:20180921T000000
DTEND;TZID=America/Winnipeg:20180922T000000
DTSTAMP:20260420T153114
CREATED:20180921T221959Z
LAST-MODIFIED:20180921T221959Z
UID:59217-1537488000-1537574400@accesswinnipeg.com
SUMMARY:David Graham
DESCRIPTION:Venue: Palm Lounge	 222 Broadway	 Winnipeg
URL:https://accesswinnipeg.com/event/david-graham-2/
CATEGORIES:Music
END:VEVENT
BEGIN:VEVENT
DTSTART;TZID=America/Winnipeg:20180922T000000
DTEND;TZID=America/Winnipeg:20180923T000000
DTSTAMP:20260420T153114
CREATED:20180922T221946Z
LAST-MODIFIED:20180922T221946Z
UID:59227-1537574400-1537660800@accesswinnipeg.com
SUMMARY:Jam with Sam
DESCRIPTION:Venue: Sam\’s Place	 159 Henderson Highway	 Winnipeg Bring your guitar or your voice and a song or two\, or just bring your friends and join us for Jam with Sam from noon to 3:00.  It\’s free and everyone is welcome.  Come down to Sam\’s for a great jam session.
URL:https://accesswinnipeg.com/event/jam-with-sam-4/
CATEGORIES:Music
END:VEVENT
BEGIN:VEVENT
DTSTART;TZID=America/Winnipeg:20180922T000000
DTEND;TZID=America/Winnipeg:20180923T000000
DTSTAMP:20260420T153114
CREATED:20180922T221946Z
LAST-MODIFIED:20180922T221946Z
UID:59228-1537574400-1537660800@accesswinnipeg.com
SUMMARY:Crankie Festival: Del Barber\,Linda McRae\,Nathan Rogers\,The Small Glories\,D.Rangers\,E-T-E\,Anna & Elizabeth\,Scott Nolan\,Red Moon Road
DESCRIPTION:Venue: Crescent Fort Rouge United Church	 525 Wardlaw Avenue	 Winnipeg Promoters: Crescent Fort Rouge United Church	 Home Routes/Chemin Chez Nous Tickets are on sale NOW for the Winnipeg Crankie Festival. The festival will benefit Home Routes FolkSchool\, a new educational project that is part of the Winnipeg-based house concert network Home Routes/Chemin Chez Nous.  The First Annual ​Winnipeg Crankie Festival takes place at ​Crescent Fo…
URL:https://accesswinnipeg.com/event/crankie-festival-del-barberlinda-mcraenathan-rogersthe-small-gloriesd-rangerse-t-eanna-elizabethscott-nolanred-moon-road-2/
CATEGORIES:Music
END:VEVENT
BEGIN:VEVENT
DTSTART;TZID=America/Winnipeg:20180922T000000
DTEND;TZID=America/Winnipeg:20180923T000000
DTSTAMP:20260420T153114
CREATED:20180922T221946Z
LAST-MODIFIED:20180922T221946Z
UID:59229-1537574400-1537660800@accesswinnipeg.com
SUMMARY:Virtuosi Concerts: Lara St. John\,Matt Herskowitz
DESCRIPTION:Venue: Eckhardt-Gramatté Hall	 University of Winnipeg\, 515 Portage Avenue	 Winnipeg Canadian-born violinist Lara St. John has been described as “something of a phenomenon” by The Strad\, and a “high-powered soloist” by the New York Times. She performs and records works from Bach to Roma music with equal passion and panache. Her Mozart CD won a Juno Award in 2011. “Lara St. John h…
URL:https://accesswinnipeg.com/event/virtuosi-concerts-lara-st-johnmatt-herskowitz/
CATEGORIES:Music
END:VEVENT
BEGIN:VEVENT
DTSTART;TZID=America/Winnipeg:20180922T000000
DTEND;TZID=America/Winnipeg:20180923T000000
DTSTAMP:20260420T153114
CREATED:20180922T221947Z
LAST-MODIFIED:20180922T221947Z
UID:59237-1537574400-1537660800@accesswinnipeg.com
SUMMARY:Ricki Redbone
DESCRIPTION:Venue: Royal Canadian Legion No. 4	 1755 Portage Avenue 	 Winnipeg
URL:https://accesswinnipeg.com/event/ricki-redbone-2/
CATEGORIES:Music
END:VEVENT
BEGIN:VEVENT
DTSTART;TZID=America/Winnipeg:20180922T000000
DTEND;TZID=America/Winnipeg:20180923T000000
DTSTAMP:20260420T153114
CREATED:20180922T221947Z
LAST-MODIFIED:20180922T221947Z
UID:59232-1537574400-1537660800@accesswinnipeg.com
SUMMARY:Autumnal Equinox Concert: Mary McInychuk\,Alan Rodkin\, Isabel Cheer\,Linda Cassell\,Norm Asher\,Bill Pooley\,Lynna Tractenberg\,Phil Spevack
DESCRIPTION:Venue: Grant & Wilton Coffee House	 1077 Grant Ave	 Winnipeg
URL:https://accesswinnipeg.com/event/autumnal-equinox-concert-mary-mcinychukalan-rodkin-isabel-cheerlinda-cassellnorm-asherbill-pooleylynna-tractenbergphil-spevack/
CATEGORIES:Music
END:VEVENT
BEGIN:VEVENT
DTSTART;TZID=America/Winnipeg:20180922T000000
DTEND;TZID=America/Winnipeg:20180923T000000
DTSTAMP:20260420T153114
CREATED:20180922T221947Z
LAST-MODIFIED:20180922T221947Z
UID:59233-1537574400-1537660800@accesswinnipeg.com
SUMMARY:Connor Derraugh
DESCRIPTION:Venue: The Hotel Fort Garry	 222 Broadway Avenue	 Winnipeg Solo piano in the Palm Room featuring a blend of jazz and pop.
URL:https://accesswinnipeg.com/event/connor-derraugh/
CATEGORIES:Music
END:VEVENT
BEGIN:VEVENT
DTSTART;TZID=America/Winnipeg:20180922T000000
DTEND;TZID=America/Winnipeg:20180923T000000
DTSTAMP:20260420T153114
CREATED:20180922T221947Z
LAST-MODIFIED:20180922T221947Z
UID:59234-1537574400-1537660800@accesswinnipeg.com
SUMMARY:In the City Workshop: Long Roads: Matt Foster\,Keri Latimer\,Scott Nolan
DESCRIPTION:Venue: Millenium Library	 Winnipeg Promoters: Winnipeg Folk Festival Join us for a FREE In the City Workshop with Matt Foster\, Keri Latimer and Scott Nolan on September 22 at 2 PM a the Millennium Library!  
URL:https://accesswinnipeg.com/event/in-the-city-workshop-long-roads-matt-fosterkeri-latimerscott-nolan/
CATEGORIES:Music
END:VEVENT
BEGIN:VEVENT
DTSTART;TZID=America/Winnipeg:20180922T000000
DTEND;TZID=America/Winnipeg:20180923T000000
DTSTAMP:20260420T153114
CREATED:20180922T221947Z
LAST-MODIFIED:20180922T221947Z
UID:59238-1537574400-1537660800@accesswinnipeg.com
SUMMARY:Variety Night
DESCRIPTION:Venue: Sam\’s Place	 159 Henderson Highway	 Winnipeg Helen\’s students from all different walks of life come together every month to sing jazz and pop and original songs with a professional band. They have been coming to Sam\’s Place monthly for over 8 years and it is a perfect place to feel happy and comfortable and perform with some of the finest m…
URL:https://accesswinnipeg.com/event/variety-night/
CATEGORIES:Music
END:VEVENT
END:VCALENDAR