BEGIN:VCALENDAR
VERSION:2.0
PRODID:-//Access Winnipeg - ECPv6.15.20//NONSGML v1.0//EN
CALSCALE:GREGORIAN
METHOD:PUBLISH
X-WR-CALNAME:Access Winnipeg
X-ORIGINAL-URL:https://accesswinnipeg.com
X-WR-CALDESC:Events for Access Winnipeg
REFRESH-INTERVAL;VALUE=DURATION:PT1H
X-Robots-Tag:noindex
X-PUBLISHED-TTL:PT1H
BEGIN:VTIMEZONE
TZID:America/Winnipeg
BEGIN:DAYLIGHT
TZOFFSETFROM:-0600
TZOFFSETTO:-0500
TZNAME:CDT
DTSTART:20170312T080000
END:DAYLIGHT
BEGIN:STANDARD
TZOFFSETFROM:-0500
TZOFFSETTO:-0600
TZNAME:CST
DTSTART:20171105T070000
END:STANDARD
BEGIN:DAYLIGHT
TZOFFSETFROM:-0600
TZOFFSETTO:-0500
TZNAME:CDT
DTSTART:20180311T080000
END:DAYLIGHT
BEGIN:STANDARD
TZOFFSETFROM:-0500
TZOFFSETTO:-0600
TZNAME:CST
DTSTART:20181104T070000
END:STANDARD
BEGIN:DAYLIGHT
TZOFFSETFROM:-0600
TZOFFSETTO:-0500
TZNAME:CDT
DTSTART:20190310T080000
END:DAYLIGHT
BEGIN:STANDARD
TZOFFSETFROM:-0500
TZOFFSETTO:-0600
TZNAME:CST
DTSTART:20191103T070000
END:STANDARD
END:VTIMEZONE
BEGIN:VEVENT
DTSTART;TZID=America/Winnipeg:20180921T000000
DTEND;TZID=America/Winnipeg:20180922T000000
DTSTAMP:20260421T080553
CREATED:20180921T221959Z
LAST-MODIFIED:20180921T221959Z
UID:59223-1537488000-1537574400@accesswinnipeg.com
SUMMARY:Coffeehouse Evening
DESCRIPTION:Venue: Sam\’s Place	 159 Henderson Highway	 Winnipeg Local Winnipeg artists will be performing here at Sam\’s Place. Free event. Come out and enjoy a night of great music and fellowship. 
URL:https://accesswinnipeg.com/event/coffeehouse-evening/
CATEGORIES:Music
END:VEVENT
BEGIN:VEVENT
DTSTART;TZID=America/Winnipeg:20180921T000000
DTEND;TZID=America/Winnipeg:20180922T000000
DTSTAMP:20260421T080553
CREATED:20180921T221959Z
LAST-MODIFIED:20180921T221959Z
UID:59218-1537488000-1537574400@accesswinnipeg.com
SUMMARY:Standard Transmission\,Laurie Mackenzie\,Bill Spornitz\,Kim Russell
DESCRIPTION:Venue: Palm Lounge	 222 Broadway	 Winnipeg
URL:https://accesswinnipeg.com/event/standard-transmissionlaurie-mackenziebill-spornitzkim-russell/
CATEGORIES:Music
END:VEVENT
BEGIN:VEVENT
DTSTART;TZID=America/Winnipeg:20180922T000000
DTEND;TZID=America/Winnipeg:20180923T000000
DTSTAMP:20260421T080553
CREATED:20180922T221946Z
LAST-MODIFIED:20180922T221946Z
UID:59227-1537574400-1537660800@accesswinnipeg.com
SUMMARY:Jam with Sam
DESCRIPTION:Venue: Sam\’s Place	 159 Henderson Highway	 Winnipeg Bring your guitar or your voice and a song or two\, or just bring your friends and join us for Jam with Sam from noon to 3:00.  It\’s free and everyone is welcome.  Come down to Sam\’s for a great jam session.
URL:https://accesswinnipeg.com/event/jam-with-sam-4/
CATEGORIES:Music
END:VEVENT
BEGIN:VEVENT
DTSTART;TZID=America/Winnipeg:20180922T000000
DTEND;TZID=America/Winnipeg:20180923T000000
DTSTAMP:20260421T080553
CREATED:20180922T221946Z
LAST-MODIFIED:20180922T221946Z
UID:59228-1537574400-1537660800@accesswinnipeg.com
SUMMARY:Crankie Festival: Del Barber\,Linda McRae\,Nathan Rogers\,The Small Glories\,D.Rangers\,E-T-E\,Anna & Elizabeth\,Scott Nolan\,Red Moon Road
DESCRIPTION:Venue: Crescent Fort Rouge United Church	 525 Wardlaw Avenue	 Winnipeg Promoters: Crescent Fort Rouge United Church	 Home Routes/Chemin Chez Nous Tickets are on sale NOW for the Winnipeg Crankie Festival. The festival will benefit Home Routes FolkSchool\, a new educational project that is part of the Winnipeg-based house concert network Home Routes/Chemin Chez Nous.  The First Annual ​Winnipeg Crankie Festival takes place at ​Crescent Fo…
URL:https://accesswinnipeg.com/event/crankie-festival-del-barberlinda-mcraenathan-rogersthe-small-gloriesd-rangerse-t-eanna-elizabethscott-nolanred-moon-road-2/
CATEGORIES:Music
END:VEVENT
BEGIN:VEVENT
DTSTART;TZID=America/Winnipeg:20180922T000000
DTEND;TZID=America/Winnipeg:20180923T000000
DTSTAMP:20260421T080553
CREATED:20180922T221946Z
LAST-MODIFIED:20180922T221946Z
UID:59229-1537574400-1537660800@accesswinnipeg.com
SUMMARY:Virtuosi Concerts: Lara St. John\,Matt Herskowitz
DESCRIPTION:Venue: Eckhardt-Gramatté Hall	 University of Winnipeg\, 515 Portage Avenue	 Winnipeg Canadian-born violinist Lara St. John has been described as “something of a phenomenon” by The Strad\, and a “high-powered soloist” by the New York Times. She performs and records works from Bach to Roma music with equal passion and panache. Her Mozart CD won a Juno Award in 2011. “Lara St. John h…
URL:https://accesswinnipeg.com/event/virtuosi-concerts-lara-st-johnmatt-herskowitz/
CATEGORIES:Music
END:VEVENT
BEGIN:VEVENT
DTSTART;TZID=America/Winnipeg:20180922T000000
DTEND;TZID=America/Winnipeg:20180923T000000
DTSTAMP:20260421T080553
CREATED:20180922T221947Z
LAST-MODIFIED:20180922T221947Z
UID:59233-1537574400-1537660800@accesswinnipeg.com
SUMMARY:Connor Derraugh
DESCRIPTION:Venue: The Hotel Fort Garry	 222 Broadway Avenue	 Winnipeg Solo piano in the Palm Room featuring a blend of jazz and pop.
URL:https://accesswinnipeg.com/event/connor-derraugh/
CATEGORIES:Music
END:VEVENT
BEGIN:VEVENT
DTSTART;TZID=America/Winnipeg:20180922T000000
DTEND;TZID=America/Winnipeg:20180923T000000
DTSTAMP:20260421T080553
CREATED:20180922T221947Z
LAST-MODIFIED:20180922T221947Z
UID:59234-1537574400-1537660800@accesswinnipeg.com
SUMMARY:In the City Workshop: Long Roads: Matt Foster\,Keri Latimer\,Scott Nolan
DESCRIPTION:Venue: Millenium Library	 Winnipeg Promoters: Winnipeg Folk Festival Join us for a FREE In the City Workshop with Matt Foster\, Keri Latimer and Scott Nolan on September 22 at 2 PM a the Millennium Library!  
URL:https://accesswinnipeg.com/event/in-the-city-workshop-long-roads-matt-fosterkeri-latimerscott-nolan/
CATEGORIES:Music
END:VEVENT
BEGIN:VEVENT
DTSTART;TZID=America/Winnipeg:20180922T000000
DTEND;TZID=America/Winnipeg:20180923T000000
DTSTAMP:20260421T080553
CREATED:20180922T221947Z
LAST-MODIFIED:20180922T221947Z
UID:59238-1537574400-1537660800@accesswinnipeg.com
SUMMARY:Variety Night
DESCRIPTION:Venue: Sam\’s Place	 159 Henderson Highway	 Winnipeg Helen\’s students from all different walks of life come together every month to sing jazz and pop and original songs with a professional band. They have been coming to Sam\’s Place monthly for over 8 years and it is a perfect place to feel happy and comfortable and perform with some of the finest m…
URL:https://accesswinnipeg.com/event/variety-night/
CATEGORIES:Music
END:VEVENT
BEGIN:VEVENT
DTSTART;TZID=America/Winnipeg:20180922T000000
DTEND;TZID=America/Winnipeg:20180923T000000
DTSTAMP:20260421T080553
CREATED:20180922T221947Z
LAST-MODIFIED:20180922T221947Z
UID:59235-1537574400-1537660800@accesswinnipeg.com
SUMMARY:waNda wilsoN
DESCRIPTION:Venue: Saigon Park- Across the street from University of Winnipeg- Ellice entrance.	 Spence Street	 Winnipeg Promoters: Sarasvati Productions Home / FemFest / Walking Art Tour FemFest is introducing an all-new event this year: a Walking Art Tour exploring historic parts of Downtown Winnipeg! The tour will consist of five pieces of site-specific performance designed to fit each unique space\, showcasing the beauty and history behind…
URL:https://accesswinnipeg.com/event/wanda-wilson-2/
CATEGORIES:Music
END:VEVENT
BEGIN:VEVENT
DTSTART;TZID=America/Winnipeg:20180922T000000
DTEND;TZID=America/Winnipeg:20180923T000000
DTSTAMP:20260421T080553
CREATED:20180922T221947Z
LAST-MODIFIED:20180922T221947Z
UID:59230-1537574400-1537660800@accesswinnipeg.com
SUMMARY:Winnipeg Beer Choir
DESCRIPTION:Venue: Fools & Horses	 379 Broadway	 Winnipeg Can you believe it? Winnipeg Beer Choir is a year old! Come out and sing with no stress\, no rehearsals\, no performances – just show up.  Join us for an evening of (silly) songs\, while enjoying the delicious drinks Fools+Horses offers. Drinking alcohol is not required\, everyone is welcome to atte…
URL:https://accesswinnipeg.com/event/winnipeg-beer-choir/
CATEGORIES:Music
END:VEVENT
BEGIN:VEVENT
DTSTART;TZID=America/Winnipeg:20180922T000000
DTEND;TZID=America/Winnipeg:20180923T000000
DTSTAMP:20260421T080553
CREATED:20180922T221947Z
LAST-MODIFIED:20180922T221947Z
UID:59236-1537574400-1537660800@accesswinnipeg.com
SUMMARY:Almost Famous
DESCRIPTION:Venue: Palomino Club	 436 Main St.	 Winnipeg
URL:https://accesswinnipeg.com/event/almost-famous-2/
CATEGORIES:Music
END:VEVENT
BEGIN:VEVENT
DTSTART;TZID=America/Winnipeg:20180922T000000
DTEND;TZID=America/Winnipeg:20180923T000000
DTSTAMP:20260421T080553
CREATED:20180922T221947Z
LAST-MODIFIED:20180922T221947Z
UID:59231-1537574400-1537660800@accesswinnipeg.com
SUMMARY:Jazz at The Heights: The McMahon Group
DESCRIPTION:Venue: Silver Heights Restaurant and Lounge	 2169 Portage Ave	 Winnipeg
URL:https://accesswinnipeg.com/event/jazz-at-the-heights-the-mcmahon-group-2/
CATEGORIES:Music
END:VEVENT
BEGIN:VEVENT
DTSTART;TZID=America/Winnipeg:20180922T000000
DTEND;TZID=America/Winnipeg:20180923T000000
DTSTAMP:20260421T080553
CREATED:20180922T221947Z
LAST-MODIFIED:20180922T221947Z
UID:59237-1537574400-1537660800@accesswinnipeg.com
SUMMARY:Ricki Redbone
DESCRIPTION:Venue: Royal Canadian Legion No. 4	 1755 Portage Avenue 	 Winnipeg
URL:https://accesswinnipeg.com/event/ricki-redbone-2/
CATEGORIES:Music
END:VEVENT
BEGIN:VEVENT
DTSTART;TZID=America/Winnipeg:20180922T000000
DTEND;TZID=America/Winnipeg:20180923T000000
DTSTAMP:20260421T080553
CREATED:20180922T221947Z
LAST-MODIFIED:20180922T221947Z
UID:59232-1537574400-1537660800@accesswinnipeg.com
SUMMARY:Autumnal Equinox Concert: Mary McInychuk\,Alan Rodkin\, Isabel Cheer\,Linda Cassell\,Norm Asher\,Bill Pooley\,Lynna Tractenberg\,Phil Spevack
DESCRIPTION:Venue: Grant & Wilton Coffee House	 1077 Grant Ave	 Winnipeg
URL:https://accesswinnipeg.com/event/autumnal-equinox-concert-mary-mcinychukalan-rodkin-isabel-cheerlinda-cassellnorm-asherbill-pooleylynna-tractenbergphil-spevack/
CATEGORIES:Music
END:VEVENT
BEGIN:VEVENT
DTSTART;TZID=America/Winnipeg:20180923T000000
DTEND;TZID=America/Winnipeg:20180924T000000
DTSTAMP:20260421T080553
CREATED:20180923T222011Z
LAST-MODIFIED:20180923T222011Z
UID:59241-1537660800-1537747200@accesswinnipeg.com
SUMMARY:Terry Bozzio
DESCRIPTION:Venue: West End Cultural Centre	 586 Ellice Avenue	 Winnipeg Drum legend Terry Bozzio\, known for his work with Frank Zappa\, & Jeff Beck brings a night of solo drumming and include compositions from throughout his career\, as well as improvisation. It is by no means a clinic or a workshop. Enjoy an intimate evening of Terry Bozzio and his monster sculpture o…
URL:https://accesswinnipeg.com/event/terry-bozzio/
CATEGORIES:Music
END:VEVENT
BEGIN:VEVENT
DTSTART;TZID=America/Winnipeg:20180923T000000
DTEND;TZID=America/Winnipeg:20180924T000000
DTSTAMP:20260421T080553
CREATED:20180923T222012Z
LAST-MODIFIED:20180923T222012Z
UID:59246-1537660800-1537747200@accesswinnipeg.com
SUMMARY:Wall-To-Wall Mural + Culture Festival: CYBER\,Fourth Quarter Records
DESCRIPTION:Venue: The Good Will Social Club	 625 Portage Avenue	 Winnipeg Promoters: Wall-to-Wall Mural & Culture Festival Unofficial: CYBER x Fourth Quarter Records x Núna – now: Residency Originally formed in 2012 as a thrash metal/pop/rock/disco duo\, CYBER is now known as the rap trio and ongoing electronic musical project of Bleach Pistol/Sick Roma (Salka Valsdóttir)\, JuniorCheese/YNG NICK (Jóhanna Rakel) and …
URL:https://accesswinnipeg.com/event/wall-to-wall-mural-culture-festival-cyberfourth-quarter-records/
CATEGORIES:Music
END:VEVENT
BEGIN:VEVENT
DTSTART;TZID=America/Winnipeg:20180923T000000
DTEND;TZID=America/Winnipeg:20180924T000000
DTSTAMP:20260421T080553
CREATED:20180923T222012Z
LAST-MODIFIED:20180923T222012Z
UID:59242-1537660800-1537747200@accesswinnipeg.com
SUMMARY:Soloist Sunday with Christian Edward: Christian Edward
DESCRIPTION:Venue: Royal Pizza	 1500 Dakota Street	 Winnipeg
URL:https://accesswinnipeg.com/event/soloist-sunday-with-christian-edward-christian-edward-7/
CATEGORIES:Music
END:VEVENT
BEGIN:VEVENT
DTSTART;TZID=America/Winnipeg:20180923T000000
DTEND;TZID=America/Winnipeg:20180924T000000
DTSTAMP:20260421T080553
CREATED:20180923T222012Z
LAST-MODIFIED:20180923T222012Z
UID:59247-1537660800-1537747200@accesswinnipeg.com
SUMMARY:Leo Gosselin
DESCRIPTION:Venue: Palm Lounge	 222 Broadway	 Winnipeg
URL:https://accesswinnipeg.com/event/leo-gosselin-4/
CATEGORIES:Music
END:VEVENT
BEGIN:VEVENT
DTSTART;TZID=America/Winnipeg:20180923T000000
DTEND;TZID=America/Winnipeg:20180924T000000
DTSTAMP:20260421T080553
CREATED:20180923T222012Z
LAST-MODIFIED:20180923T222012Z
UID:59248-1537660800-1537747200@accesswinnipeg.com
SUMMARY:Wall-To-Wall Mural + Culture Festival: DJ J. JACKSON
DESCRIPTION:Venue: The Tallest Poppy	 103 Sherbrook Street	 Winnipeg Promoters: Wall-To-Wall Mural + Culture Festival
URL:https://accesswinnipeg.com/event/wall-to-wall-mural-culture-festival-dj-j-jackson/
CATEGORIES:Music
END:VEVENT
BEGIN:VEVENT
DTSTART;TZID=America/Winnipeg:20180923T000000
DTEND;TZID=America/Winnipeg:20180924T000000
DTSTAMP:20260421T080553
CREATED:20180923T222012Z
LAST-MODIFIED:20180923T222012Z
UID:59243-1537660800-1537747200@accesswinnipeg.com
SUMMARY:Swingin\' Utters
DESCRIPTION:Venue: Pyramid Cabaret	 176 Fort Street	 Winnipeg The boys are coming back to town on September 23rd with a new LP under their belt.
URL:https://accesswinnipeg.com/event/swingin-utters/
CATEGORIES:Music
END:VEVENT
BEGIN:VEVENT
DTSTART;TZID=America/Winnipeg:20180923T000000
DTEND;TZID=America/Winnipeg:20180924T000000
DTSTAMP:20260421T080553
CREATED:20180923T222012Z
LAST-MODIFIED:20180923T222012Z
UID:59249-1537660800-1537747200@accesswinnipeg.com
SUMMARY:Rob Knaggs\,Noah Derksen\,Eldur
DESCRIPTION:Venue: The Cube	 133 Albert Street\, Old Market Square	 Winnipeg We\’re closing out our 2018 season at the Cube with a wonderful early evening of music on Sunday\, September 23. Joining us will be Rob Knaggs\, Noah Derksen\, and Eldur (Jensen Fridfinnson). —– Australia\’s Rob Knaggs is a cellist and composer living in Canada\’s sub-arctic. Taking inspiratio…
URL:https://accesswinnipeg.com/event/rob-knaggsnoah-derkseneldur/
CATEGORIES:Music
END:VEVENT
BEGIN:VEVENT
DTSTART;TZID=America/Winnipeg:20180923T000000
DTEND;TZID=America/Winnipeg:20180924T000000
DTSTAMP:20260421T080553
CREATED:20180923T222012Z
LAST-MODIFIED:20180923T222012Z
UID:59244-1537660800-1537747200@accesswinnipeg.com
SUMMARY:Crankie Festival: Del Barber\,Linda McRae\,Nathan Rogers\,The Small Glories\,D.Rangers\,E-T-E\,Anna & Elizabeth\,Scott Nolan\,Red Moon Road
DESCRIPTION:Venue: Crescent Fort Rouge United Church	 525 Wardlaw Avenue	 Winnipeg Promoters: Crescent Fort Rouge United Church	 Home Routes/Chemin Chez Nous Tickets are on sale NOW for the Winnipeg Crankie Festival. The festival will benefit Home Routes FolkSchool\, a new educational project that is part of the Winnipeg-based house concert network Home Routes/Chemin Chez Nous.  The First Annual ​Winnipeg Crankie Festival takes place at ​Crescent Fo…
URL:https://accesswinnipeg.com/event/crankie-festival-del-barberlinda-mcraenathan-rogersthe-small-gloriesd-rangerse-t-eanna-elizabethscott-nolanred-moon-road-3/
CATEGORIES:Music
END:VEVENT
BEGIN:VEVENT
DTSTART;TZID=America/Winnipeg:20180923T000000
DTEND;TZID=America/Winnipeg:20180924T000000
DTSTAMP:20260421T080553
CREATED:20180923T222012Z
LAST-MODIFIED:20180923T222012Z
UID:59245-1537660800-1537747200@accesswinnipeg.com
SUMMARY:Classical Mystery Tour: A Tribute to The Beatles: Classical Mystery Tour\,Winnipeg Symphony Orchestra
DESCRIPTION:Venue: Centennial Concert Hall	 555 Main Street	 Winnipeg Join us for the opening of the WSO\’s 2018-2019 Pops Series! Experience the magic of The Beatles all over again in this show featuring over a dozen Beatles masterpieces with live symphonic accompaniment\, just as they recorded them. Hear “Penny Lane” with a live trumpet section\, experience the b…
URL:https://accesswinnipeg.com/event/classical-mystery-tour-a-tribute-to-the-beatles-classical-mystery-tourwinnipeg-symphony-orchestra-2/
CATEGORIES:Music
END:VEVENT
BEGIN:VEVENT
DTSTART;TZID=America/Winnipeg:20180923T000000
DTEND;TZID=America/Winnipeg:20180924T000000
DTSTAMP:20260421T080553
CREATED:20180923T222013Z
LAST-MODIFIED:20180923T222013Z
UID:59250-1537660800-1537747200@accesswinnipeg.com
SUMMARY:MRMTA - AGM\, Luncheon and Concert
DESCRIPTION:Venue: Fort Garry Mennonite Fellowship	 150 Bayridge Ave	 Winnipeg
URL:https://accesswinnipeg.com/event/mrmta-agm-luncheon-and-concert/
CATEGORIES:Music
END:VEVENT
BEGIN:VEVENT
DTSTART;TZID=America/Winnipeg:20180924T000000
DTEND;TZID=America/Winnipeg:20180925T000000
DTSTAMP:20260421T080553
CREATED:20180923T222013Z
LAST-MODIFIED:20180924T234956Z
UID:59251-1537747200-1537833600@accesswinnipeg.com
SUMMARY:Ron Paley
DESCRIPTION:Venue: Palm Lounge	 222 Broadway	 Winnipeg
URL:https://accesswinnipeg.com/event/ron-paley-3/
CATEGORIES:Music
END:VEVENT
BEGIN:VEVENT
DTSTART;TZID=America/Winnipeg:20180925T000000
DTEND;TZID=America/Winnipeg:20180926T000000
DTSTAMP:20260421T080553
CREATED:20180916T220451Z
LAST-MODIFIED:20180926T011943Z
UID:59124-1537833600-1537920000@accesswinnipeg.com
SUMMARY:Curtis Newton
DESCRIPTION:Venue: Palm Lounge	 222 Broadway	 Winnipeg
URL:https://accesswinnipeg.com/event/curtis-newton-5/
CATEGORIES:Music
END:VEVENT
BEGIN:VEVENT
DTSTART;TZID=America/Winnipeg:20180925T000000
DTEND;TZID=America/Winnipeg:20180926T000000
DTSTAMP:20260421T080553
CREATED:20180923T222013Z
LAST-MODIFIED:20180926T011943Z
UID:59252-1537833600-1537920000@accesswinnipeg.com
SUMMARY:Comeback Kid\,No Warning\,Higher Power
DESCRIPTION:Venue: The Garrick	 330 Garry Street	 Winnipeg Complacency kills creativity\, and nobody seems to know that better than Comeback Kid. Outsider\, the long-running hardcore outfit’s latest LP\, showcases that in spades. Capturing the all-out intensity of the band’s riotous live shows\, it’s as urgent and unrelenting as anything they’ve done in the …
URL:https://accesswinnipeg.com/event/comeback-kidno-warninghigher-power/
CATEGORIES:Music
END:VEVENT
BEGIN:VEVENT
DTSTART;TZID=America/Winnipeg:20180925T000000
DTEND;TZID=America/Winnipeg:20180926T000000
DTSTAMP:20260421T080553
CREATED:20180924T234956Z
LAST-MODIFIED:20180926T011943Z
UID:59265-1537833600-1537920000@accesswinnipeg.com
SUMMARY:Story of the Hag – A Salute to Merle Haggard in Songs & Stories: Jess Lee
DESCRIPTION:Venue: Club Regent Event Centre	 1425 Regent Avenue West	 Winnipeg A special evening dedicated to one of the greatest artists in country music history – Merle Haggard. In “The Story of the Hag”\, JUNO-nominated singer Jess Lee will take you on a journey through Haggard’s incredible life and times through stories and songs. With an incredible career spanning six d…
URL:https://accesswinnipeg.com/event/story-of-the-hag-a-salute-to-merle-haggard-in-songs-stories-jess-lee/
CATEGORIES:Music
END:VEVENT
BEGIN:VEVENT
DTSTART;TZID=America/Winnipeg:20180925T000000
DTEND;TZID=America/Winnipeg:20180926T000000
DTSTAMP:20260421T080553
CREATED:20180924T234956Z
LAST-MODIFIED:20180926T011943Z
UID:59266-1537833600-1537920000@accesswinnipeg.com
SUMMARY:Chris Tomlin\,Pat Barrett
DESCRIPTION:Venue: Centennial Concert Hall	 555 Main Street	 Winnipeg Chris Tomlin: Good Good Father Tour with Special Guest Pat Barrett comes to Winnipeg\, performing at Centennial Concert Hall on September 25\, 2018.
URL:https://accesswinnipeg.com/event/chris-tomlinpat-barrett/
CATEGORIES:Music
END:VEVENT
BEGIN:VEVENT
DTSTART;TZID=America/Winnipeg:20180925T000000
DTEND;TZID=America/Winnipeg:20180926T000000
DTSTAMP:20260421T080553
CREATED:20180924T234956Z
LAST-MODIFIED:20180926T011943Z
UID:59268-1537833600-1537920000@accesswinnipeg.com
SUMMARY:Sugar-Sugar
DESCRIPTION:Venue: Sherbrook Inn	 685 Westminster Avenue	 Winnipeg
URL:https://accesswinnipeg.com/event/sugar-sugar-8/
CATEGORIES:Music
END:VEVENT
END:VCALENDAR