BEGIN:VCALENDAR
VERSION:2.0
PRODID:-//Access Winnipeg - ECPv6.15.20//NONSGML v1.0//EN
CALSCALE:GREGORIAN
METHOD:PUBLISH
X-ORIGINAL-URL:https://accesswinnipeg.com
X-WR-CALDESC:Events for Access Winnipeg
REFRESH-INTERVAL;VALUE=DURATION:PT1H
X-Robots-Tag:noindex
X-PUBLISHED-TTL:PT1H
BEGIN:VTIMEZONE
TZID:America/Winnipeg
BEGIN:DAYLIGHT
TZOFFSETFROM:-0600
TZOFFSETTO:-0500
TZNAME:CDT
DTSTART:20170312T080000
END:DAYLIGHT
BEGIN:STANDARD
TZOFFSETFROM:-0500
TZOFFSETTO:-0600
TZNAME:CST
DTSTART:20171105T070000
END:STANDARD
BEGIN:DAYLIGHT
TZOFFSETFROM:-0600
TZOFFSETTO:-0500
TZNAME:CDT
DTSTART:20180311T080000
END:DAYLIGHT
BEGIN:STANDARD
TZOFFSETFROM:-0500
TZOFFSETTO:-0600
TZNAME:CST
DTSTART:20181104T070000
END:STANDARD
BEGIN:DAYLIGHT
TZOFFSETFROM:-0600
TZOFFSETTO:-0500
TZNAME:CDT
DTSTART:20190310T080000
END:DAYLIGHT
BEGIN:STANDARD
TZOFFSETFROM:-0500
TZOFFSETTO:-0600
TZNAME:CST
DTSTART:20191103T070000
END:STANDARD
END:VTIMEZONE
BEGIN:VEVENT
DTSTART;TZID=America/Winnipeg:20180925T000000
DTEND;TZID=America/Winnipeg:20180926T000000
DTSTAMP:20260423T174035
CREATED:20180924T234957Z
LAST-MODIFIED:20180926T011944Z
UID:59269-1537833600-1537920000@accesswinnipeg.com
SUMMARY:Kevin Hogg/Open Mic
DESCRIPTION:Venue: Sonix Bar & Grill	 423 Mcmillan Ave	 Winnipeg Promoters: The Village Idiots The Village Idiots Open Mic is every Tuesday at Sonix Bar and Grill (at confusion corner) and hosted by Kevin Hogg from Bright Righteous. Bring an instrument\, play Kev’s guitar or simply come down and enjoy the music!  Sign up at 8\, music at 8:30pm :) 
URL:https://accesswinnipeg.com/event/kevin-hogg-open-mic/
CATEGORIES:Music
END:VEVENT
BEGIN:VEVENT
DTSTART;TZID=America/Winnipeg:20180926T000000
DTEND;TZID=America/Winnipeg:20180927T000000
DTSTAMP:20260423T174035
CREATED:20180924T234957Z
LAST-MODIFIED:20180927T011951Z
UID:59273-1537920000-1538006400@accesswinnipeg.com
SUMMARY:Bluestem
DESCRIPTION:Venue: Metropolitan Entertainment Centre	 281 Donald Street	 Winnipeg Live at 5 – Rooftop Patio Series
URL:https://accesswinnipeg.com/event/bluestem/
CATEGORIES:Music
END:VEVENT
BEGIN:VEVENT
DTSTART;TZID=America/Winnipeg:20180926T000000
DTEND;TZID=America/Winnipeg:20180927T000000
DTSTAMP:20260423T174035
CREATED:20180924T234957Z
LAST-MODIFIED:20180927T011952Z
UID:59274-1537920000-1538006400@accesswinnipeg.com
SUMMARY:Polycoro\,Canadian Chamber Ensemble
DESCRIPTION:Venue: Westminster United Church	 745 Westminster Avenue	 Winnipeg
URL:https://accesswinnipeg.com/event/polycorocanadian-chamber-ensemble/
CATEGORIES:Music
END:VEVENT
BEGIN:VEVENT
DTSTART;TZID=America/Winnipeg:20180926T000000
DTEND;TZID=America/Winnipeg:20180927T000000
DTSTAMP:20260423T174035
CREATED:20180924T234957Z
LAST-MODIFIED:20180927T011951Z
UID:59270-1537920000-1538006400@accesswinnipeg.com
SUMMARY:Great Lake Swimmers
DESCRIPTION:Venue: West End Cultural Centre	 586 Ellice Avenue	 Winnipeg A Forest Of Arms is the sixth album from Tony Dekker\’s Great Lake Swimmers and the follow up to 2012\’s New Wild Everywhere. With a surging rhythm section\, razor-sharp violin\, and flourishing banjo and guitars\, Dekker and bandmates have pushed their sound significantly\, creating some of their most…
URL:https://accesswinnipeg.com/event/great-lake-swimmers/
CATEGORIES:Music
END:VEVENT
BEGIN:VEVENT
DTSTART;TZID=America/Winnipeg:20180926T000000
DTEND;TZID=America/Winnipeg:20180927T000000
DTSTAMP:20260423T174035
CREATED:20180924T234957Z
LAST-MODIFIED:20180927T011951Z
UID:59271-1537920000-1538006400@accesswinnipeg.com
SUMMARY:Open Mic: Rory Verbrugge
DESCRIPTION:Venue: Shannon\’s Irish Pub	 175 Carlton Street	 Winnipeg
URL:https://accesswinnipeg.com/event/open-mic-rory-verbrugge-5/
CATEGORIES:Music
END:VEVENT
BEGIN:VEVENT
DTSTART;TZID=America/Winnipeg:20180926T000000
DTEND;TZID=America/Winnipeg:20180927T000000
DTSTAMP:20260423T174035
CREATED:20180924T234957Z
LAST-MODIFIED:20180927T011951Z
UID:59272-1537920000-1538006400@accesswinnipeg.com
SUMMARY:Mike Manny
DESCRIPTION:Venue: Palm Lounge	 222 Broadway	 Winnipeg
URL:https://accesswinnipeg.com/event/mike-manny/
CATEGORIES:Music
END:VEVENT
BEGIN:VEVENT
DTSTART;TZID=America/Winnipeg:20180926T000000
DTEND;TZID=America/Winnipeg:20180927T000000
DTSTAMP:20260423T174035
CREATED:20180926T011944Z
LAST-MODIFIED:20180927T011951Z
UID:59302-1537920000-1538006400@accesswinnipeg.com
SUMMARY:Fred Eaglesmith\,Tif Ginn
DESCRIPTION:Venue: Park Theatre	 698 Osborne Street	 Winnipeg
URL:https://accesswinnipeg.com/event/fred-eaglesmithtif-ginn/
CATEGORIES:Music
END:VEVENT
BEGIN:VEVENT
DTSTART;TZID=America/Winnipeg:20180926T000000
DTEND;TZID=America/Winnipeg:20180927T000000
DTSTAMP:20260423T174035
CREATED:20180927T011952Z
LAST-MODIFIED:20180927T011952Z
UID:59325-1537920000-1538006400@accesswinnipeg.com
SUMMARY:waNda wilsoN
DESCRIPTION:Venue: Pop up performance	 Kennedy and Graham Street	 Winnipeg Promoters: Manitoba Arts Council (MAC) On Wednesday\, September 26\, from noon-1pm\, the Winnipeg Arts Council are offering a sneak peek of their newest public artworks. All are welcome to join as singer/songwriter wanda wilson plays a short acoustic set at the Downtown Winnipeg BIZ’s pop-up at Kennedy and Graham. During the performance\,…
URL:https://accesswinnipeg.com/event/wanda-wilson-3/
CATEGORIES:Music
END:VEVENT
BEGIN:VEVENT
DTSTART;TZID=America/Winnipeg:20180926T000000
DTEND;TZID=America/Winnipeg:20180927T000000
DTSTAMP:20260423T174035
CREATED:20180927T011952Z
LAST-MODIFIED:20180927T011952Z
UID:59326-1537920000-1538006400@accesswinnipeg.com
SUMMARY:Wine Wednesday: Nazeem Lakay\,Joe Curtis
DESCRIPTION:Venue: Pony Corral Pier 7	 1700 Pembina Highway	 Winnipeg
URL:https://accesswinnipeg.com/event/wine-wednesday-nazeem-lakayjoe-curtis/
CATEGORIES:Music
END:VEVENT
BEGIN:VEVENT
DTSTART;TZID=America/Winnipeg:20180926T000000
DTEND;TZID=America/Winnipeg:20180927T000000
DTSTAMP:20260423T174035
CREATED:20180927T011952Z
LAST-MODIFIED:20180927T011952Z
UID:59324-1537920000-1538006400@accesswinnipeg.com
SUMMARY:Free Morgan
DESCRIPTION:Venue: Cavern	 112 Osborne Street	 Winnipeg Come down to the Cavern and watch some sweet local talent.
URL:https://accesswinnipeg.com/event/free-morgan/
CATEGORIES:Music
END:VEVENT
BEGIN:VEVENT
DTSTART;TZID=America/Winnipeg:20180927T000000
DTEND;TZID=America/Winnipeg:20180928T000000
DTSTAMP:20260423T174035
CREATED:20180927T011952Z
LAST-MODIFIED:20180928T011944Z
UID:59327-1538006400-1538092800@accesswinnipeg.com
SUMMARY:Jazz at the Station: Brian Chipney & Tim Cummings Trio\,Nadia Douglas\,Darren Ritchie\,Burton Trio\,Ken Gold\,Larry Roy\,Candice Tugby\,Sean Irvine\,Neil Watson\,Philippe Meunier
DESCRIPTION:Venue: Resto Gare	 630 Des Meurons	 Winnipeg Join us for \”Jazz at the Station\” every Thursday evening from 6:30 to 8:30! When the weather cooperates we\’re outside on the patio. If that isn\’t possible\, the music moves inside to our elegant dining room. Either way\, you\’ll hear the finest in Winnipeg jazz talent each Thursday at Resto Gare! …
URL:https://accesswinnipeg.com/event/jazz-at-the-station-brian-chipney-tim-cummings-trionadia-douglasdarren-ritchieburton-trioken-goldlarry-roycandice-tugbysean-irvineneil-watsonphilippe-meunier-4/
CATEGORIES:Music
END:VEVENT
BEGIN:VEVENT
DTSTART;TZID=America/Winnipeg:20180927T000000
DTEND;TZID=America/Winnipeg:20180928T000000
DTSTAMP:20260423T174035
CREATED:20180927T011952Z
LAST-MODIFIED:20180928T011944Z
UID:59328-1538006400-1538092800@accesswinnipeg.com
SUMMARY:Open Mic: David Greene
DESCRIPTION:Venue: Wee Johnny\’s Irish Pub	 177 McDemot Avenue	 Winnipeg
URL:https://accesswinnipeg.com/event/open-mic-david-greene/
CATEGORIES:Music
END:VEVENT
BEGIN:VEVENT
DTSTART;TZID=America/Winnipeg:20180927T000000
DTEND;TZID=America/Winnipeg:20180928T000000
DTSTAMP:20260423T174035
CREATED:20180927T011952Z
LAST-MODIFIED:20180928T011944Z
UID:59329-1538006400-1538092800@accesswinnipeg.com
SUMMARY:Open Mic with Derrick McCandless: Derrick McCandless
DESCRIPTION:Venue: Sam\’s Place	 159 Henderson Highway	 Winnipeg Come by a 6:45 to sign up and perform a song or two you wrote.
URL:https://accesswinnipeg.com/event/open-mic-with-derrick-mccandless-derrick-mccandless-6/
CATEGORIES:Music
END:VEVENT
BEGIN:VEVENT
DTSTART;TZID=America/Winnipeg:20180927T000000
DTEND;TZID=America/Winnipeg:20180928T000000
DTSTAMP:20260423T174035
CREATED:20180928T011944Z
LAST-MODIFIED:20180928T011944Z
UID:59337-1538006400-1538092800@accesswinnipeg.com
SUMMARY:Big City Filter
DESCRIPTION:Venue: Shannon\’s Irish Pub	 175 Carlton Street	 Winnipeg
URL:https://accesswinnipeg.com/event/big-city-filter-3/
CATEGORIES:Music
END:VEVENT
BEGIN:VEVENT
DTSTART;TZID=America/Winnipeg:20180927T000000
DTEND;TZID=America/Winnipeg:20180928T000000
DTSTAMP:20260423T174035
CREATED:20180928T011944Z
LAST-MODIFIED:20180928T011944Z
UID:59336-1538006400-1538092800@accesswinnipeg.com
SUMMARY:The Tugbys
DESCRIPTION:Venue: King\’s Head Pub	 120 King Street	 Winnipeg Promoters: King\’s Head Pub Join us for an evening of live music at the King\’s Head Pub every Thursday night from 7-10pm.
URL:https://accesswinnipeg.com/event/the-tugbys-4/
CATEGORIES:Music
END:VEVENT
BEGIN:VEVENT
DTSTART;TZID=America/Winnipeg:20180927T000000
DTEND;TZID=America/Winnipeg:20180928T000000
DTSTAMP:20260423T174035
CREATED:20180928T011944Z
LAST-MODIFIED:20180928T011944Z
UID:59340-1538006400-1538092800@accesswinnipeg.com
SUMMARY:westmnstr\,Joko Tea\,Cole Shway
DESCRIPTION:Venue: The Good Will Social Club	 625 Portage Avenue	 Winnipeg
URL:https://accesswinnipeg.com/event/westmnstrjoko-teacole-shway/
CATEGORIES:Music
END:VEVENT
BEGIN:VEVENT
DTSTART;TZID=America/Winnipeg:20180927T000000
DTEND;TZID=America/Winnipeg:20180928T000000
DTSTAMP:20260423T174035
CREATED:20180928T011944Z
LAST-MODIFIED:20180928T011944Z
UID:59342-1538006400-1538092800@accesswinnipeg.com
SUMMARY:Curtis Newton
DESCRIPTION:Venue:  Nicolino\’s Restaurant	 4-2077 Pembina Highway	 Winnipeg
URL:https://accesswinnipeg.com/event/curtis-newton-7/
CATEGORIES:Music
END:VEVENT
BEGIN:VEVENT
DTSTART;TZID=America/Winnipeg:20180927T000000
DTEND;TZID=America/Winnipeg:20180928T000000
DTSTAMP:20260423T174035
CREATED:20180928T011944Z
LAST-MODIFIED:20180928T011944Z
UID:59339-1538006400-1538092800@accesswinnipeg.com
SUMMARY:Grant Leutschaft
DESCRIPTION:Venue: Palm Lounge	 222 Broadway	 Winnipeg
URL:https://accesswinnipeg.com/event/grant-leutschaft-4/
CATEGORIES:Music
END:VEVENT
BEGIN:VEVENT
DTSTART;TZID=America/Winnipeg:20180927T000000
DTEND;TZID=America/Winnipeg:20180928T000000
DTSTAMP:20260423T174035
CREATED:20180928T011945Z
LAST-MODIFIED:20180928T011945Z
UID:59345-1538006400-1538092800@accesswinnipeg.com
SUMMARY:Del Suelo\,Juvel\,Nate Hilts
DESCRIPTION:Venue: Times Change(d) High & Lonesome Club	 234 Main Street	 Winnipeg Del Suelo — Western Canadian album and novel release party! Del Suelo is a funky/alternative band from Saskatchewan performing as a trio. Wrist Shot Records and Books presents the new release: \”The Musician\’s Compass: A 12 Step Programme\”. A project about the highs and lows of a punk band on …
URL:https://accesswinnipeg.com/event/del-suelojuvelnate-hilts/
CATEGORIES:Music
END:VEVENT
BEGIN:VEVENT
DTSTART;TZID=America/Winnipeg:20180927T000000
DTEND;TZID=America/Winnipeg:20180928T000000
DTSTAMP:20260423T174035
CREATED:20180928T011945Z
LAST-MODIFIED:20180928T011945Z
UID:59346-1538006400-1538092800@accesswinnipeg.com
SUMMARY:Jammin\'
DESCRIPTION:Venue: Belgian Club	 407 Provencher Boulevard	 Winnipeg Come jam live with me and my talented friends at Winnipeg\’s Belgian Club 407 Provencher Blvd. Hosted weekly by Beg Borrow & Steel\, Winnipeg\’s best blues/rock jam hosts! Open to all levels of performers!
URL:https://accesswinnipeg.com/event/jammin-2/
CATEGORIES:Music
END:VEVENT
BEGIN:VEVENT
DTSTART;TZID=America/Winnipeg:20180927T000000
DTEND;TZID=America/Winnipeg:20180928T000000
DTSTAMP:20260423T174035
CREATED:20180928T011945Z
LAST-MODIFIED:20180928T011945Z
UID:59344-1538006400-1538092800@accesswinnipeg.com
SUMMARY:Rob Knaggs
DESCRIPTION:Venue: Forth	 171 McDermot Ave	 Winnipeg
URL:https://accesswinnipeg.com/event/rob-knaggs/
CATEGORIES:Music
END:VEVENT
BEGIN:VEVENT
DTSTART;TZID=America/Winnipeg:20180928T000000
DTEND;TZID=America/Winnipeg:20180929T000000
DTSTAMP:20260423T174035
CREATED:20180928T011945Z
LAST-MODIFIED:20180929T011950Z
UID:59347-1538092800-1538179200@accesswinnipeg.com
SUMMARY:This Place on Treaty 1 Territory & Homeland of the Metis Nation: Leonard Sumner\,The Help Wanteds\,Asham Stompers\,Nikki Komaksiutiksak\,Ray (Co-Co) Stevenson & The Walking Wolf Singers
DESCRIPTION:Venue: Air Canada Park 	 345 Portage Ave	 Winnipeg Promoters: Winnipeg Arts Council The Winnipeg Arts Council will unveil four new public artworks by Indigenous artists at a free celebration on Friday\, September 28 from 3:30-6:30pm in Air Canada Park on the corner of Portage Avenue and Carlton Street. All are welcome to join for ART\, MUSIC & FOOD to celebrate THIS PLACE on Treat…
URL:https://accesswinnipeg.com/event/this-place-on-treaty-1-territory-homeland-of-the-metis-nation-leonard-sumnerthe-help-wantedsasham-stompersnikki-komaksiutiksakray-co-co-stevenson-the-walking-wolf-singers/
CATEGORIES:Music
END:VEVENT
BEGIN:VEVENT
DTSTART;TZID=America/Winnipeg:20180928T000000
DTEND;TZID=America/Winnipeg:20180929T000000
DTSTAMP:20260423T174035
CREATED:20180929T011949Z
LAST-MODIFIED:20180929T011949Z
UID:59354-1538092800-1538179200@accesswinnipeg.com
SUMMARY:Electric Feel
DESCRIPTION:Venue: The Wood Tavern	 112 Marion St.	 Winnipeg Nothing sets the mood for a night of fun like a bit of live music. Every weekend we’ve got the best and latest talent we can find with rock\, blues\, jazz\, folk and cover bands performing every Friday and Saturday night. No cover for the summer!
URL:https://accesswinnipeg.com/event/electric-feel/
CATEGORIES:Music
END:VEVENT
BEGIN:VEVENT
DTSTART;TZID=America/Winnipeg:20180928T000000
DTEND;TZID=America/Winnipeg:20180929T000000
DTSTAMP:20260423T174035
CREATED:20180929T011949Z
LAST-MODIFIED:20180929T011949Z
UID:59355-1538092800-1538179200@accesswinnipeg.com
SUMMARY:Paul McCartney
DESCRIPTION:Venue: Bell MTS Place	 260 Hargrave Street	 Winnipeg Paul McCartney will make his eagerly anticipated return to the road with his new Freshen Up tour. Four confirmed dates were announced this morning\, marking Paul’s first series of live dates since the One On One Tour that played to some two million fans over the course of 2016 and 2017. The Fre…
URL:https://accesswinnipeg.com/event/paul-mccartney-2/
CATEGORIES:Music
END:VEVENT
BEGIN:VEVENT
DTSTART;TZID=America/Winnipeg:20180928T000000
DTEND;TZID=America/Winnipeg:20180929T000000
DTSTAMP:20260423T174035
CREATED:20180929T011949Z
LAST-MODIFIED:20180929T011949Z
UID:59356-1538092800-1538179200@accesswinnipeg.com
SUMMARY:Open Mic
DESCRIPTION:Venue: Strong Badger Coffeehouse	 679 Sargent Avenue	 Winnipeg Come out and share your music\, poetry\, or whatever else inspires you! Ten minute sets\, and registration begins at 5:30!
URL:https://accesswinnipeg.com/event/open-mic-16/
CATEGORIES:Music
END:VEVENT
BEGIN:VEVENT
DTSTART;TZID=America/Winnipeg:20180928T000000
DTEND;TZID=America/Winnipeg:20180929T000000
DTSTAMP:20260423T174035
CREATED:20180929T011949Z
LAST-MODIFIED:20180929T011949Z
UID:59357-1538092800-1538179200@accesswinnipeg.com
SUMMARY:Killick
DESCRIPTION:Venue: Anavets – John Osborn VC Unit #1	 300 – 1395 Ellice Ave	 Winnipeg Promoters: Ian Dawson Killick performs Celtic\, Maritimes  & Newfoundland music.  Happy hour prices & 50/50 draw to be held  $5.00 Cover Charge   (to support those performers  providing entertainment)   
URL:https://accesswinnipeg.com/event/killick-2/
CATEGORIES:Music
END:VEVENT
BEGIN:VEVENT
DTSTART;TZID=America/Winnipeg:20180928T000000
DTEND;TZID=America/Winnipeg:20180929T000000
DTSTAMP:20260423T174035
CREATED:20180929T011950Z
LAST-MODIFIED:20180929T011950Z
UID:59364-1538092800-1538179200@accesswinnipeg.com
SUMMARY:Halo Jump
DESCRIPTION:Venue: Royal Canadian Legion No. 4	 1755 Portage Avenue 	 Winnipeg
URL:https://accesswinnipeg.com/event/halo-jump/
CATEGORIES:Music
END:VEVENT
BEGIN:VEVENT
DTSTART;TZID=America/Winnipeg:20180928T000000
DTEND;TZID=America/Winnipeg:20180929T000000
DTSTAMP:20260423T174035
CREATED:20180929T011950Z
LAST-MODIFIED:20180929T011950Z
UID:59358-1538092800-1538179200@accesswinnipeg.com
SUMMARY:Brian Paul
DESCRIPTION:Venue: Palm Lounge	 222 Broadway	 Winnipeg
URL:https://accesswinnipeg.com/event/brian-paul-3/
CATEGORIES:Music
END:VEVENT
BEGIN:VEVENT
DTSTART;TZID=America/Winnipeg:20180928T000000
DTEND;TZID=America/Winnipeg:20180929T000000
DTSTAMP:20260423T174035
CREATED:20180929T011950Z
LAST-MODIFIED:20180929T011950Z
UID:59365-1538092800-1538179200@accesswinnipeg.com
SUMMARY:Comhaltas
DESCRIPTION:Venue: Sam\’s Place	 159 Henderson Highway	 Winnipeg Comhaltas Ceoloiri Eireann (pronounced coal-tis kyol-tory air-in) is an International Organization dedicated to the preservation and enjoyment of Traditional Irish music\, dance\, language\, and culture. Founded in 1951 in Ireland\, Comhaltas has grown to encompass four continents\, with over 400 bran…
URL:https://accesswinnipeg.com/event/comhaltas-4/
CATEGORIES:Music
END:VEVENT
BEGIN:VEVENT
DTSTART;TZID=America/Winnipeg:20180928T000000
DTEND;TZID=America/Winnipeg:20180929T000000
DTSTAMP:20260423T174035
CREATED:20180929T011950Z
LAST-MODIFIED:20180929T011950Z
UID:59359-1538092800-1538179200@accesswinnipeg.com
SUMMARY:Woody Holler and His Orchestra
DESCRIPTION:Venue: Palm Lounge	 222 Broadway	 Winnipeg
URL:https://accesswinnipeg.com/event/woody-holler-and-his-orchestra-3/
CATEGORIES:Music
END:VEVENT
END:VCALENDAR