BEGIN:VCALENDAR
VERSION:2.0
PRODID:-//Access Winnipeg - ECPv6.15.20//NONSGML v1.0//EN
CALSCALE:GREGORIAN
METHOD:PUBLISH
X-ORIGINAL-URL:https://accesswinnipeg.com
X-WR-CALDESC:Events for Access Winnipeg
REFRESH-INTERVAL;VALUE=DURATION:PT1H
X-Robots-Tag:noindex
X-PUBLISHED-TTL:PT1H
BEGIN:VTIMEZONE
TZID:America/Winnipeg
BEGIN:DAYLIGHT
TZOFFSETFROM:-0600
TZOFFSETTO:-0500
TZNAME:CDT
DTSTART:20170312T080000
END:DAYLIGHT
BEGIN:STANDARD
TZOFFSETFROM:-0500
TZOFFSETTO:-0600
TZNAME:CST
DTSTART:20171105T070000
END:STANDARD
BEGIN:DAYLIGHT
TZOFFSETFROM:-0600
TZOFFSETTO:-0500
TZNAME:CDT
DTSTART:20180311T080000
END:DAYLIGHT
BEGIN:STANDARD
TZOFFSETFROM:-0500
TZOFFSETTO:-0600
TZNAME:CST
DTSTART:20181104T070000
END:STANDARD
BEGIN:DAYLIGHT
TZOFFSETFROM:-0600
TZOFFSETTO:-0500
TZNAME:CDT
DTSTART:20190310T080000
END:DAYLIGHT
BEGIN:STANDARD
TZOFFSETFROM:-0500
TZOFFSETTO:-0600
TZNAME:CST
DTSTART:20191103T070000
END:STANDARD
END:VTIMEZONE
BEGIN:VEVENT
DTSTART;TZID=America/Winnipeg:20180928T000000
DTEND;TZID=America/Winnipeg:20180929T000000
DTSTAMP:20260425T194132
CREATED:20180929T011950Z
LAST-MODIFIED:20180929T011950Z
UID:59365-1538092800-1538179200@accesswinnipeg.com
SUMMARY:Comhaltas
DESCRIPTION:Venue: Sam\’s Place	 159 Henderson Highway	 Winnipeg Comhaltas Ceoloiri Eireann (pronounced coal-tis kyol-tory air-in) is an International Organization dedicated to the preservation and enjoyment of Traditional Irish music\, dance\, language\, and culture. Founded in 1951 in Ireland\, Comhaltas has grown to encompass four continents\, with over 400 bran…
URL:https://accesswinnipeg.com/event/comhaltas-4/
CATEGORIES:Music
END:VEVENT
BEGIN:VEVENT
DTSTART;TZID=America/Winnipeg:20180928T000000
DTEND;TZID=America/Winnipeg:20180929T000000
DTSTAMP:20260425T194132
CREATED:20180929T011950Z
LAST-MODIFIED:20180929T011950Z
UID:59359-1538092800-1538179200@accesswinnipeg.com
SUMMARY:Woody Holler and His Orchestra
DESCRIPTION:Venue: Palm Lounge	 222 Broadway	 Winnipeg
URL:https://accesswinnipeg.com/event/woody-holler-and-his-orchestra-3/
CATEGORIES:Music
END:VEVENT
BEGIN:VEVENT
DTSTART;TZID=America/Winnipeg:20180928T000000
DTEND;TZID=America/Winnipeg:20180929T000000
DTSTAMP:20260425T194132
CREATED:20180929T011950Z
LAST-MODIFIED:20180929T011950Z
UID:59360-1538092800-1538179200@accesswinnipeg.com
SUMMARY:Urgez
DESCRIPTION:Venue: West Kildonan Legion	 1748 Main Street	 Winnipeg
URL:https://accesswinnipeg.com/event/urgez/
CATEGORIES:Music
END:VEVENT
BEGIN:VEVENT
DTSTART;TZID=America/Winnipeg:20181001T000000
DTEND;TZID=America/Winnipeg:20181002T000000
DTSTAMP:20260425T194132
CREATED:20181001T013444Z
LAST-MODIFIED:20181002T013449Z
UID:59373-1538352000-1538438400@accesswinnipeg.com
SUMMARY:Allan Andrusco
DESCRIPTION:Venue: Palm Lounge	 222 Broadway	 Winnipeg
URL:https://accesswinnipeg.com/event/allan-andrusco-4/
CATEGORIES:Music
END:VEVENT
BEGIN:VEVENT
DTSTART;TZID=America/Winnipeg:20181001T000000
DTEND;TZID=America/Winnipeg:20181002T000000
DTSTAMP:20260425T194132
CREATED:20181001T013444Z
LAST-MODIFIED:20181002T013449Z
UID:59372-1538352000-1538438400@accesswinnipeg.com
SUMMARY:Youth Fountain\,NO LIARS\,Escape From Echo Base\,A Grizzly Fate
DESCRIPTION:Venue: Park Theatre	 698 Osborne Street	 Winnipeg
URL:https://accesswinnipeg.com/event/youth-fountainno-liarsescape-from-echo-basea-grizzly-fate/
CATEGORIES:Music
END:VEVENT
BEGIN:VEVENT
DTSTART;TZID=America/Winnipeg:20181002T000000
DTEND;TZID=America/Winnipeg:20181003T000000
DTSTAMP:20260425T194132
CREATED:20181001T013444Z
LAST-MODIFIED:20181003T013443Z
UID:59374-1538438400-1538524800@accesswinnipeg.com
SUMMARY:Sugar-Sugar
DESCRIPTION:Venue: Sherbrook Inn	 685 Westminster Avenue	 Winnipeg
URL:https://accesswinnipeg.com/event/sugar-sugar-9/
CATEGORIES:Music
END:VEVENT
BEGIN:VEVENT
DTSTART;TZID=America/Winnipeg:20181002T000000
DTEND;TZID=America/Winnipeg:20181003T000000
DTSTAMP:20260425T194132
CREATED:20181001T013444Z
LAST-MODIFIED:20181003T013443Z
UID:59375-1538438400-1538524800@accesswinnipeg.com
SUMMARY:Open Mic: Kevin Hogg
DESCRIPTION:Venue: Sonix Bar & Grill	 423 Mcmillan Ave	 Winnipeg Promoters: The Village Idiots The Village Idiots Open Mic is every Tuesday at Sonix Bar and Grill (at confusion corner) and hosted by Kevin Hogg from Bright Righteous. Bring an instrument\, play Kev’s guitar or simply come down and enjoy the music!  Sign up at 8\, music at 8:30pm :) 
URL:https://accesswinnipeg.com/event/kevin-hogg-open-mic-2/
CATEGORIES:Music
END:VEVENT
BEGIN:VEVENT
DTSTART;TZID=America/Winnipeg:20181002T000000
DTEND;TZID=America/Winnipeg:20181003T000000
DTSTAMP:20260425T194132
CREATED:20181001T013444Z
LAST-MODIFIED:20181003T013443Z
UID:59376-1538438400-1538524800@accesswinnipeg.com
SUMMARY:Rick Boughton
DESCRIPTION:Venue: Palm Lounge	 222 Broadway	 Winnipeg
URL:https://accesswinnipeg.com/event/rick-boughton-5/
CATEGORIES:Music
END:VEVENT
BEGIN:VEVENT
DTSTART;TZID=America/Winnipeg:20181003T000000
DTEND;TZID=America/Winnipeg:20181004T000000
DTSTAMP:20260425T194132
CREATED:20181001T013444Z
LAST-MODIFIED:20181004T013444Z
UID:59377-1538524800-1538611200@accesswinnipeg.com
SUMMARY:RCL 252 Big Band
DESCRIPTION:Venue: South Osborne Legion	 426 Osborne Street	 Winnipeg
URL:https://accesswinnipeg.com/event/rcl-252-big-band/
CATEGORIES:Music
END:VEVENT
BEGIN:VEVENT
DTSTART;TZID=America/Winnipeg:20181003T000000
DTEND;TZID=America/Winnipeg:20181004T000000
DTSTAMP:20260425T194132
CREATED:20181002T013449Z
LAST-MODIFIED:20181004T013445Z
UID:59402-1538524800-1538611200@accesswinnipeg.com
SUMMARY:The Devil Wears Prada
DESCRIPTION:Venue: The Garrick	 330 Garry Street	 Winnipeg
URL:https://accesswinnipeg.com/event/the-devil-wears-prada/
CATEGORIES:Music
END:VEVENT
BEGIN:VEVENT
DTSTART;TZID=America/Winnipeg:20181003T000000
DTEND;TZID=America/Winnipeg:20181004T000000
DTSTAMP:20260425T194132
CREATED:20181002T013449Z
LAST-MODIFIED:20181004T013445Z
UID:59403-1538524800-1538611200@accesswinnipeg.com
SUMMARY:Earthless
DESCRIPTION:Venue: Park Theatre	 698 Osborne Street	 Winnipeg Promoters: Concert Works	 Timbre Concerts Featuring the Mad Alchemy Liquid Light Show. Instrumental psychedelic rock band from California\, on tour to support their latest release \”Black Heaven\”. 18+.
URL:https://accesswinnipeg.com/event/earthless/
CATEGORIES:Music
END:VEVENT
BEGIN:VEVENT
DTSTART;TZID=America/Winnipeg:20181003T000000
DTEND;TZID=America/Winnipeg:20181004T000000
DTSTAMP:20260425T194132
CREATED:20181002T013449Z
LAST-MODIFIED:20181004T013445Z
UID:59404-1538524800-1538611200@accesswinnipeg.com
SUMMARY:New Music Night: Big Foot Yeti\,Two Hip\,Right On Yukon
DESCRIPTION:Venue: The Good Will Social Club	 625 Portage Avenue	 Winnipeg Promoters: Manitoba Music	 New Music Night $3 cover / 18+ / Doors at 7:30PM / Music at 8PM 9:30PM Big Foot Yeti 8:45PM Two Hip 8:00PM Right On Yukon Manitoba Music is teaming up with live music hot spot The Good Will to shine a spotlight on emerging local music. New Music Night offers music fans a space to find their next favourit…
URL:https://accesswinnipeg.com/event/new-music-night-big-foot-yetitwo-hipright-on-yukon/
CATEGORIES:Music
END:VEVENT
BEGIN:VEVENT
DTSTART;TZID=America/Winnipeg:20181003T000000
DTEND;TZID=America/Winnipeg:20181004T000000
DTSTAMP:20260425T194132
CREATED:20181002T013449Z
LAST-MODIFIED:20181004T013445Z
UID:59405-1538524800-1538611200@accesswinnipeg.com
SUMMARY:Mike Manny
DESCRIPTION:Venue: Palm Lounge	 222 Broadway	 Winnipeg
URL:https://accesswinnipeg.com/event/mike-manny-2/
CATEGORIES:Music
END:VEVENT
BEGIN:VEVENT
DTSTART;TZID=America/Winnipeg:20181003T000000
DTEND;TZID=America/Winnipeg:20181004T000000
DTSTAMP:20260425T194132
CREATED:20181002T013449Z
LAST-MODIFIED:20181004T013444Z
UID:59401-1538524800-1538611200@accesswinnipeg.com
SUMMARY:Jonny Lang\,Mavis Staples
DESCRIPTION:Venue: Burton Cummings Theatre for the Performing Arts	 364 Smith Street	 Winnipeg True North Sports + Entertainment (TNSE) presents two GRAMMY award winning legends as Blues icon Jonny Lang and Rock n’ Roll Hall of Fame inductee Mavis Staples will perform at the Burton Cummings Theatre\, October 3. The co-headliners will bring all their hits to the stage for one night only. …
URL:https://accesswinnipeg.com/event/jonny-langmavis-staples/
CATEGORIES:Music
END:VEVENT
BEGIN:VEVENT
DTSTART;TZID=America/Winnipeg:20181003T000000
DTEND;TZID=America/Winnipeg:20181004T000000
DTSTAMP:20260425T194132
CREATED:20181002T013450Z
LAST-MODIFIED:20181002T013450Z
UID:59406-1538524800-1538611200@accesswinnipeg.com
SUMMARY:Wine Wednesday: Nazeem Lakay\,Joe Curtis
DESCRIPTION:Venue: Pony Corral Pier 7	 1700 Pembina Highway	 Winnipeg
URL:https://accesswinnipeg.com/event/wine-wednesday-nazeem-lakayjoe-curtis-2/
CATEGORIES:Music
END:VEVENT
BEGIN:VEVENT
DTSTART;TZID=America/Winnipeg:20181003T000000
DTEND;TZID=America/Winnipeg:20181004T000000
DTSTAMP:20260425T194132
CREATED:20181003T013444Z
LAST-MODIFIED:20181004T013445Z
UID:59425-1538524800-1538611200@accesswinnipeg.com
SUMMARY:Wine Wednesday: Jeff Adams\,Chris Allarie
DESCRIPTION:Venue: Pony Corral Pier 7	 1700 Pembina Highway	 Winnipeg
URL:https://accesswinnipeg.com/event/wine-wednesday-jeff-adamschris-allarie/
CATEGORIES:Music
END:VEVENT
BEGIN:VEVENT
DTSTART;TZID=America/Winnipeg:20181004T000000
DTEND;TZID=America/Winnipeg:20181005T000000
DTSTAMP:20260425T194132
CREATED:20181003T013444Z
LAST-MODIFIED:20181005T014943Z
UID:59426-1538611200-1538697600@accesswinnipeg.com
SUMMARY:Brazilian Vibe
DESCRIPTION:Venue: Sky Walk Concert series\, Millenium Library	 251 Donald Street	 Winnipeg Brazilian vibe trio with Guylaina (voice)\, Marco Castillo (voice&guitar) and Davidian (flute)
URL:https://accesswinnipeg.com/event/brazilian-vibe/
CATEGORIES:Music
END:VEVENT
BEGIN:VEVENT
DTSTART;TZID=America/Winnipeg:20181004T000000
DTEND;TZID=America/Winnipeg:20181005T000000
DTSTAMP:20260425T194132
CREATED:20181003T013444Z
LAST-MODIFIED:20181005T014944Z
UID:59427-1538611200-1538697600@accesswinnipeg.com
SUMMARY:The Cloutiers\,The Sunset Vibe
DESCRIPTION:Venue: Park Theatre	 698 Osborne Street	 Winnipeg The Cloutiers will be playing The Park Theater on Thursday\, October 4th with The Sunset Vibe as the opening act. Doors open at 6 p.m with The Sunset Vibe taking the stage at 7 and the Cloutiers at 8.
URL:https://accesswinnipeg.com/event/the-cloutiersthe-sunset-vibe/
CATEGORIES:Music
END:VEVENT
BEGIN:VEVENT
DTSTART;TZID=America/Winnipeg:20181004T000000
DTEND;TZID=America/Winnipeg:20181005T000000
DTSTAMP:20260425T194132
CREATED:20181004T013445Z
LAST-MODIFIED:20181005T014944Z
UID:59435-1538611200-1538697600@accesswinnipeg.com
SUMMARY:Open Mic with Derrick McCandless: Derrick McCandless
DESCRIPTION:Venue: Sam\’s Place	 159 Henderson Highway	 Winnipeg Come by a 6:45 to sign up and perform a song or two you wrote.
URL:https://accesswinnipeg.com/event/open-mic-with-derrick-mccandless-derrick-mccandless-7/
CATEGORIES:Music
END:VEVENT
BEGIN:VEVENT
DTSTART;TZID=America/Winnipeg:20181004T000000
DTEND;TZID=America/Winnipeg:20181005T000000
DTSTAMP:20260425T194132
CREATED:20181004T013445Z
LAST-MODIFIED:20181005T014944Z
UID:59432-1538611200-1538697600@accesswinnipeg.com
SUMMARY:Rocky Mountain High: An Evening of John Denver: Lee Holdridge\,Winnipeg Symphony Orchestra
DESCRIPTION:Venue: Centennial Concert Hall	 555 Main Street	 Winnipeg Global News Radio 680 CJOB is proud to present Rocky Mountain High – An Evening of John Denver. John Denver’s internationally acclaimed composer/conductor/arranger Lee Holdridge will conduct special guest the Winnipeg Symphony Orchestra in an incredible music tribute. Featuring vocals by Canadian…
URL:https://accesswinnipeg.com/event/rocky-mountain-high-an-evening-of-john-denver-lee-holdridgewinnipeg-symphony-orchestra/
CATEGORIES:Music
END:VEVENT
BEGIN:VEVENT
DTSTART;TZID=America/Winnipeg:20181004T000000
DTEND;TZID=America/Winnipeg:20181005T000000
DTSTAMP:20260425T194132
CREATED:20181004T013445Z
LAST-MODIFIED:20181005T014944Z
UID:59433-1538611200-1538697600@accesswinnipeg.com
SUMMARY:Jazz at the Station: Brian Chipney & Tim Cummings Trio\,Nadia Douglas\,Darren Ritchie\,Burton Trio\,Ken Gold\,Larry Roy\,Candice Tugby\,Sean Irvine\,Neil Watson\,Philippe Meunier
DESCRIPTION:Venue: Resto Gare	 630 Des Meurons	 Winnipeg Join us for \”Jazz at the Station\” every Thursday evening from 6:30 to 8:30! When the weather cooperates we\’re outside on the patio. If that isn\’t possible\, the music moves inside to our elegant dining room. Either way\, you\’ll hear the finest in Winnipeg jazz talent each Thursday at Resto Gare! …
URL:https://accesswinnipeg.com/event/jazz-at-the-station-brian-chipney-tim-cummings-trionadia-douglasdarren-ritchieburton-trioken-goldlarry-roycandice-tugbysean-irvineneil-watsonphilippe-meunier-5/
CATEGORIES:Music
END:VEVENT
BEGIN:VEVENT
DTSTART;TZID=America/Winnipeg:20181004T000000
DTEND;TZID=America/Winnipeg:20181005T000000
DTSTAMP:20260425T194132
CREATED:20181005T014944Z
LAST-MODIFIED:20181005T014944Z
UID:59470-1538611200-1538697600@accesswinnipeg.com
SUMMARY:TUSK\,VERITAH\,Death Cassette
DESCRIPTION:Venue: The Good Will Social Club	 625 Portage Avenue	 Winnipeg
URL:https://accesswinnipeg.com/event/tuskveritahdeath-cassette/
CATEGORIES:Music
END:VEVENT
BEGIN:VEVENT
DTSTART;TZID=America/Winnipeg:20181004T000000
DTEND;TZID=America/Winnipeg:20181005T000000
DTSTAMP:20260425T194132
CREATED:20181005T014944Z
LAST-MODIFIED:20181005T014944Z
UID:59463-1538611200-1538697600@accesswinnipeg.com
SUMMARY:Merkules\,Caspian\,Lil Windex\,Evil Ebenezer\,Luca Mele & The MG\,C the Gray\,Jay Puzzle\,DJ Scotty Wu\,DJ Dienamix
DESCRIPTION:Venue: Pyramid Cabaret	 176 Fort Street	 Winnipeg 18+.
URL:https://accesswinnipeg.com/event/merkulescaspianlil-windexevil-ebenezerluca-mele-the-mgc-the-grayjay-puzzledj-scotty-wudj-dienamix/
CATEGORIES:Music
END:VEVENT
BEGIN:VEVENT
DTSTART;TZID=America/Winnipeg:20181004T000000
DTEND;TZID=America/Winnipeg:20181005T000000
DTSTAMP:20260425T194132
CREATED:20181005T014944Z
LAST-MODIFIED:20181005T014944Z
UID:59471-1538611200-1538697600@accesswinnipeg.com
SUMMARY:Kieran West Band\,Danny Z & the Riff Raff
DESCRIPTION:Venue: Times Change(d) High & Lonesome Club	 234 Main Street	 Winnipeg
URL:https://accesswinnipeg.com/event/kieran-west-banddanny-z-the-riff-raff/
CATEGORIES:Music
END:VEVENT
BEGIN:VEVENT
DTSTART;TZID=America/Winnipeg:20181004T000000
DTEND;TZID=America/Winnipeg:20181005T000000
DTSTAMP:20260425T194132
CREATED:20181005T014944Z
LAST-MODIFIED:20181005T014944Z
UID:59465-1538611200-1538697600@accesswinnipeg.com
SUMMARY:Curtis Newton
DESCRIPTION:Venue:  Nicolino\’s Restaurant	 4-2077 Pembina Highway	 Winnipeg
URL:https://accesswinnipeg.com/event/curtis-newton-8/
CATEGORIES:Music
END:VEVENT
BEGIN:VEVENT
DTSTART;TZID=America/Winnipeg:20181004T000000
DTEND;TZID=America/Winnipeg:20181005T000000
DTSTAMP:20260425T194132
CREATED:20181005T014944Z
LAST-MODIFIED:20181005T014944Z
UID:59467-1538611200-1538697600@accesswinnipeg.com
SUMMARY:Sophie Stevens\,Second Age\,Rob Knaggs
DESCRIPTION:Venue: The Handsome Daughter	 61 Sherbrook Street	 Winnipeg Promoters: Real Love Winnipeg Doors at 9:45 ~ Show at 10:15 18+ | $10 at the door Grab a Real Love Card and get in to every 5th RLT for FREE! Accessibility/policies: https://reallovewpg.com/accessibility-and-policies/ NO racism NO sexism NO homophobia NO transphobia NO ableism Check out our upcoming Real Love events: h…
URL:https://accesswinnipeg.com/event/sophie-stevenssecond-agerob-knaggs/
CATEGORIES:Music
END:VEVENT
BEGIN:VEVENT
DTSTART;TZID=America/Winnipeg:20181004T000000
DTEND;TZID=America/Winnipeg:20181005T000000
DTSTAMP:20260425T194132
CREATED:20181005T014944Z
LAST-MODIFIED:20181005T014944Z
UID:59468-1538611200-1538697600@accesswinnipeg.com
SUMMARY:Jammin\'
DESCRIPTION:Venue: Belgian Club	 407 Provencher Boulevard	 Winnipeg Come jam live with me and my talented friends at Winnipeg\’s Belgian Club 407 Provencher Blvd. Hosted weekly by Beg Borrow & Steel\, Winnipeg\’s best blues/rock jam hosts! Open to all levels of performers!
URL:https://accesswinnipeg.com/event/jammin-3/
CATEGORIES:Music
END:VEVENT
BEGIN:VEVENT
DTSTART;TZID=America/Winnipeg:20181004T000000
DTEND;TZID=America/Winnipeg:20181005T000000
DTSTAMP:20260425T194132
CREATED:20181005T014944Z
LAST-MODIFIED:20181005T014944Z
UID:59469-1538611200-1538697600@accesswinnipeg.com
SUMMARY:Ron Halldorson
DESCRIPTION:Venue: Palm Lounge	 222 Broadway	 Winnipeg
URL:https://accesswinnipeg.com/event/ron-halldorson-2/
CATEGORIES:Music
END:VEVENT
BEGIN:VEVENT
DTSTART;TZID=America/Winnipeg:20181005T000000
DTEND;TZID=America/Winnipeg:20181006T000000
DTSTAMP:20260425T194132
CREATED:20181006T014941Z
LAST-MODIFIED:20181006T014941Z
UID:59479-1538697600-1538784000@accesswinnipeg.com
SUMMARY:Monika Wall Album Release: Monika Wall
DESCRIPTION:Venue: West End Cultural Centre	 586 Ellice Avenue	 Winnipeg With a career that spans opera\, musical theatre\, jazz and folk\, singer/songwriter Monika Wall has a deep well to draw from. Her music has been described as cinematic with each song creating a vignette of sound and mood. Since her call to songwriting\, when 3 unknown songs woke her out of her sleep…
URL:https://accesswinnipeg.com/event/monika-wall-album-release-monika-wall/
CATEGORIES:Music
END:VEVENT
BEGIN:VEVENT
DTSTART;TZID=America/Winnipeg:20181005T000000
DTEND;TZID=America/Winnipeg:20181006T000000
DTSTAMP:20260425T194132
CREATED:20181006T014941Z
LAST-MODIFIED:20181006T014941Z
UID:59480-1538697600-1538784000@accesswinnipeg.com
SUMMARY:Singing Cowboy & Dawn of a New Day
DESCRIPTION:Venue: Anavets – John Osborn VC Unit #1	 300-1395 Ellice Ave	 Winnipeg Promoters: Ian Dawson Billy Dudek and Dawn Charleyn present a fresh and distinctive sound of traditional Country & Folk.
URL:https://accesswinnipeg.com/event/singing-cowboy-dawn-of-a-new-day/
CATEGORIES:Music
END:VEVENT
END:VCALENDAR