BEGIN:VCALENDAR
VERSION:2.0
PRODID:-//Access Winnipeg - ECPv6.15.20//NONSGML v1.0//EN
CALSCALE:GREGORIAN
METHOD:PUBLISH
X-ORIGINAL-URL:https://accesswinnipeg.com
X-WR-CALDESC:Events for Access Winnipeg
REFRESH-INTERVAL;VALUE=DURATION:PT1H
X-Robots-Tag:noindex
X-PUBLISHED-TTL:PT1H
BEGIN:VTIMEZONE
TZID:America/Winnipeg
BEGIN:DAYLIGHT
TZOFFSETFROM:-0600
TZOFFSETTO:-0500
TZNAME:CDT
DTSTART:20130310T080000
END:DAYLIGHT
BEGIN:STANDARD
TZOFFSETFROM:-0500
TZOFFSETTO:-0600
TZNAME:CST
DTSTART:20131103T070000
END:STANDARD
BEGIN:DAYLIGHT
TZOFFSETFROM:-0600
TZOFFSETTO:-0500
TZNAME:CDT
DTSTART:20140309T080000
END:DAYLIGHT
BEGIN:STANDARD
TZOFFSETFROM:-0500
TZOFFSETTO:-0600
TZNAME:CST
DTSTART:20141102T070000
END:STANDARD
BEGIN:DAYLIGHT
TZOFFSETFROM:-0600
TZOFFSETTO:-0500
TZNAME:CDT
DTSTART:20150308T080000
END:DAYLIGHT
BEGIN:STANDARD
TZOFFSETFROM:-0500
TZOFFSETTO:-0600
TZNAME:CST
DTSTART:20151101T070000
END:STANDARD
BEGIN:DAYLIGHT
TZOFFSETFROM:-0600
TZOFFSETTO:-0500
TZNAME:CDT
DTSTART:20160313T080000
END:DAYLIGHT
BEGIN:STANDARD
TZOFFSETFROM:-0500
TZOFFSETTO:-0600
TZNAME:CST
DTSTART:20161106T070000
END:STANDARD
END:VTIMEZONE
BEGIN:VEVENT
DTSTART;TZID=America/Winnipeg:20150103T190000
DTEND;TZID=America/Winnipeg:20150103T220000
DTSTAMP:20260422T213259
CREATED:20140623T142229Z
LAST-MODIFIED:20140623T142352Z
UID:30635-1420311600-1420322400@accesswinnipeg.com
SUMMARY:Toronto at Winnipeg
DESCRIPTION:National broadcasts: HNIC
URL:https://accesswinnipeg.com/event/toronto-at-winnipeg-2/
LOCATION:MTS Centre\, 300 Portage Ave\, Winnipeg\, Manitoba\, R3C 5S4\, Canada
CATEGORIES:Sports,Winnipeg Jets
END:VEVENT
BEGIN:VEVENT
DTSTART;TZID=America/Winnipeg:20141231T170000
DTEND;TZID=America/Winnipeg:20141231T200000
DTSTAMP:20260422T213259
CREATED:20140623T142229Z
LAST-MODIFIED:20140623T142353Z
UID:30634-1420045200-1420056000@accesswinnipeg.com
SUMMARY:Ny Islanders at Winnipeg
DESCRIPTION:
URL:https://accesswinnipeg.com/event/ny-islanders-at-winnipeg-2/
LOCATION:MTS Centre\, 300 Portage Ave\, Winnipeg\, Manitoba\, R3C 5S4\, Canada
CATEGORIES:Sports,Winnipeg Jets
END:VEVENT
BEGIN:VEVENT
DTSTART;TZID=America/Winnipeg:20141229T200000
DTEND;TZID=America/Winnipeg:20141229T230000
DTSTAMP:20260422T213259
CREATED:20140623T142229Z
LAST-MODIFIED:20140623T142353Z
UID:30633-1419883200-1419894000@accesswinnipeg.com
SUMMARY:Minnesota at Winnipeg
DESCRIPTION:
URL:https://accesswinnipeg.com/event/minnesota-at-winnipeg-3/
LOCATION:MTS Centre\, 300 Portage Ave\, Winnipeg\, Manitoba\, R3C 5S4\, Canada
CATEGORIES:Sports,Winnipeg Jets
END:VEVENT
BEGIN:VEVENT
DTSTART;TZID=America/Winnipeg:20141221T210000
DTEND;TZID=America/Winnipeg:20141222T000000
DTSTAMP:20260422T213259
CREATED:20140623T142229Z
LAST-MODIFIED:20140623T142353Z
UID:30632-1419195600-1419206400@accesswinnipeg.com
SUMMARY:Philadelphia at Winnipeg
DESCRIPTION:
URL:https://accesswinnipeg.com/event/philadelphia-at-winnipeg-2/
LOCATION:MTS Centre\, 300 Portage Ave\, Winnipeg\, Manitoba\, R3C 5S4\, Canada
CATEGORIES:Sports,Winnipeg Jets
END:VEVENT
BEGIN:VEVENT
DTSTART;TZID=America/Winnipeg:20141220T190000
DTEND;TZID=America/Winnipeg:20141220T190000
DTSTAMP:20260422T213259
CREATED:20141020T144613Z
LAST-MODIFIED:20141020T144613Z
UID:32100-1419102000-1419102000@accesswinnipeg.com
SUMMARY:WWE Live
DESCRIPTION:The WWE will make a body slamming return to MTS Centre on Saturday\, December 20\, 2014. \nWWE Superstars expected to make an appearance include: \n\nDean Ambrose\n“Money in the Bank Contract Winner” Seth Rollins\nUnited States Champion Sheamus\nRusev\nThe WWE Divas\nand much more\n\nTickets will start at just $15.
URL:https://accesswinnipeg.com/event/wwe-live/
LOCATION:MTS Centre\, 300 Portage Ave\, Winnipeg\, Manitoba\, R3C 5S4\, Canada
CATEGORIES:Sports
ATTACH;FMTTYPE=image/png:https://accesswinnipeg.com/wp-content/uploads/2014/10/wwelive.png
END:VEVENT
BEGIN:VEVENT
DTSTART;TZID=America/Winnipeg:20141219T200000
DTEND;TZID=America/Winnipeg:20141219T230000
DTSTAMP:20260422T213259
CREATED:20140623T142228Z
LAST-MODIFIED:20140623T142353Z
UID:30631-1419019200-1419030000@accesswinnipeg.com
SUMMARY:Boston at Winnipeg
DESCRIPTION:
URL:https://accesswinnipeg.com/event/boston-at-winnipeg-2/
LOCATION:MTS Centre\, 300 Portage Ave\, Winnipeg\, Manitoba\, R3C 5S4\, Canada
CATEGORIES:Sports,Winnipeg Jets
END:VEVENT
BEGIN:VEVENT
DTSTART;TZID=America/Winnipeg:20141216T200000
DTEND;TZID=America/Winnipeg:20141216T230000
DTSTAMP:20260422T213259
CREATED:20140623T142228Z
LAST-MODIFIED:20140623T142353Z
UID:30630-1418760000-1418770800@accesswinnipeg.com
SUMMARY:Buffalo at Winnipeg
DESCRIPTION:
URL:https://accesswinnipeg.com/event/buffalo-at-winnipeg-2/
LOCATION:MTS Centre\, 300 Portage Ave\, Winnipeg\, Manitoba\, R3C 5S4\, Canada
CATEGORIES:Sports,Winnipeg Jets
END:VEVENT
BEGIN:VEVENT
DTSTART;TZID=America/Winnipeg:20141213T190000
DTEND;TZID=America/Winnipeg:20141213T220000
DTSTAMP:20260422T213259
CREATED:20140623T142228Z
LAST-MODIFIED:20140623T142353Z
UID:30629-1418497200-1418508000@accesswinnipeg.com
SUMMARY:Anaheim at Winnipeg
DESCRIPTION:National broadcasts: HNIC
URL:https://accesswinnipeg.com/event/anaheim-at-winnipeg-4/
LOCATION:MTS Centre\, 300 Portage Ave\, Winnipeg\, Manitoba\, R3C 5S4\, Canada
CATEGORIES:Sports,Winnipeg Jets
END:VEVENT
BEGIN:VEVENT
DTSTART;TZID=America/Winnipeg:20141207T150000
DTEND;TZID=America/Winnipeg:20141207T180000
DTSTAMP:20260422T213259
CREATED:20140623T142228Z
LAST-MODIFIED:20140623T142353Z
UID:30628-1417964400-1417975200@accesswinnipeg.com
SUMMARY:Anaheim at Winnipeg
DESCRIPTION:
URL:https://accesswinnipeg.com/event/anaheim-at-winnipeg-3/
LOCATION:MTS Centre\, 300 Portage Ave\, Winnipeg\, Manitoba\, R3C 5S4\, Canada
CATEGORIES:Sports,Winnipeg Jets
END:VEVENT
BEGIN:VEVENT
DTSTART;TZID=America/Winnipeg:20141205T200000
DTEND;TZID=America/Winnipeg:20141205T230000
DTSTAMP:20260422T213259
CREATED:20140623T142228Z
LAST-MODIFIED:20140623T142353Z
UID:30627-1417809600-1417820400@accesswinnipeg.com
SUMMARY:Colorado at Winnipeg
DESCRIPTION:
URL:https://accesswinnipeg.com/event/colorado-at-winnipeg-5/
LOCATION:MTS Centre\, 300 Portage Ave\, Winnipeg\, Manitoba\, R3C 5S4\, Canada
CATEGORIES:Sports,Winnipeg Jets
END:VEVENT
BEGIN:VEVENT
DTSTART;TZID=America/Winnipeg:20141203T210000
DTEND;TZID=America/Winnipeg:20141204T000000
DTSTAMP:20260422T213259
CREATED:20140623T142228Z
LAST-MODIFIED:20140623T142353Z
UID:30626-1417640400-1417651200@accesswinnipeg.com
SUMMARY:Edmonton at Winnipeg
DESCRIPTION:National broadcasts: SN\, SN1
URL:https://accesswinnipeg.com/event/edmonton-at-winnipeg-3/
LOCATION:MTS Centre\, 300 Portage Ave\, Winnipeg\, Manitoba\, R3C 5S4\, Canada
CATEGORIES:Sports,Winnipeg Jets
END:VEVENT
BEGIN:VEVENT
DTSTART;TZID=America/Winnipeg:20141123T150000
DTEND;TZID=America/Winnipeg:20141123T180000
DTSTAMP:20260422T213259
CREATED:20140623T142228Z
LAST-MODIFIED:20140623T142353Z
UID:30625-1416754800-1416765600@accesswinnipeg.com
SUMMARY:St Louis at Winnipeg
DESCRIPTION:
URL:https://accesswinnipeg.com/event/st-louis-at-winnipeg-4/
LOCATION:MTS Centre\, 300 Portage Ave\, Winnipeg\, Manitoba\, R3C 5S4\, Canada
CATEGORIES:Sports,Winnipeg Jets
END:VEVENT
BEGIN:VEVENT
DTSTART;TZID=America/Winnipeg:20141120T200000
DTEND;TZID=America/Winnipeg:20141120T230000
DTSTAMP:20260422T213259
CREATED:20140623T142228Z
LAST-MODIFIED:20140623T142353Z
UID:30624-1416513600-1416524400@accesswinnipeg.com
SUMMARY:Detroit at Winnipeg
DESCRIPTION:
URL:https://accesswinnipeg.com/event/detroit-at-winnipeg-2/
LOCATION:MTS Centre\, 300 Portage Ave\, Winnipeg\, Manitoba\, R3C 5S4\, Canada
CATEGORIES:Sports,Winnipeg Jets
END:VEVENT
BEGIN:VEVENT
DTSTART;TZID=America/Winnipeg:20141118T200000
DTEND;TZID=America/Winnipeg:20141118T230000
DTSTAMP:20260422T213259
CREATED:20140623T142228Z
LAST-MODIFIED:20140623T142353Z
UID:30623-1416340800-1416351600@accesswinnipeg.com
SUMMARY:New Jersey at Winnipeg
DESCRIPTION:
URL:https://accesswinnipeg.com/event/new-jersey-at-winnipeg-2/
LOCATION:MTS Centre\, 300 Portage Ave\, Winnipeg\, Manitoba\, R3C 5S4\, Canada
CATEGORIES:Sports,Winnipeg Jets
END:VEVENT
BEGIN:VEVENT
DTSTART;TZID=America/Winnipeg:20141106T200000
DTEND;TZID=America/Winnipeg:20141106T230000
DTSTAMP:20260422T213259
CREATED:20140623T142228Z
LAST-MODIFIED:20140623T142353Z
UID:30622-1415304000-1415314800@accesswinnipeg.com
SUMMARY:Pittsburgh at Winnipeg
DESCRIPTION:
URL:https://accesswinnipeg.com/event/pittsburgh-at-winnipeg-2/
LOCATION:MTS Centre\, 300 Portage Ave\, Winnipeg\, Manitoba\, R3C 5S4\, Canada
CATEGORIES:Sports,Winnipeg Jets
END:VEVENT
BEGIN:VEVENT
DTSTART;TZID=America/Winnipeg:20141104T200000
DTEND;TZID=America/Winnipeg:20141104T230000
DTSTAMP:20260422T213259
CREATED:20140623T142228Z
LAST-MODIFIED:20140623T142353Z
UID:30621-1415131200-1415142000@accesswinnipeg.com
SUMMARY:Nashville at Winnipeg
DESCRIPTION:
URL:https://accesswinnipeg.com/event/nashville-at-winnipeg-4/
LOCATION:MTS Centre\, 300 Portage Ave\, Winnipeg\, Manitoba\, R3C 5S4\, Canada
CATEGORIES:Sports,Winnipeg Jets
END:VEVENT
BEGIN:VEVENT
DTSTART;TZID=America/Winnipeg:20141026T150000
DTEND;TZID=America/Winnipeg:20141026T180000
DTSTAMP:20260422T213259
CREATED:20140623T142228Z
LAST-MODIFIED:20140623T142353Z
UID:30620-1414335600-1414346400@accesswinnipeg.com
SUMMARY:Colorado at Winnipeg
DESCRIPTION:
URL:https://accesswinnipeg.com/event/colorado-at-winnipeg-4/
LOCATION:MTS Centre\, 300 Portage Ave\, Winnipeg\, Manitoba\, R3C 5S4\, Canada
CATEGORIES:Sports,Winnipeg Jets
END:VEVENT
BEGIN:VEVENT
DTSTART;TZID=America/Winnipeg:20141025T180000
DTEND;TZID=America/Winnipeg:20141025T180000
DTSTAMP:20260422T213259
CREATED:20140425T150740Z
LAST-MODIFIED:20140425T192141Z
UID:29466-1414260000-1414260000@accesswinnipeg.com
SUMMARY:BC @ Winnipeg
DESCRIPTION:Winnipeg Blue Bombers Home Game
URL:https://accesswinnipeg.com/event/bc-winnipeg/
LOCATION:Investors Group Field\, 315 Chancellor Matheson Road\, Winnipeg\, MB\, R3T 1Z2\, Canada
CATEGORIES:Sports,Winnipeg Blue Bombers
ATTACH;FMTTYPE=image/png:https://accesswinnipeg.com/wp-content/uploads/2014/04/bluebombers.png
END:VEVENT
BEGIN:VEVENT
DTSTART;TZID=America/Winnipeg:20141024T200000
DTEND;TZID=America/Winnipeg:20141024T230000
DTSTAMP:20260422T213259
CREATED:20140623T142228Z
LAST-MODIFIED:20140623T142353Z
UID:30619-1414180800-1414191600@accesswinnipeg.com
SUMMARY:Tampa Bay at Winnipeg
DESCRIPTION:
URL:https://accesswinnipeg.com/event/tampa-bay-at-winnipeg-2/
LOCATION:MTS Centre\, 300 Portage Ave\, Winnipeg\, Manitoba\, R3C 5S4\, Canada
CATEGORIES:Sports,Winnipeg Jets
END:VEVENT
BEGIN:VEVENT
DTSTART;TZID=America/Winnipeg:20141021T200000
DTEND;TZID=America/Winnipeg:20141021T230000
DTSTAMP:20260422T213259
CREATED:20140623T142228Z
LAST-MODIFIED:20140623T142353Z
UID:30618-1413921600-1413932400@accesswinnipeg.com
SUMMARY:Carolina at Winnipeg
DESCRIPTION:
URL:https://accesswinnipeg.com/event/carolina-at-winnipeg-2/
LOCATION:MTS Centre\, 300 Portage Ave\, Winnipeg\, Manitoba\, R3C 5S4\, Canada
CATEGORIES:Sports,Winnipeg Jets
END:VEVENT
BEGIN:VEVENT
DTSTART;TZID=America/Winnipeg:20141019T190000
DTEND;TZID=America/Winnipeg:20141019T220000
DTSTAMP:20260422T213259
CREATED:20140623T142228Z
LAST-MODIFIED:20140623T142353Z
UID:30617-1413745200-1413756000@accesswinnipeg.com
SUMMARY:Calgary at Winnipeg
DESCRIPTION:National broadcasts: CITY TV
URL:https://accesswinnipeg.com/event/calgary-at-winnipeg-3/
LOCATION:MTS Centre\, 300 Portage Ave\, Winnipeg\, Manitoba\, R3C 5S4\, Canada
CATEGORIES:Sports,Winnipeg Jets
END:VEVENT
BEGIN:VEVENT
DTSTART;TZID=America/Winnipeg:20141018T180000
DTEND;TZID=America/Winnipeg:20141018T180000
DTSTAMP:20260422T213259
CREATED:20140425T150740Z
LAST-MODIFIED:20140425T192211Z
UID:29465-1413655200-1413655200@accesswinnipeg.com
SUMMARY:Calgary @ Winnipeg
DESCRIPTION:Winnipeg Blue Bombers Home Game
URL:https://accesswinnipeg.com/event/calgary-winnipeg/
LOCATION:Investors Group Field\, 315 Chancellor Matheson Road\, Winnipeg\, MB\, R3T 1Z2\, Canada
CATEGORIES:Sports,Winnipeg Blue Bombers
ATTACH;FMTTYPE=image/png:https://accesswinnipeg.com/wp-content/uploads/2014/04/bluebombers.png
END:VEVENT
BEGIN:VEVENT
DTSTART;TZID=America/Winnipeg:20141017T200000
DTEND;TZID=America/Winnipeg:20141017T230000
DTSTAMP:20260422T213259
CREATED:20140623T142228Z
LAST-MODIFIED:20140623T142353Z
UID:30616-1413576000-1413586800@accesswinnipeg.com
SUMMARY:Nashville at Winnipeg
DESCRIPTION:
URL:https://accesswinnipeg.com/event/nashville-at-winnipeg-3/
LOCATION:MTS Centre\, 300 Portage Ave\, Winnipeg\, Manitoba\, R3C 5S4\, Canada
CATEGORIES:Sports,Winnipeg Jets
END:VEVENT
BEGIN:VEVENT
DTSTART;TZID=America/Winnipeg:20140927T173000
DTEND;TZID=America/Winnipeg:20140927T173000
DTSTAMP:20260422T213259
CREATED:20140425T150740Z
LAST-MODIFIED:20140425T151507Z
UID:29464-1411839000-1411839000@accesswinnipeg.com
SUMMARY:Hamilton @ Winnipeg
DESCRIPTION:Winnipeg Blue Bombers Home Game
URL:https://accesswinnipeg.com/event/hamilton-winnipeg/
LOCATION:Investors Group Field\, 315 Chancellor Matheson Road\, Winnipeg\, MB\, R3T 1Z2\, Canada
CATEGORIES:Sports,Winnipeg Blue Bombers
END:VEVENT
BEGIN:VEVENT
DTSTART;TZID=America/Winnipeg:20140920T090000
DTEND;TZID=America/Winnipeg:20140920T140000
DTSTAMP:20260422T213259
CREATED:20140915T163517Z
LAST-MODIFIED:20140915T163517Z
UID:31655-1411203600-1411221600@accesswinnipeg.com
SUMMARY:Winnipeg Jets Fan Fest 2014
DESCRIPTION:The first ever Winnipeg Jets Fan Fest will take place on Saturday\, September 20\, 2014 at MTS Iceplex. \nThe free outdoor event in the parking lot of MTS Iceplex will kick off the start of the 2014-15 season. \nFan Fest runs from 9:00am to 2:00pm and is open to the general public. The event includes access to Jets training camp sessions\, live Player & Management Interviews as well as a range of interactive games and activities. \nEvent Details: \n\nFREE Parking available throughout the day to the North of the MTS Iceplex in the adjacent Assiniboia Downs lot\nFirst 5\,000 fans on site will receive a FREE Complimentary lunch\nFood options include choice of Hot Dog or Pulled Pork (limited quantities of each)\nAdditional food and drink is available for purchase within the MTS Iceplex.\nFirst 3\,000 fans will have the opportunity to watch one of four Winnipeg Jets Training Camp sessions\nLive Winnipeg Jets Player & Management Interviews – Moderated by TSN play by play announcer\, Dennis Beyak.\nBouncers\, Contests\, Giveaways\, Displays\, Ball Hockey with Mick E. Moose\, Music and Much More!\n\nFor more information please visit www.winnipegjets.com/fanfest.
URL:https://accesswinnipeg.com/event/winnipeg-jets-fan-fest-2014/
LOCATION:MTS Iceplex\, 3969 Portage Ave\, Winnipeg\, Manitoba\, R3K 1W4\, Canada
CATEGORIES:Sports,Winnipeg Jets
ATTACH;FMTTYPE=image/png:https://accesswinnipeg.com/wp-content/uploads/2014/04/winnipegjets.png
END:VEVENT
BEGIN:VEVENT
DTSTART;TZID=America/Winnipeg:20140907T150000
DTEND;TZID=America/Winnipeg:20140907T150000
DTSTAMP:20260422T213259
CREATED:20140425T150740Z
LAST-MODIFIED:20140425T192221Z
UID:29463-1410102000-1410102000@accesswinnipeg.com
SUMMARY:Saskatchewan @ Winnipeg
DESCRIPTION:Winnipeg Blue Bombers Home Game
URL:https://accesswinnipeg.com/event/saskatchewan-winnipeg-2/
LOCATION:Investors Group Field\, 315 Chancellor Matheson Road\, Winnipeg\, MB\, R3T 1Z2\, Canada
CATEGORIES:Sports,Winnipeg Blue Bombers
ATTACH;FMTTYPE=image/png:https://accesswinnipeg.com/wp-content/uploads/2014/04/bluebombers.png
END:VEVENT
BEGIN:VEVENT
DTSTART;TZID=America/Winnipeg:20140901T190000
DTEND;TZID=America/Winnipeg:20140901T190000
DTSTAMP:20260422T213259
CREATED:20140428T145713Z
LAST-MODIFIED:20140519T183548Z
UID:29584-1409598000-1409598000@accesswinnipeg.com
SUMMARY:Goldeyes vs. RailCats
DESCRIPTION:The Winnipeg Goldeyes take on the Gary SouthShore RailCats at 7:00pm at Shaw Park in Winnipeg\, MB – Radio: 100.7 FM    Promotion: Fireworks
URL:https://accesswinnipeg.com/event/goldeyes-vs-railcats-11/
LOCATION:Shaw Park\, 1 Portage Ave E\, Winnipeg\, Manitoba\, R3B 3N3\, Canada
CATEGORIES:Sports,Winnipeg Goldeyes
ATTACH;FMTTYPE=image/png:https://accesswinnipeg.com/wp-content/uploads/2014/04/goldeyes.png
END:VEVENT
BEGIN:VEVENT
DTSTART;TZID=America/Winnipeg:20140831T133000
DTEND;TZID=America/Winnipeg:20140831T133000
DTSTAMP:20260422T213259
CREATED:20140428T145713Z
LAST-MODIFIED:20140519T183558Z
UID:29583-1409491800-1409491800@accesswinnipeg.com
SUMMARY:Goldeyes vs. RailCats
DESCRIPTION:The Winnipeg Goldeyes take on the Gary SouthShore RailCats at 1:30pm at Shaw Park in Winnipeg\, MB – Radio: 100.7 FM    Promotion: Team Photo giveaway & Pre-Game On-Field Autograph Session
URL:https://accesswinnipeg.com/event/goldeyes-vs-railcats-10/
LOCATION:Shaw Park\, 1 Portage Ave E\, Winnipeg\, Manitoba\, R3B 3N3\, Canada
CATEGORIES:Sports,Winnipeg Goldeyes
ATTACH;FMTTYPE=image/png:https://accesswinnipeg.com/wp-content/uploads/2014/04/goldeyes.png
END:VEVENT
BEGIN:VEVENT
DTSTART;TZID=America/Winnipeg:20140830T180000
DTEND;TZID=America/Winnipeg:20140830T180000
DTSTAMP:20260422T213259
CREATED:20140428T145713Z
LAST-MODIFIED:20140519T183708Z
UID:29582-1409421600-1409421600@accesswinnipeg.com
SUMMARY:Goldeyes vs. RailCats
DESCRIPTION:The Winnipeg Goldeyes take on the Gary SouthShore RailCats at 6:00pm at Shaw Park in Winnipeg\, MB – Radio: 100.7 FM    Promotion:
URL:https://accesswinnipeg.com/event/goldeyes-vs-railcats-9/
LOCATION:Shaw Park\, 1 Portage Ave E\, Winnipeg\, Manitoba\, R3B 3N3\, Canada
CATEGORIES:Sports,Winnipeg Goldeyes
ATTACH;FMTTYPE=image/png:https://accesswinnipeg.com/wp-content/uploads/2014/04/goldeyes.png
END:VEVENT
BEGIN:VEVENT
DTSTART;TZID=America/Winnipeg:20140829T190000
DTEND;TZID=America/Winnipeg:20140829T190000
DTSTAMP:20260422T213259
CREATED:20140428T145713Z
LAST-MODIFIED:20140519T183706Z
UID:29581-1409338800-1409338800@accesswinnipeg.com
SUMMARY:Goldeyes vs. RailCats
DESCRIPTION:The Winnipeg Goldeyes take on the Gary SouthShore RailCats at 7:00pm at Shaw Park in Winnipeg\, MB – Radio: 100.7 FM    Promotion:
URL:https://accesswinnipeg.com/event/goldeyes-vs-railcats-8/
LOCATION:Shaw Park\, 1 Portage Ave E\, Winnipeg\, Manitoba\, R3B 3N3\, Canada
CATEGORIES:Sports,Winnipeg Goldeyes
ATTACH;FMTTYPE=image/png:https://accesswinnipeg.com/wp-content/uploads/2014/04/goldeyes.png
END:VEVENT
END:VCALENDAR