BEGIN:VCALENDAR
VERSION:2.0
PRODID:-//Access Winnipeg - ECPv6.15.20//NONSGML v1.0//EN
CALSCALE:GREGORIAN
METHOD:PUBLISH
X-WR-CALNAME:Access Winnipeg
X-ORIGINAL-URL:https://accesswinnipeg.com
X-WR-CALDESC:Events for Access Winnipeg
REFRESH-INTERVAL;VALUE=DURATION:PT1H
X-Robots-Tag:noindex
X-PUBLISHED-TTL:PT1H
BEGIN:VTIMEZONE
TZID:America/Winnipeg
BEGIN:DAYLIGHT
TZOFFSETFROM:-0600
TZOFFSETTO:-0500
TZNAME:CDT
DTSTART:20130310T080000
END:DAYLIGHT
BEGIN:STANDARD
TZOFFSETFROM:-0500
TZOFFSETTO:-0600
TZNAME:CST
DTSTART:20131103T070000
END:STANDARD
BEGIN:DAYLIGHT
TZOFFSETFROM:-0600
TZOFFSETTO:-0500
TZNAME:CDT
DTSTART:20140309T080000
END:DAYLIGHT
BEGIN:STANDARD
TZOFFSETFROM:-0500
TZOFFSETTO:-0600
TZNAME:CST
DTSTART:20141102T070000
END:STANDARD
BEGIN:DAYLIGHT
TZOFFSETFROM:-0600
TZOFFSETTO:-0500
TZNAME:CDT
DTSTART:20150308T080000
END:DAYLIGHT
BEGIN:STANDARD
TZOFFSETFROM:-0500
TZOFFSETTO:-0600
TZNAME:CST
DTSTART:20151101T070000
END:STANDARD
END:VTIMEZONE
BEGIN:VEVENT
DTSTART;TZID=America/Winnipeg:20140824T133000
DTEND;TZID=America/Winnipeg:20140824T133000
DTSTAMP:20260423T181343
CREATED:20140428T145713Z
LAST-MODIFIED:20140519T183702Z
UID:29580-1408887000-1408887000@accesswinnipeg.com
SUMMARY:Goldeyes vs. Canaries
DESCRIPTION:The Winnipeg Goldeyes take on the Sioux Falls Canaries at 1:30pm at Shaw Park in Winnipeg\, MB – Radio: 100.7 FM Promotion:
URL:https://accesswinnipeg.com/event/goldeyes-vs-canaries-9/
LOCATION:Shaw Park\, 1 Portage Ave E\, Winnipeg\, Manitoba\, R3B 3N3\, Canada
CATEGORIES:Sports,Winnipeg Goldeyes
ATTACH;FMTTYPE=image/png:https://accesswinnipeg.com/wp-content/uploads/2014/04/goldeyes.png
END:VEVENT
BEGIN:VEVENT
DTSTART;TZID=America/Winnipeg:20140823T180000
DTEND;TZID=America/Winnipeg:20140823T180000
DTSTAMP:20260423T181343
CREATED:20140428T145713Z
LAST-MODIFIED:20140519T183640Z
UID:29579-1408816800-1408816800@accesswinnipeg.com
SUMMARY:Goldeyes vs. Canaries
DESCRIPTION:The Winnipeg Goldeyes take on the Sioux Falls Canaries at 6:00pm at Shaw Park in Winnipeg\, MB – Radio: 100.7 FM Promotion:
URL:https://accesswinnipeg.com/event/goldeyes-vs-canaries-8/
LOCATION:Shaw Park\, 1 Portage Ave E\, Winnipeg\, Manitoba\, R3B 3N3\, Canada
CATEGORIES:Sports,Winnipeg Goldeyes
ATTACH;FMTTYPE=image/png:https://accesswinnipeg.com/wp-content/uploads/2014/04/goldeyes.png
END:VEVENT
BEGIN:VEVENT
DTSTART;TZID=America/Winnipeg:20140822T193000
DTEND;TZID=America/Winnipeg:20140822T193000
DTSTAMP:20260423T181343
CREATED:20140425T150740Z
LAST-MODIFIED:20140704T150833Z
UID:29462-1408735800-1408735800@accesswinnipeg.com
SUMMARY:Montreal @ Winnipeg
DESCRIPTION:Winnipeg Blue Bombers Home Game
URL:https://accesswinnipeg.com/event/montreal-winnipeg/
LOCATION:Investors Group Field\, 315 Chancellor Matheson Road\, Winnipeg\, MB\, R3T 1Z2\, Canada
CATEGORIES:Sports,Winnipeg Blue Bombers
ATTACH;FMTTYPE=image/png:https://accesswinnipeg.com/wp-content/uploads/2014/04/bluebombers.png
END:VEVENT
BEGIN:VEVENT
DTSTART;TZID=America/Winnipeg:20140822T190000
DTEND;TZID=America/Winnipeg:20140822T190000
DTSTAMP:20260423T181343
CREATED:20140428T145713Z
LAST-MODIFIED:20140519T183649Z
UID:29578-1408734000-1408734000@accesswinnipeg.com
SUMMARY:Goldeyes vs. Canaries
DESCRIPTION:The Winnipeg Goldeyes take on the Sioux Falls Canaries at 7:00pm at Shaw Park in Winnipeg\, MB – Radio: 100.7 FM Promotion:
URL:https://accesswinnipeg.com/event/goldeyes-vs-canaries-7/
LOCATION:Shaw Park\, 1 Portage Ave E\, Winnipeg\, Manitoba\, R3B 3N3\, Canada
CATEGORIES:Sports,Winnipeg Goldeyes
ATTACH;FMTTYPE=image/png:https://accesswinnipeg.com/wp-content/uploads/2014/04/goldeyes.png
END:VEVENT
BEGIN:VEVENT
DTSTART;TZID=America/Winnipeg:20140821T190000
DTEND;TZID=America/Winnipeg:20140821T190000
DTSTAMP:20260423T181343
CREATED:20140428T145713Z
LAST-MODIFIED:20140428T145820Z
UID:29577-1408647600-1408647600@accesswinnipeg.com
SUMMARY:Goldeyes vs. Canaries
DESCRIPTION:The Winnipeg Goldeyes take on the Sioux Falls Canaries at 7:00pm at Shaw Park in Winnipeg\, MB – Radio: 100.7 FM Promotion:
URL:https://accesswinnipeg.com/event/goldeyes-vs-canaries-6/
LOCATION:Shaw Park\, 1 Portage Ave E\, Winnipeg\, Manitoba\, R3B 3N3\, Canada
CATEGORIES:Sports,Winnipeg Goldeyes
END:VEVENT
BEGIN:VEVENT
DTSTART;TZID=America/Winnipeg:20140820T190000
DTEND;TZID=America/Winnipeg:20140820T190000
DTSTAMP:20260423T181343
CREATED:20140428T145713Z
LAST-MODIFIED:20140519T183745Z
UID:29576-1408561200-1408561200@accesswinnipeg.com
SUMMARY:Goldeyes vs. Jackals
DESCRIPTION:The Winnipeg Goldeyes take on the New Jersey Jackals at 1:30pm at Shaw Park in Winnipeg\, MB – Radio: 100.7 FM Promotion: Hockey Night presented by Sunova Credit Union
URL:https://accesswinnipeg.com/event/goldeyes-vs-jackals-4/
LOCATION:Shaw Park\, 1 Portage Ave E\, Winnipeg\, Manitoba\, R3B 3N3\, Canada
CATEGORIES:Sports,Winnipeg Goldeyes
ATTACH;FMTTYPE=image/png:https://accesswinnipeg.com/wp-content/uploads/2014/04/goldeyes.png
END:VEVENT
BEGIN:VEVENT
DTSTART;TZID=America/Winnipeg:20140819T190000
DTEND;TZID=America/Winnipeg:20140819T190000
DTSTAMP:20260423T181343
CREATED:20140428T145713Z
LAST-MODIFIED:20140519T183756Z
UID:29575-1408474800-1408474800@accesswinnipeg.com
SUMMARY:Goldeyes vs. Jackals
DESCRIPTION:The Winnipeg Goldeyes take on the New Jersey Jackals at 1:30pm at Shaw Park in Winnipeg\, MB – Radio: 100.7 FM
URL:https://accesswinnipeg.com/event/goldeyes-vs-jackals-3/
LOCATION:Shaw Park\, 1 Portage Ave E\, Winnipeg\, Manitoba\, R3B 3N3\, Canada
CATEGORIES:Sports,Winnipeg Goldeyes
ATTACH;FMTTYPE=image/png:https://accesswinnipeg.com/wp-content/uploads/2014/04/goldeyes.png
END:VEVENT
BEGIN:VEVENT
DTSTART;TZID=America/Winnipeg:20140818T190000
DTEND;TZID=America/Winnipeg:20140818T190000
DTSTAMP:20260423T181343
CREATED:20140428T145713Z
LAST-MODIFIED:20140519T183806Z
UID:29574-1408388400-1408388400@accesswinnipeg.com
SUMMARY:Goldeyes vs. Jackals
DESCRIPTION:The Winnipeg Goldeyes take on the New Jersey Jackals at 1:30pm at Shaw Park in Winnipeg\, MB – Radio: 100.7 FM
URL:https://accesswinnipeg.com/event/goldeyes-vs-jackals-2/
LOCATION:Shaw Park\, 1 Portage Ave E\, Winnipeg\, Manitoba\, R3B 3N3\, Canada
CATEGORIES:Sports,Winnipeg Goldeyes
ATTACH;FMTTYPE=image/png:https://accesswinnipeg.com/wp-content/uploads/2014/04/goldeyes.png
END:VEVENT
BEGIN:VEVENT
DTSTART;TZID=America/Winnipeg:20140814T190000
DTEND;TZID=America/Winnipeg:20140814T190000
DTSTAMP:20260423T181343
CREATED:20140428T145712Z
LAST-MODIFIED:20140519T183818Z
UID:29573-1408042800-1408042800@accesswinnipeg.com
SUMMARY:Goldeyes vs. Saints
DESCRIPTION:The Winnipeg Goldeyes take on the St. Paul Saints at 7:00pm at Shaw Park in Winnipeg\, MB – Radio: 100.7 FM  Promotion: Turkey Night – 9-inning Turkey Giveaway & Pre-Game Turkey BBQ presented by Granny’s
URL:https://accesswinnipeg.com/event/goldeyes-vs-saints-11/
LOCATION:Shaw Park\, 1 Portage Ave E\, Winnipeg\, Manitoba\, R3B 3N3\, Canada
CATEGORIES:Sports,Winnipeg Goldeyes
ATTACH;FMTTYPE=image/png:https://accesswinnipeg.com/wp-content/uploads/2014/04/goldeyes.png
END:VEVENT
BEGIN:VEVENT
DTSTART;TZID=America/Winnipeg:20140813T190000
DTEND;TZID=America/Winnipeg:20140813T190000
DTSTAMP:20260423T181343
CREATED:20140428T145712Z
LAST-MODIFIED:20140519T183827Z
UID:29572-1407956400-1407956400@accesswinnipeg.com
SUMMARY:Goldeyes vs. Saints
DESCRIPTION:The Winnipeg Goldeyes take on the St. Paul Saints at 7:00pm at Shaw Park in Winnipeg\, MB – Radio: 100.7 FM  Promotion: Country Night
URL:https://accesswinnipeg.com/event/goldeyes-vs-saints-10/
LOCATION:Shaw Park\, 1 Portage Ave E\, Winnipeg\, Manitoba\, R3B 3N3\, Canada
CATEGORIES:Sports,Winnipeg Goldeyes
ATTACH;FMTTYPE=image/png:https://accesswinnipeg.com/wp-content/uploads/2014/04/goldeyes.png
END:VEVENT
BEGIN:VEVENT
DTSTART;TZID=America/Winnipeg:20140812T190000
DTEND;TZID=America/Winnipeg:20140812T190000
DTSTAMP:20260423T181343
CREATED:20140428T145712Z
LAST-MODIFIED:20140519T183836Z
UID:29571-1407870000-1407870000@accesswinnipeg.com
SUMMARY:Goldeyes vs. Saints
DESCRIPTION:The Winnipeg Goldeyes take on the St. Paul Saints at 7:00pm at Shaw Park in Winnipeg\, MB – Radio: 100.7 FM  Promotion: Fireworks
URL:https://accesswinnipeg.com/event/goldeyes-vs-saints-9/
LOCATION:Shaw Park\, 1 Portage Ave E\, Winnipeg\, Manitoba\, R3B 3N3\, Canada
CATEGORIES:Sports,Winnipeg Goldeyes
ATTACH;FMTTYPE=image/png:https://accesswinnipeg.com/wp-content/uploads/2014/04/goldeyes.png
END:VEVENT
BEGIN:VEVENT
DTSTART;TZID=America/Winnipeg:20140810T133000
DTEND;TZID=America/Winnipeg:20140810T133000
DTSTAMP:20260423T181343
CREATED:20140428T145712Z
LAST-MODIFIED:20140519T183847Z
UID:29570-1407677400-1407677400@accesswinnipeg.com
SUMMARY:Goldeyes vs. Wingnuts
DESCRIPTION:The Winnipeg Goldeyes take on the Wichita Wingnuts at 1:30pm at Shaw Park in Winnipeg\, MB – Radio: 100.7 FM Promotion:  Library Night & Bookmark Giveaway
URL:https://accesswinnipeg.com/event/goldeyes-vs-wingnuts-8/
LOCATION:Shaw Park\, 1 Portage Ave E\, Winnipeg\, Manitoba\, R3B 3N3\, Canada
CATEGORIES:Sports,Winnipeg Goldeyes
ATTACH;FMTTYPE=image/png:https://accesswinnipeg.com/wp-content/uploads/2014/04/goldeyes.png
END:VEVENT
BEGIN:VEVENT
DTSTART;TZID=America/Winnipeg:20140809T180000
DTEND;TZID=America/Winnipeg:20140809T180000
DTSTAMP:20260423T181343
CREATED:20140428T145712Z
LAST-MODIFIED:20140519T183859Z
UID:29569-1407607200-1407607200@accesswinnipeg.com
SUMMARY:Goldeyes vs. Wingnuts
DESCRIPTION:The Winnipeg Goldeyes take on the Wichita Wingnuts at 6:00pm at Shaw Park in Winnipeg\, MB – Radio: 100.7 FM
URL:https://accesswinnipeg.com/event/goldeyes-vs-wingnuts-7/
LOCATION:Shaw Park\, 1 Portage Ave E\, Winnipeg\, Manitoba\, R3B 3N3\, Canada
CATEGORIES:Sports,Winnipeg Goldeyes
ATTACH;FMTTYPE=image/png:https://accesswinnipeg.com/wp-content/uploads/2014/04/goldeyes.png
END:VEVENT
BEGIN:VEVENT
DTSTART;TZID=America/Winnipeg:20140808T190000
DTEND;TZID=America/Winnipeg:20140808T190000
DTSTAMP:20260423T181343
CREATED:20140428T145712Z
LAST-MODIFIED:20140519T183910Z
UID:29568-1407524400-1407524400@accesswinnipeg.com
SUMMARY:Goldeyes vs. Wingnuts
DESCRIPTION:The Winnipeg Goldeyes take on the Wichita Wingnuts at 7:00pm at Shaw Park in Winnipeg\, MB – Radio: 100.7 FM
URL:https://accesswinnipeg.com/event/goldeyes-vs-wingnuts-6/
LOCATION:Shaw Park\, 1 Portage Ave E\, Winnipeg\, Manitoba\, R3B 3N3\, Canada
CATEGORIES:Sports,Winnipeg Goldeyes
ATTACH;FMTTYPE=image/png:https://accesswinnipeg.com/wp-content/uploads/2014/04/goldeyes.png
END:VEVENT
BEGIN:VEVENT
DTSTART;TZID=America/Winnipeg:20140807T193000
DTEND;TZID=America/Winnipeg:20140807T193000
DTSTAMP:20260423T181343
CREATED:20140425T150740Z
LAST-MODIFIED:20140704T150816Z
UID:29461-1407439800-1407439800@accesswinnipeg.com
SUMMARY:Saskatchewan @ Winnipeg
DESCRIPTION:Winnipeg Blue Bombers Home Game
URL:https://accesswinnipeg.com/event/saskatchewan-winnipeg/
LOCATION:Investors Group Field\, 315 Chancellor Matheson Road\, Winnipeg\, MB\, R3T 1Z2\, Canada
CATEGORIES:Sports,Winnipeg Blue Bombers
ATTACH;FMTTYPE=image/png:https://accesswinnipeg.com/wp-content/uploads/2014/04/bluebombers.png
END:VEVENT
BEGIN:VEVENT
DTSTART;TZID=America/Winnipeg:20140807T190000
DTEND;TZID=America/Winnipeg:20140807T190000
DTSTAMP:20260423T181343
CREATED:20140428T145712Z
LAST-MODIFIED:20140519T183919Z
UID:29567-1407438000-1407438000@accesswinnipeg.com
SUMMARY:Goldeyes vs. Wingnuts
DESCRIPTION:The Winnipeg Goldeyes take on the Wichita Wingnuts at 7:00pm at Shaw Park in Winnipeg\, MB – Radio: 100.7 FM
URL:https://accesswinnipeg.com/event/goldeyes-vs-wingnuts-5/
LOCATION:Shaw Park\, 1 Portage Ave E\, Winnipeg\, Manitoba\, R3B 3N3\, Canada
CATEGORIES:Sports,Winnipeg Goldeyes
ATTACH;FMTTYPE=image/png:https://accesswinnipeg.com/wp-content/uploads/2014/04/goldeyes.png
END:VEVENT
BEGIN:VEVENT
DTSTART;TZID=America/Winnipeg:20140729T190000
DTEND;TZID=America/Winnipeg:20140729T190000
DTSTAMP:20260423T181343
CREATED:20140428T145712Z
LAST-MODIFIED:20140519T183956Z
UID:29566-1406660400-1406660400@accesswinnipeg.com
SUMMARY:American Association All-Star Game
DESCRIPTION:The Winnipeg Goldeyes host the American Association All-Star Game presented by Manitoba Liquor & Lotteries at 7:00pm at Shaw Park in Winnipeg\, MB – Radio: 100.7 FM  TV: Shaw Cable 9
URL:https://accesswinnipeg.com/event/american-association-all-star-game-2/
LOCATION:Shaw Park\, 1 Portage Ave E\, Winnipeg\, Manitoba\, R3B 3N3\, Canada
CATEGORIES:Sports,Winnipeg Goldeyes
ATTACH;FMTTYPE=image/png:https://accesswinnipeg.com/wp-content/uploads/2014/04/goldeyes.png
END:VEVENT
BEGIN:VEVENT
DTSTART;TZID=America/Winnipeg:20140728T180000
DTEND;TZID=America/Winnipeg:20140728T180000
DTSTAMP:20260423T181343
CREATED:20140428T145712Z
LAST-MODIFIED:20140519T184004Z
UID:29565-1406570400-1406570400@accesswinnipeg.com
SUMMARY:American Association All-Star Skills Competition
DESCRIPTION:The Winnipeg Goldeyes host the American Association All-Star Skills Competition presented by Recycle Everywhere at 6:00pm at Shaw Park in Winnipeg\, MB – Radio: 100.7 FM
URL:https://accesswinnipeg.com/event/american-association-all-star-skills-competition-2/
LOCATION:Shaw Park\, 1 Portage Ave E\, Winnipeg\, Manitoba\, R3B 3N3\, Canada
CATEGORIES:Sports,Winnipeg Goldeyes
ATTACH;FMTTYPE=image/png:https://accesswinnipeg.com/wp-content/uploads/2014/04/goldeyes.png
END:VEVENT
BEGIN:VEVENT
DTSTART;TZID=America/Winnipeg:20140723T190000
DTEND;TZID=America/Winnipeg:20140723T190000
DTSTAMP:20260423T181343
CREATED:20140428T145711Z
LAST-MODIFIED:20140519T184013Z
UID:29564-1406142000-1406142000@accesswinnipeg.com
SUMMARY:Goldeyes vs. RedHawks
DESCRIPTION:The Winnipeg Goldeyes take on the Fargo-Moorhead RedHawks at 7:00pm at Shaw Park in Winnipeg\, MB – Radio: 100.7 FM    Promotion: Fireworks
URL:https://accesswinnipeg.com/event/goldeyes-vs-redhawks-8/
LOCATION:Shaw Park\, 1 Portage Ave E\, Winnipeg\, Manitoba\, R3B 3N3\, Canada
CATEGORIES:Sports,Winnipeg Goldeyes
ATTACH;FMTTYPE=image/png:https://accesswinnipeg.com/wp-content/uploads/2014/04/goldeyes.png
END:VEVENT
BEGIN:VEVENT
DTSTART;TZID=America/Winnipeg:20140722T190000
DTEND;TZID=America/Winnipeg:20140722T190000
DTSTAMP:20260423T181343
CREATED:20140428T145711Z
LAST-MODIFIED:20140519T184023Z
UID:29563-1406055600-1406055600@accesswinnipeg.com
SUMMARY:Goldeyes vs. RedHawks
DESCRIPTION:The Winnipeg Goldeyes take on the Fargo-Moorhead RedHawks at 7:00pm at Shaw Park in Winnipeg\, MB – Radio: 100.7 FM    Promotion:
URL:https://accesswinnipeg.com/event/goldeyes-vs-redhawks-7/
LOCATION:Shaw Park\, 1 Portage Ave E\, Winnipeg\, Manitoba\, R3B 3N3\, Canada
CATEGORIES:Sports,Winnipeg Goldeyes
ATTACH;FMTTYPE=image/png:https://accesswinnipeg.com/wp-content/uploads/2014/04/goldeyes.png
END:VEVENT
BEGIN:VEVENT
DTSTART;TZID=America/Winnipeg:20140721T190000
DTEND;TZID=America/Winnipeg:20140721T190000
DTSTAMP:20260423T181343
CREATED:20140428T145711Z
LAST-MODIFIED:20140519T184033Z
UID:29562-1405969200-1405969200@accesswinnipeg.com
SUMMARY:Goldeyes vs. RedHawks
DESCRIPTION:The Winnipeg Goldeyes take on the Fargo-Moorhead RedHawks at 7:00pm at Shaw Park in Winnipeg\, MB – Radio: 100.7 FM    Promotion:
URL:https://accesswinnipeg.com/event/goldeyes-vs-redhawks-6/
LOCATION:Shaw Park\, 1 Portage Ave E\, Winnipeg\, Manitoba\, R3B 3N3\, Canada
CATEGORIES:Sports,Winnipeg Goldeyes
ATTACH;FMTTYPE=image/png:https://accesswinnipeg.com/wp-content/uploads/2014/04/goldeyes.png
END:VEVENT
BEGIN:VEVENT
DTSTART;VALUE=DATE:20140718
DTEND;VALUE=DATE:20140720
DTSTAMP:20260423T181343
CREATED:20140425T190854Z
LAST-MODIFIED:20140425T192515Z
UID:29501-1405641600-1405814399@accesswinnipeg.com
SUMMARY:MTS Super-Spike 2014
DESCRIPTION:As one of Canada’s biggest outdoor/beach volleyball tournaments\, MTS Super-Spike sees thousands of participants take part year after year entering co-ed teams of 6’s in this action packed festival. Super-Spike offers levels of volleyball for everyone\, from the highly skilled to first time players. Three different divisions of volleyball are offered for teams to register into including recreational\, intermediate and competitive. There is also a corporate challenge division for businesses to enter where they can reward their staff for a fun day in the sun\, while also showing support in the community through taking part in this charity event!
URL:https://accesswinnipeg.com/event/mts-super-spike-2014/
LOCATION:Maple Grove Rugby Park\, 190 Frobisher Road\, Winnipeg\, Manitoba\, R2N 3Z1\, Canada
CATEGORIES:Sports
ATTACH;FMTTYPE=image/png:https://accesswinnipeg.com/wp-content/uploads/2014/04/superspike-e1398453906999.png
END:VEVENT
BEGIN:VEVENT
DTSTART;TZID=America/Winnipeg:20140717T193000
DTEND;TZID=America/Winnipeg:20140717T193000
DTSTAMP:20260423T181343
CREATED:20140425T150740Z
LAST-MODIFIED:20140704T150754Z
UID:29460-1405625400-1405625400@accesswinnipeg.com
SUMMARY:Edmonton @ Winnipeg
DESCRIPTION:Winnipeg Blue Bombers Home Game
URL:https://accesswinnipeg.com/event/edmonton-winnipeg/
LOCATION:Investors Group Field\, 315 Chancellor Matheson Road\, Winnipeg\, MB\, R3T 1Z2\, Canada
CATEGORIES:Sports,Winnipeg Blue Bombers
ATTACH;FMTTYPE=image/png:https://accesswinnipeg.com/wp-content/uploads/2014/04/bluebombers.png
END:VEVENT
BEGIN:VEVENT
DTSTART;TZID=America/Winnipeg:20140717T120000
DTEND;TZID=America/Winnipeg:20140717T120000
DTSTAMP:20260423T181343
CREATED:20140428T145711Z
LAST-MODIFIED:20140519T184042Z
UID:29561-1405598400-1405598400@accesswinnipeg.com
SUMMARY:Goldeyes vs. Saints
DESCRIPTION:The Winnipeg Goldeyes take on the St. Paul Saints at Noon at Shaw Park in Winnipeg\, MB – Radio: 100.7 FM  Promotion:
URL:https://accesswinnipeg.com/event/goldeyes-vs-saints-8/
LOCATION:Shaw Park\, 1 Portage Ave E\, Winnipeg\, Manitoba\, R3B 3N3\, Canada
CATEGORIES:Sports,Winnipeg Goldeyes
ATTACH;FMTTYPE=image/png:https://accesswinnipeg.com/wp-content/uploads/2014/04/goldeyes.png
END:VEVENT
BEGIN:VEVENT
DTSTART;TZID=America/Winnipeg:20140716T190000
DTEND;TZID=America/Winnipeg:20140716T190000
DTSTAMP:20260423T181343
CREATED:20140428T145711Z
LAST-MODIFIED:20140519T184052Z
UID:29560-1405537200-1405537200@accesswinnipeg.com
SUMMARY:Goldeyes vs. Saints
DESCRIPTION:The Winnipeg Goldeyes take on the St. Paul Saints at 7:00pm at Shaw Park in Winnipeg\, MB – Radio: 100.7 FM  Promotion: Sunglasses giveaway to first 2\,500 fans presented by Pepsi
URL:https://accesswinnipeg.com/event/goldeyes-vs-saints-7/
LOCATION:Shaw Park\, 1 Portage Ave E\, Winnipeg\, Manitoba\, R3B 3N3\, Canada
CATEGORIES:Sports,Winnipeg Goldeyes
ATTACH;FMTTYPE=image/png:https://accesswinnipeg.com/wp-content/uploads/2014/04/goldeyes.png
END:VEVENT
BEGIN:VEVENT
DTSTART;TZID=America/Winnipeg:20140715T190000
DTEND;TZID=America/Winnipeg:20140715T190000
DTSTAMP:20260423T181343
CREATED:20140428T145711Z
LAST-MODIFIED:20140519T184102Z
UID:29559-1405450800-1405450800@accesswinnipeg.com
SUMMARY:Goldeyes vs. Saints
DESCRIPTION:The Winnipeg Goldeyes take on the St. Paul Saints at 7:00pm at Shaw Park in Winnipeg\, MB – Radio: 100.7 FM  Promotion: Shirt off Our Backs Night Presented by Cambrian Credit Union
URL:https://accesswinnipeg.com/event/goldeyes-vs-saints-6/
LOCATION:Shaw Park\, 1 Portage Ave E\, Winnipeg\, Manitoba\, R3B 3N3\, Canada
CATEGORIES:Sports,Winnipeg Goldeyes
ATTACH;FMTTYPE=image/png:https://accesswinnipeg.com/wp-content/uploads/2014/04/goldeyes.png
END:VEVENT
BEGIN:VEVENT
DTSTART;TZID=America/Winnipeg:20140713T133000
DTEND;TZID=America/Winnipeg:20140713T133000
DTSTAMP:20260423T181343
CREATED:20140428T145711Z
LAST-MODIFIED:20140519T184428Z
UID:29558-1405258200-1405258200@accesswinnipeg.com
SUMMARY:Goldeyes vs. RailCats
DESCRIPTION:The Winnipeg Goldeyes take on the Gary SouthShore RailCats at 1:300pm at Shaw Park in Winnipeg\, MB – Radio: 100.7 FM    Promotion:
URL:https://accesswinnipeg.com/event/goldeyes-vs-railcats-7/
LOCATION:Shaw Park\, 1 Portage Ave E\, Winnipeg\, Manitoba\, R3B 3N3\, Canada
CATEGORIES:Sports,Winnipeg Goldeyes
ATTACH;FMTTYPE=image/png:https://accesswinnipeg.com/wp-content/uploads/2014/04/goldeyes.png
END:VEVENT
BEGIN:VEVENT
DTSTART;TZID=America/Winnipeg:20140712T180000
DTEND;TZID=America/Winnipeg:20140712T180000
DTSTAMP:20260423T181343
CREATED:20140428T145711Z
LAST-MODIFIED:20140519T184220Z
UID:29557-1405188000-1405188000@accesswinnipeg.com
SUMMARY:Goldeyes vs. RailCats
DESCRIPTION:The Winnipeg Goldeyes take on the Gary SouthShore RailCats at 6:00pm at Shaw Park in Winnipeg\, MB – Radio: 100.7 FM    Promotion:
URL:https://accesswinnipeg.com/event/goldeyes-vs-railcats-6/
LOCATION:Shaw Park\, 1 Portage Ave E\, Winnipeg\, Manitoba\, R3B 3N3\, Canada
CATEGORIES:Sports,Winnipeg Goldeyes
ATTACH;FMTTYPE=image/png:https://accesswinnipeg.com/wp-content/uploads/2014/04/goldeyes.png
END:VEVENT
BEGIN:VEVENT
DTSTART;TZID=America/Winnipeg:20140711T190000
DTEND;TZID=America/Winnipeg:20140711T190000
DTSTAMP:20260423T181343
CREATED:20140428T145711Z
LAST-MODIFIED:20140519T184229Z
UID:29556-1405105200-1405105200@accesswinnipeg.com
SUMMARY:Goldeyes vs. RailCats
DESCRIPTION:The Winnipeg Goldeyes take on the Gary SouthShore RailCats at 7:00pm at Shaw Park in Winnipeg\, MB – Radio: 100.7 FM    Promotion:  Fireworks
URL:https://accesswinnipeg.com/event/goldeyes-vs-railcats-5/
LOCATION:Shaw Park\, 1 Portage Ave E\, Winnipeg\, Manitoba\, R3B 3N3\, Canada
CATEGORIES:Sports,Winnipeg Goldeyes
ATTACH;FMTTYPE=image/png:https://accesswinnipeg.com/wp-content/uploads/2014/04/goldeyes.png
END:VEVENT
BEGIN:VEVENT
DTSTART;TZID=America/Winnipeg:20140710T190000
DTEND;TZID=America/Winnipeg:20140710T190000
DTSTAMP:20260423T181343
CREATED:20140428T145711Z
LAST-MODIFIED:20140519T184239Z
UID:29555-1405018800-1405018800@accesswinnipeg.com
SUMMARY:Goldeyes vs. Explorers
DESCRIPTION:The Winnipeg Goldeyes take on the Sioux City Explorers at 7:00pm at Shaw Park in Winnipeg\, MB – Radio: 100.7 FM Promotion: Team Photo giveaway & Pre-Game On-Field Autograph Session
URL:https://accesswinnipeg.com/event/goldeyes-vs-explorers-10/
LOCATION:Shaw Park\, 1 Portage Ave E\, Winnipeg\, Manitoba\, R3B 3N3\, Canada
CATEGORIES:Sports,Winnipeg Goldeyes
ATTACH;FMTTYPE=image/png:https://accesswinnipeg.com/wp-content/uploads/2014/04/goldeyes.png
END:VEVENT
END:VCALENDAR