BEGIN:VCALENDAR
VERSION:2.0
PRODID:-//Access Winnipeg - ECPv6.15.20//NONSGML v1.0//EN
CALSCALE:GREGORIAN
METHOD:PUBLISH
X-WR-CALNAME:Access Winnipeg
X-ORIGINAL-URL:https://accesswinnipeg.com
X-WR-CALDESC:Events for Access Winnipeg
REFRESH-INTERVAL;VALUE=DURATION:PT1H
X-Robots-Tag:noindex
X-PUBLISHED-TTL:PT1H
BEGIN:VTIMEZONE
TZID:America/Winnipeg
BEGIN:DAYLIGHT
TZOFFSETFROM:-0600
TZOFFSETTO:-0500
TZNAME:CDT
DTSTART:20180311T080000
END:DAYLIGHT
BEGIN:STANDARD
TZOFFSETFROM:-0500
TZOFFSETTO:-0600
TZNAME:CST
DTSTART:20181104T070000
END:STANDARD
BEGIN:DAYLIGHT
TZOFFSETFROM:-0600
TZOFFSETTO:-0500
TZNAME:CDT
DTSTART:20190310T080000
END:DAYLIGHT
BEGIN:STANDARD
TZOFFSETFROM:-0500
TZOFFSETTO:-0600
TZNAME:CST
DTSTART:20191103T070000
END:STANDARD
BEGIN:DAYLIGHT
TZOFFSETFROM:-0600
TZOFFSETTO:-0500
TZNAME:CDT
DTSTART:20200308T080000
END:DAYLIGHT
BEGIN:STANDARD
TZOFFSETFROM:-0500
TZOFFSETTO:-0600
TZNAME:CST
DTSTART:20201101T070000
END:STANDARD
END:VTIMEZONE
BEGIN:VEVENT
DTSTART;TZID=America/Winnipeg:20190208T000000
DTEND;TZID=America/Winnipeg:20190209T000000
DTSTAMP:20260419T120942
CREATED:20190208T211944Z
LAST-MODIFIED:20190208T211944Z
UID:62133-1549584000-1549670400@accesswinnipeg.com
SUMMARY:El Leon
DESCRIPTION:Venue: Anavets – John Osborn VC Unit #1	 300-1395 Ellice Ave	 Winnipeg Promoters: Ian Dawson El Leon – Latin Rock & Reggae Come celebrate Valentines Day early!
URL:https://accesswinnipeg.com/event/el-leon/
LOCATION:MB
CATEGORIES:Music
END:VEVENT
BEGIN:VEVENT
DTSTART;TZID=America/Winnipeg:20190208T000000
DTEND;TZID=America/Winnipeg:20190209T000000
DTSTAMP:20260419T120942
CREATED:20190208T211944Z
LAST-MODIFIED:20190208T211944Z
UID:62134-1549584000-1549670400@accesswinnipeg.com
SUMMARY:Danny Michel
DESCRIPTION:Venue: West End Cultural Centre	 586 Ellice Avenue	 Winnipeg The only good thing about NOT shopping in record stores like the good ol\’ days is you won’t have to figure out what genre to look for Danny under. If that WERE the case\, you could try looking under\, rock/pop\, folk\, world or (recently) even classical His own self-described musical A.D.D. has ke…
URL:https://accesswinnipeg.com/event/danny-michel-2/
LOCATION:MB
CATEGORIES:Music
END:VEVENT
BEGIN:VEVENT
DTSTART;TZID=America/Winnipeg:20190208T000000
DTEND;TZID=America/Winnipeg:20190209T000000
DTSTAMP:20260419T120942
CREATED:20190208T211944Z
LAST-MODIFIED:20190208T211944Z
UID:62135-1549584000-1549670400@accesswinnipeg.com
SUMMARY:Party For The People! 2nd night: Inflikted\,Dukkha\,Ebon Flow\,Witchtrip
DESCRIPTION:Venue: Windsor Hotel	 187 Garry Street	 Winnipeg The first annual Party For The People! A three night party to raise some funds for worthy and important causes. This year we\’re partying for Little Warriors and OHEYS Autism Program! Its $10 to get in the door\, and donations will be graciously accepted! Come on down for all three nights and bring…
URL:https://accesswinnipeg.com/event/party-for-the-people-2nd-night-inflikteddukkhaebon-flowwitchtrip/
LOCATION:MB
CATEGORIES:Music
END:VEVENT
BEGIN:VEVENT
DTSTART;TZID=America/Winnipeg:20190208T000000
DTEND;TZID=America/Winnipeg:20190209T000000
DTSTAMP:20260419T120942
CREATED:20190208T211944Z
LAST-MODIFIED:20190208T211944Z
UID:62136-1549584000-1549670400@accesswinnipeg.com
SUMMARY:Connor Derraugh
DESCRIPTION:Venue: Palm Lounge	 222 Broadway	 Winnipeg Join me for an early evening of jazz and jazz infused pop piano in the incredibly beautiful Palm Room at the Hotel Fort Garry!
URL:https://accesswinnipeg.com/event/connor-derraugh-6/
LOCATION:MB
CATEGORIES:Music
END:VEVENT
BEGIN:VEVENT
DTSTART;TZID=America/Winnipeg:20190208T000000
DTEND;TZID=America/Winnipeg:20190209T000000
DTSTAMP:20260419T120942
CREATED:20190208T211944Z
LAST-MODIFIED:20190208T211944Z
UID:62137-1549584000-1549670400@accesswinnipeg.com
SUMMARY:Jennifer Hanson\,Murray Pulver\,Gilles Fournier
DESCRIPTION:Venue: Palm Lounge	 222 Broadway	 Winnipeg
URL:https://accesswinnipeg.com/event/jennifer-hansonmurray-pulvergilles-fournier/
LOCATION:MB
CATEGORIES:Music
END:VEVENT
BEGIN:VEVENT
DTSTART;TZID=America/Winnipeg:20190208T000000
DTEND;TZID=America/Winnipeg:20190209T000000
DTSTAMP:20260419T120942
CREATED:20190208T211943Z
LAST-MODIFIED:20190208T211943Z
UID:62132-1549584000-1549670400@accesswinnipeg.com
SUMMARY:Dvořák & Rachmaninoff: Cameron Crozman\,Winnipeg Symphony Orchestra
DESCRIPTION:Venue: Centennial Concert Hall	 555 Main Street	 Winnipeg “Profound musical imagination\,” “Stunning panache” – a few of the accolades for Cameron Crozman who performs the Dvořák Cello Concerto on the Bonjour Stradivarius. Alexander Mickelthwate returns to lead the WSO in the “tragic and heroic” first symphony by Rachmaninoff. This will be exciting! …
URL:https://accesswinnipeg.com/event/dvorak-rachmaninoff-cameron-crozmanwinnipeg-symphony-orchestra-2/
LOCATION:MB
CATEGORIES:Music
END:VEVENT
BEGIN:VEVENT
DTSTART;TZID=America/Winnipeg:20190208T000000
DTEND;TZID=America/Winnipeg:20190209T000000
DTSTAMP:20260419T120942
CREATED:20190208T211943Z
LAST-MODIFIED:20190208T211943Z
UID:62131-1549584000-1549670400@accesswinnipeg.com
SUMMARY:Dvořák & Rachmaninoff: Cameron Crozman\,Winnipeg Symphony Orchestra
DESCRIPTION:Venue: Centennial Concert Hall	 555 Main Street	 Winnipeg “Profound musical imagination\,” “Stunning panache” – a few of the accolades for Cameron Crozman who performs the Dvořák Cello Concerto on the Bonjour Stradivarius. Alexander Mickelthwate returns to lead the WSO in the “tragic and heroic” first symphony by Rachmaninoff. This will be exciting! …
URL:https://accesswinnipeg.com/event/dvorak-rachmaninoff-cameron-crozmanwinnipeg-symphony-orchestra/
LOCATION:MB
CATEGORIES:Music
END:VEVENT
BEGIN:VEVENT
DTSTART;TZID=America/Winnipeg:20190207T000000
DTEND;TZID=America/Winnipeg:20190208T000000
DTSTAMP:20260419T120942
CREATED:20190207T211946Z
LAST-MODIFIED:20190207T211946Z
UID:62111-1549497600-1549584000@accesswinnipeg.com
SUMMARY:JD and the Sunshine Band
DESCRIPTION:Venue: Times Change(d) High & Lonesome Club	 234 Main Street	 Winnipeg
URL:https://accesswinnipeg.com/event/jd-and-the-sunshine-band/
LOCATION:MB
CATEGORIES:Music
END:VEVENT
BEGIN:VEVENT
DTSTART;TZID=America/Winnipeg:20190207T000000
DTEND;TZID=America/Winnipeg:20190208T000000
DTSTAMP:20260419T120942
CREATED:20190207T211946Z
LAST-MODIFIED:20190207T211946Z
UID:62112-1549497600-1549584000@accesswinnipeg.com
SUMMARY:Jelly B & The Kmart Shoppers
DESCRIPTION:Venue: X-Cues Cafe & Lounge	 551 Sargent Ave	 Winnipeg Jelly B & The Kmart Shoppers will be guest hosting at Xcues Open Mic on Thursday Feb 07\, 2019.  Sign up starts at 8pm and we will kick the night off by playing a few songs.  Come on down and play a few solo or with friends and of course the Kmart Shoppers will be on hand if you need some back up.
URL:https://accesswinnipeg.com/event/jelly-b-the-kmart-shoppers/
LOCATION:MB
CATEGORIES:Music
END:VEVENT
BEGIN:VEVENT
DTSTART;TZID=America/Winnipeg:20190207T000000
DTEND;TZID=America/Winnipeg:20190208T000000
DTSTAMP:20260419T120942
CREATED:20190207T211946Z
LAST-MODIFIED:20190207T211946Z
UID:62113-1549497600-1549584000@accesswinnipeg.com
SUMMARY:Open Mic Night
DESCRIPTION:Venue: Sam\’s Place	 159 Henderson Highway	 Winnipeg Sam\’s Place is having an open mic every other Thursday.  Come by at 6:45pm to sign up and perform a song or two you wrote.
URL:https://accesswinnipeg.com/event/open-mic-night-3/
LOCATION:MB
CATEGORIES:Music
END:VEVENT
BEGIN:VEVENT
DTSTART;TZID=America/Winnipeg:20190207T000000
DTEND;TZID=America/Winnipeg:20190208T000000
DTSTAMP:20260419T120942
CREATED:20190207T211946Z
LAST-MODIFIED:20190207T211946Z
UID:62114-1549497600-1549584000@accesswinnipeg.com
SUMMARY:Corrosion of Conformity: Corrosion of Conformity
DESCRIPTION:Venue: Park Theatre	 698 Osborne Street	 Winnipeg
URL:https://accesswinnipeg.com/event/corrosion-of-conformity-corrosion-of-conformity/
LOCATION:MB
CATEGORIES:Music
END:VEVENT
BEGIN:VEVENT
DTSTART;TZID=America/Winnipeg:20190207T000000
DTEND;TZID=America/Winnipeg:20190208T000000
DTSTAMP:20260419T120942
CREATED:20190207T211945Z
LAST-MODIFIED:20190207T211945Z
UID:62105-1549497600-1549584000@accesswinnipeg.com
SUMMARY:Open Mic
DESCRIPTION:Venue: Gordie\’s Coffee House	 127 Cobourg	 Winnipeg P.A.\, Mics provided. Free of charge
URL:https://accesswinnipeg.com/event/open-mic-57/
LOCATION:MB
CATEGORIES:Music
END:VEVENT
BEGIN:VEVENT
DTSTART;TZID=America/Winnipeg:20190207T000000
DTEND;TZID=America/Winnipeg:20190208T000000
DTSTAMP:20260419T120942
CREATED:20190207T211945Z
LAST-MODIFIED:20190207T211945Z
UID:62106-1549497600-1549584000@accesswinnipeg.com
SUMMARY:Frannie and Guest
DESCRIPTION:Venue: Shannon\’s Irish Pub	 175 Carlton Street	 Winnipeg
URL:https://accesswinnipeg.com/event/frannie-and-guest-4/
LOCATION:MB
CATEGORIES:Music
END:VEVENT
BEGIN:VEVENT
DTSTART;TZID=America/Winnipeg:20190207T000000
DTEND;TZID=America/Winnipeg:20190208T000000
DTSTAMP:20260419T120942
CREATED:20190207T211945Z
LAST-MODIFIED:20190207T211945Z
UID:62108-1549497600-1549584000@accesswinnipeg.com
SUMMARY:Sir Luc and The Dukes
DESCRIPTION:Venue: Le Garage Cafe	 166 Provencher Blvd	 Winnipeg
URL:https://accesswinnipeg.com/event/sir-luc-and-the-dukes/
LOCATION:MB
CATEGORIES:Music
END:VEVENT
BEGIN:VEVENT
DTSTART;TZID=America/Winnipeg:20190207T000000
DTEND;TZID=America/Winnipeg:20190208T000000
DTSTAMP:20260419T120942
CREATED:20190207T211945Z
LAST-MODIFIED:20190207T211945Z
UID:62109-1549497600-1549584000@accesswinnipeg.com
SUMMARY:Party For The People! 1st night: Nic Dyson\,The Great Steelhead\,Katie And The Wolves
DESCRIPTION:Venue: Windsor Hotel	 187 Garry Street	 Winnipeg The first annual Party For The People! A three night party to raise some funds for worthy and important causes. This year we\’re partying for Little Warriors and OHEYS Autism Program! Its $10 to get in the door\, and donations will be graciously accepted! Come on down for all three nights and bring…
URL:https://accesswinnipeg.com/event/party-for-the-people-1st-night-nic-dysonthe-great-steelheadkatie-and-the-wolves/
LOCATION:MB
CATEGORIES:Music
END:VEVENT
BEGIN:VEVENT
DTSTART;TZID=America/Winnipeg:20190207T000000
DTEND;TZID=America/Winnipeg:20190208T000000
DTSTAMP:20260419T120942
CREATED:20190207T211945Z
LAST-MODIFIED:20190207T211945Z
UID:62110-1549497600-1549584000@accesswinnipeg.com
SUMMARY:Ferro Montanino
DESCRIPTION:Venue: Palm Lounge	 222 Broadway	 Winnipeg
URL:https://accesswinnipeg.com/event/ferro-montanino-5/
LOCATION:MB
CATEGORIES:Music
END:VEVENT
BEGIN:VEVENT
DTSTART;TZID=America/Winnipeg:20190207T000000
DTEND;TZID=America/Winnipeg:20190208T000000
DTSTAMP:20260419T120942
CREATED:20190207T211945Z
LAST-MODIFIED:20190207T211945Z
UID:62103-1549497600-1549584000@accesswinnipeg.com
SUMMARY:Soirée chansonnier: Edouard Lamontagne
DESCRIPTION:Venue: Université de Saint-Boniface	 200 avenue de la Cathedrale	 Winnipeg Venez chanter et célébrer à la fameuse Soirée chansonnier! Animée par le talentueux Edouard Lamontagne\, la Soirée chansonnier invite les gens à chanter tous en choeur des chansons en français. Avec paroles projetées à l\’écran\, bar et bouffe\, une soirée amusante vous attend à chaque premier jeudi …
URL:https://accesswinnipeg.com/event/soiree-chansonnier-edouard-lamontagne-4/
LOCATION:MB
CATEGORIES:Music
END:VEVENT
BEGIN:VEVENT
DTSTART;TZID=America/Winnipeg:20190207T000000
DTEND;TZID=America/Winnipeg:20190208T000000
DTSTAMP:20260419T120942
CREATED:20190206T211945Z
LAST-MODIFIED:20190207T211945Z
UID:62086-1549497600-1549584000@accesswinnipeg.com
SUMMARY:Corrosion of Conformity\,Crowbar\,Weedeater\,Mothership
DESCRIPTION:Venue: Park Theatre	 698 Osborne Street	 Winnipeg
URL:https://accesswinnipeg.com/event/corrosion-of-conformitycrowbarweedeatermothership/
LOCATION:MB
CATEGORIES:Music
END:VEVENT
BEGIN:VEVENT
DTSTART;TZID=America/Winnipeg:20190207T000000
DTEND;TZID=America/Winnipeg:20190208T000000
DTSTAMP:20260419T120942
CREATED:20190206T211945Z
LAST-MODIFIED:20190207T211945Z
UID:62087-1549497600-1549584000@accesswinnipeg.com
SUMMARY:Skywalk Concerts: Winnipeg Youth Orchestras
DESCRIPTION:Venue: Millennium Library	 251 Donald Street	 Winnipeg 12:10-12:50PM 2nd floor\, Carol Shields Auditorium The Orchestras’ annual Skywalk performance featuring soloists and ensembles.
URL:https://accesswinnipeg.com/event/skywalk-concerts-winnipeg-youth-orchestras/
LOCATION:MB
CATEGORIES:Music
END:VEVENT
BEGIN:VEVENT
DTSTART;VALUE=DATE:20190207
DTEND;VALUE=DATE:20190208
DTSTAMP:20260419T120942
CREATED:20190121T193956Z
LAST-MODIFIED:20190207T210442Z
UID:61537-1549497600-1549583999@accesswinnipeg.com
SUMMARY:Alzheimer Society Manitoba Gala
DESCRIPTION:A Night in Croatia Gala in support of the Alzheimer Society Manitoba.  https://secure2.convio.net/alzmb/site/SPageNavigator/Gala/Gala2019Home.html
URL:https://accesswinnipeg.com/event/alzheimer-society-manitoba-gala/
LOCATION:MB
CATEGORIES:Conference
END:VEVENT
BEGIN:VEVENT
DTSTART;VALUE=DATE:20190207
DTEND;VALUE=DATE:20190208
DTSTAMP:20260419T120942
CREATED:20190121T193956Z
LAST-MODIFIED:20190207T210442Z
UID:61536-1549497600-1549583999@accesswinnipeg.com
SUMMARY:SHEday 2019
DESCRIPTION:The award-winning 5th Annual SHEday is the highly anticipated professional development event that provides women with the skills and tools to advance them in their leadership journeys. http://wecm.ca/sheday/
URL:https://accesswinnipeg.com/event/sheday-2019/
LOCATION:MB
CATEGORIES:Conference
END:VEVENT
BEGIN:VEVENT
DTSTART;TZID=America/Winnipeg:20190206T000000
DTEND;TZID=America/Winnipeg:20190207T000000
DTSTAMP:20260419T120942
CREATED:20190206T211944Z
LAST-MODIFIED:20190206T211944Z
UID:62080-1549411200-1549497600@accesswinnipeg.com
SUMMARY:The Jim Beam Songwriter Series: Courtney Devon Krebsbach\,Kenzie Jane\,Troy Taylor\,Elise Roller
DESCRIPTION:Venue: Cavern	 112 Osborne Street	 Winnipeg Starting in the New Year! Every Wednesday! Sure Shot Bookings and Jim Beam present a weekly songwriter series with Winnipeg’s best writers.  No Cover! Doors 9pm Show 9:30pm-11:30pm Every Wednesday starting Jan 2\, three songwriters will be featured each week.  Here is the Jan and Fe…
URL:https://accesswinnipeg.com/event/the-jim-beam-songwriter-series-courtney-devon-krebsbachkenzie-janetroy-taylorelise-roller/
LOCATION:MB
CATEGORIES:Music
END:VEVENT
BEGIN:VEVENT
DTSTART;TZID=America/Winnipeg:20190206T000000
DTEND;TZID=America/Winnipeg:20190207T000000
DTSTAMP:20260419T120942
CREATED:20190206T211944Z
LAST-MODIFIED:20190206T211944Z
UID:62084-1549411200-1549497600@accesswinnipeg.com
SUMMARY:Wine Wednesday: Garth & Nazeem
DESCRIPTION:Venue: Pony Corral Pier 7	 1700 Pembina Highway	 Winnipeg
URL:https://accesswinnipeg.com/event/wine-wednesday-garth-nazeem/
LOCATION:MB
CATEGORIES:Music
END:VEVENT
BEGIN:VEVENT
DTSTART;TZID=America/Winnipeg:20190206T000000
DTEND;TZID=America/Winnipeg:20190207T000000
DTSTAMP:20260419T120942
CREATED:20190206T211943Z
LAST-MODIFIED:20190206T211943Z
UID:62079-1549411200-1549497600@accesswinnipeg.com
SUMMARY:Dan Mangan
DESCRIPTION:Venue: The Garrick	 330 Garry Street	 Winnipeg Promoters: Winnipeg Folk Festival After performing at the Winnipeg Folk Fest in 2011 and 2015\, two-time JUNO award-winning & two-time Polaris Music Prize listed musician and songwriter Dan Mangan is back in Winnipeg on February 6 at The Garrick! Mangan is touring his fifth full-length album More or Less due on November 2\, 2018. …
URL:https://accesswinnipeg.com/event/dan-mangan/
LOCATION:MB
CATEGORIES:Music
END:VEVENT
BEGIN:VEVENT
DTSTART;TZID=America/Winnipeg:20190206T000000
DTEND;TZID=America/Winnipeg:20190207T000000
DTSTAMP:20260419T120942
CREATED:20190205T210444Z
LAST-MODIFIED:20190206T211944Z
UID:62070-1549411200-1549497600@accesswinnipeg.com
SUMMARY:Kyle McKiernan
DESCRIPTION:Venue: Palm Lounge	 222 Broadway	 Winnipeg
URL:https://accesswinnipeg.com/event/kyle-mckiernan-13/
LOCATION:MB
CATEGORIES:Music
END:VEVENT
BEGIN:VEVENT
DTSTART;TZID=America/Winnipeg:20190206T000000
DTEND;TZID=America/Winnipeg:20190207T000000
DTSTAMP:20260419T120942
CREATED:20190205T210444Z
LAST-MODIFIED:20190206T211944Z
UID:62071-1549411200-1549497600@accesswinnipeg.com
SUMMARY:New Music Night: The Sorels\,Victoria Turko\,Jacob Brodovsky & Sierra Noble
DESCRIPTION:Venue: The Good Will Social Club	 625 Portage Avenue	 Winnipeg Promoters: Manitoba Music	 New Music Night $3 cover / 18+ / Doors at 7:30PM / Music at 8PM 9:30PM The Sorels 8:45PM Victoria Turko 8:00PM Jacob Brodovsky & Sierra Noble Manitoba Music is teaming up with live music hot spot The Good Will to shine a spotlight on emerging local music. New Music Night offers music fans a space to find…
URL:https://accesswinnipeg.com/event/new-music-night-the-sorelsvictoria-turkojacob-brodovsky-sierra-noble/
LOCATION:MB
CATEGORIES:Music
END:VEVENT
BEGIN:VEVENT
DTSTART;TZID=America/Winnipeg:20190206T000000
DTEND;TZID=America/Winnipeg:20190207T000000
DTSTAMP:20260419T120942
CREATED:20190205T210444Z
LAST-MODIFIED:20190206T211944Z
UID:62072-1549411200-1549497600@accesswinnipeg.com
SUMMARY:Stephen Hardy Palmer Album Release: Stephen Hardy Palmer
DESCRIPTION:Venue: Wee Johnny\’s Irish Pub	 177 McDemot Avenue	 Winnipeg CD release concert \’The Journey In Story and Song\’ a personal voyage celebrating life\’s many ups and downs. 11 brand new original songs featuring Stephen Palmer\’s guitar and vocals. Ably backed by John Ervin on Bass\, Darryl Lesage on Drums\, and Lloyd Peterson on sound.  
URL:https://accesswinnipeg.com/event/stephen-hardy-palmer-album-release-stephen-hardy-palmer/
LOCATION:MB
CATEGORIES:Music
END:VEVENT
BEGIN:VEVENT
DTSTART;TZID=America/Winnipeg:20190206T000000
DTEND;TZID=America/Winnipeg:20190207T000000
DTSTAMP:20260419T120943
CREATED:20190205T210443Z
LAST-MODIFIED:20190206T211944Z
UID:62069-1549411200-1549497600@accesswinnipeg.com
SUMMARY:Live @ the Roslyn: Don Amero
DESCRIPTION:Venue: Facebook Live	 Live @ the Roslyn	 Winnipeg Promoters: The Village Idiots In episode 13 of season 3 we are so excited to feature multiple award winner and Juno nominated Don Amero! Tune in to The Village Idiots page Wed. Feb. 6th and watch him play a full set (with his band)\, from the comfort of your OWN home\, on Facebook Live at The Roslyn! :)
URL:https://accesswinnipeg.com/event/live-the-roslyn-don-amero/
LOCATION:MB
CATEGORIES:Music
END:VEVENT
BEGIN:VEVENT
DTSTART;TZID=America/Winnipeg:20190206T000000
DTEND;TZID=America/Winnipeg:20190207T000000
DTSTAMP:20260419T120943
CREATED:20190204T210449Z
LAST-MODIFIED:20190206T211943Z
UID:62052-1549411200-1549497600@accesswinnipeg.com
SUMMARY:Open Mic
DESCRIPTION:Venue: Elsie Bear\’s Kitchen	 150 Henry Ave	 Winnipeg P.A.\, Mics\, Drum Kit\, Amps provided free tea and coffee
URL:https://accesswinnipeg.com/event/open-mic-56/
LOCATION:MB
CATEGORIES:Music
END:VEVENT
BEGIN:VEVENT
DTSTART;TZID=America/Winnipeg:20190206T000000
DTEND;TZID=America/Winnipeg:20190207T000000
DTSTAMP:20260419T120943
CREATED:20190204T210449Z
LAST-MODIFIED:20190206T211944Z
UID:62053-1549411200-1549497600@accesswinnipeg.com
SUMMARY:Tyler Shaw
DESCRIPTION:Venue: Pyramid Cabaret	 176 Fort Street	 Winnipeg
URL:https://accesswinnipeg.com/event/tyler-shaw/
LOCATION:MB
CATEGORIES:Music
END:VEVENT
END:VCALENDAR