BEGIN:VCALENDAR
VERSION:2.0
PRODID:-//Access Winnipeg - ECPv6.15.20//NONSGML v1.0//EN
CALSCALE:GREGORIAN
METHOD:PUBLISH
X-WR-CALNAME:Access Winnipeg
X-ORIGINAL-URL:https://accesswinnipeg.com
X-WR-CALDESC:Events for Access Winnipeg
REFRESH-INTERVAL;VALUE=DURATION:PT1H
X-Robots-Tag:noindex
X-PUBLISHED-TTL:PT1H
BEGIN:VTIMEZONE
TZID:America/Winnipeg
BEGIN:DAYLIGHT
TZOFFSETFROM:-0600
TZOFFSETTO:-0500
TZNAME:CDT
DTSTART:20180311T080000
END:DAYLIGHT
BEGIN:STANDARD
TZOFFSETFROM:-0500
TZOFFSETTO:-0600
TZNAME:CST
DTSTART:20181104T070000
END:STANDARD
BEGIN:DAYLIGHT
TZOFFSETFROM:-0600
TZOFFSETTO:-0500
TZNAME:CDT
DTSTART:20190310T080000
END:DAYLIGHT
BEGIN:STANDARD
TZOFFSETFROM:-0500
TZOFFSETTO:-0600
TZNAME:CST
DTSTART:20191103T070000
END:STANDARD
BEGIN:DAYLIGHT
TZOFFSETFROM:-0600
TZOFFSETTO:-0500
TZNAME:CDT
DTSTART:20200308T080000
END:DAYLIGHT
BEGIN:STANDARD
TZOFFSETFROM:-0500
TZOFFSETTO:-0600
TZNAME:CST
DTSTART:20201101T070000
END:STANDARD
END:VTIMEZONE
BEGIN:VEVENT
DTSTART;TZID=America/Winnipeg:20190504T000000
DTEND;TZID=America/Winnipeg:20190505T000000
DTSTAMP:20260423T164921
CREATED:20190505T021958Z
LAST-MODIFIED:20190505T021958Z
UID:63793-1556928000-1557014400@accesswinnipeg.com
SUMMARY:Tasting Notes
DESCRIPTION:Venue: Maranatha Evangelical Free Church	 910 Sturgeon Road	 Winnipeg Prairie Voices presents our annual dessert concert. Savour a sweet slice of cake while hearing arrangements by artists such at Bon Iver\, alt-J\, Maggie Rogers and Winnipeg\’s own Royal Canoe! This promises to be a choral concert unlike any other! Join us at Maranatha Evangelical Free Church (910…
URL:https://accesswinnipeg.com/event/tasting-notes-2/
CATEGORIES:Music
END:VEVENT
BEGIN:VEVENT
DTSTART;TZID=America/Winnipeg:20190504T000000
DTEND;TZID=America/Winnipeg:20190505T000000
DTSTAMP:20260423T164921
CREATED:20190505T021958Z
LAST-MODIFIED:20190505T021958Z
UID:63794-1556928000-1557014400@accesswinnipeg.com
SUMMARY:A Women\'s Cabaret Fundraiser : Ashley Bieniarz\,Gabrielle Fontaine\,Ainslie Schroeder\,NJ Cookey\,Tracy Bone\,Brandi Vezina\,Ashley Au
DESCRIPTION:Venue: X-Cues Cafe & Lounge	 551 Sargent Ave	 Winnipeg An Evening Celebrating Local Women Artists Through Song\, Comedy\, Spoken Word & Poetry in Support of Point Douglas & St. Johns NDP Constituencies! A Joint Fundraiser for Point Douglas and St. Johns NDP Constituencies in Advance of the Upcoming Provincial General Election!
URL:https://accesswinnipeg.com/event/a-womens-cabaret-fundraiser-ashley-bieniarzgabrielle-fontaineainslie-schroedernj-cookeytracy-bonebrandi-vezinaashley-au/
CATEGORIES:Music
END:VEVENT
BEGIN:VEVENT
DTSTART;TZID=America/Winnipeg:20190504T000000
DTEND;TZID=America/Winnipeg:20190505T000000
DTSTAMP:20260423T164921
CREATED:20190505T021958Z
LAST-MODIFIED:20190505T021958Z
UID:63795-1556928000-1557014400@accesswinnipeg.com
SUMMARY:Bach Marathon
DESCRIPTION:Venue: Young United Church	 100-222 Furby Street	 Winnipeg This one day marathon will be a celebration of the life and music of Johann Sebastian Bach. This event is open to all ages of students and experienced performers\, any instrument\, including voice and ensembles. If you play or sing something by Bach this event is for you\, your students and your col…
URL:https://accesswinnipeg.com/event/bach-marathon/
CATEGORIES:Music
END:VEVENT
BEGIN:VEVENT
DTSTART;TZID=America/Winnipeg:20190504T000000
DTEND;TZID=America/Winnipeg:20190505T000000
DTSTAMP:20260423T164921
CREATED:20190505T021958Z
LAST-MODIFIED:20190505T021958Z
UID:63796-1556928000-1557014400@accesswinnipeg.com
SUMMARY:The JPL Band
DESCRIPTION:Venue: Joe Black Coffee Bar	 2037 Portage Ave	 Winnipeg The JPL Band never disappoints. Mixing up old rock classics with the Blues\, these guys have fun together engaging and entertaining the crowd! No cover charge…but you\’ll be tempted by the coffee\, drinks and goodies that Joe Black offers! (If the crowd is into it\, we may get \”One Bourbon\, One Sco…
URL:https://accesswinnipeg.com/event/the-jpl-band-2/
CATEGORIES:Music
END:VEVENT
BEGIN:VEVENT
DTSTART;TZID=America/Winnipeg:20190504T193000
DTEND;TZID=America/Winnipeg:20190504T193000
DTSTAMP:20260423T164921
CREATED:20190203T160452Z
LAST-MODIFIED:20190504T203452Z
UID:62005-1556998200-1556998200@accesswinnipeg.com
SUMMARY:Thomas Rhett
DESCRIPTION:
URL:https://accesswinnipeg.com/event/thomas-rhett/
LOCATION:Bell MTS Place\, 300 Portage Avenue\, Winnipeg\, Manitoba\, R3C 5S4\, Canada
END:VEVENT
BEGIN:VEVENT
DTSTART;TZID=America/Winnipeg:20190505T000000
DTEND;TZID=America/Winnipeg:20190506T000000
DTSTAMP:20260423T164921
CREATED:20190506T022046Z
LAST-MODIFIED:20190506T022046Z
UID:63802-1557014400-1557100800@accesswinnipeg.com
SUMMARY:School of Rock students
DESCRIPTION:Venue: Park Theatre	 698 Osborne Street	 Winnipeg On Sunday May 5th\, School of Rock is taking over the Park Theatre! Live performances include: Wednesday Rock 101 A tribute to Black Sabbath 90\’s Alternative Rock Party Admission is $15 and advance tickets are on sale at the school (657 Corydon Avenue) starting Friday March 1st\, 2019 Sc…
URL:https://accesswinnipeg.com/event/school-of-rock-students/
CATEGORIES:Music
END:VEVENT
BEGIN:VEVENT
DTSTART;TZID=America/Winnipeg:20190505T000000
DTEND;TZID=America/Winnipeg:20190506T000000
DTSTAMP:20260423T164921
CREATED:20190506T022046Z
LAST-MODIFIED:20190506T022046Z
UID:63803-1557014400-1557100800@accesswinnipeg.com
SUMMARY:Death By Chocolate: The Live of Henry Purcell: Daniel Cabena
DESCRIPTION:Venue: Crescent Fort Rouge United Church	 525 Wardlaw Avenue	 Winnipeg
URL:https://accesswinnipeg.com/event/death-by-chocolate-the-live-of-henry-purcell-daniel-cabena/
CATEGORIES:Music
END:VEVENT
BEGIN:VEVENT
DTSTART;TZID=America/Winnipeg:20190505T000000
DTEND;TZID=America/Winnipeg:20190506T000000
DTSTAMP:20260423T164921
CREATED:20190506T022046Z
LAST-MODIFIED:20190506T022046Z
UID:63804-1557014400-1557100800@accesswinnipeg.com
SUMMARY:Death By Chocolate: The Live of Henry Purcell: Daniel Cabena
DESCRIPTION:Venue: Crescent Fort Rouge United Church	 525 Wardlaw Avenue	 Winnipeg
URL:https://accesswinnipeg.com/event/death-by-chocolate-the-live-of-henry-purcell-daniel-cabena-2/
CATEGORIES:Music
END:VEVENT
BEGIN:VEVENT
DTSTART;TZID=America/Winnipeg:20190505T000000
DTEND;TZID=America/Winnipeg:20190506T000000
DTSTAMP:20260423T164921
CREATED:20190506T022046Z
LAST-MODIFIED:20190506T022046Z
UID:63805-1557014400-1557100800@accesswinnipeg.com
SUMMARY:Acoustic Heartthrobs: Jericho Rosales\,Sam Milby\,Yen Santos\,Negi
DESCRIPTION:Venue: Burton Cummings Theatre for the Performing Arts	 364 Smith Street	 Winnipeg
URL:https://accesswinnipeg.com/event/acoustic-heartthrobs-jericho-rosalessam-milbyyen-santosnegi/
CATEGORIES:Music
END:VEVENT
BEGIN:VEVENT
DTSTART;TZID=America/Winnipeg:20190505T000000
DTEND;TZID=America/Winnipeg:20190506T000000
DTSTAMP:20260423T164921
CREATED:20190506T022047Z
LAST-MODIFIED:20190506T022047Z
UID:63811-1557014400-1557100800@accesswinnipeg.com
SUMMARY:Ron Halldorson
DESCRIPTION:Venue: Palm Lounge	 222 Broadway	 Winnipeg
URL:https://accesswinnipeg.com/event/ron-halldorson-9/
CATEGORIES:Music
END:VEVENT
BEGIN:VEVENT
DTSTART;TZID=America/Winnipeg:20190505T000000
DTEND;TZID=America/Winnipeg:20190506T000000
DTSTAMP:20260423T164921
CREATED:20190506T022047Z
LAST-MODIFIED:20190506T022047Z
UID:63806-1557014400-1557100800@accesswinnipeg.com
SUMMARY:Family Song and Dance Party: Andrina Turenne
DESCRIPTION:Venue: Times Change(d) High & Lonesome Club	 234 Main Street	 Winnipeg Sunday May 5th. 1-4pm. Our first ever Times Change(d) Family Song and Dance Party. Let’s help our children discover the music we love. With your host Andrina Turenne. Singing\, dancing\, food\, fun! All are welcome. Admission is free\, though donations will be gratefully accepted. Stroller and wagon …
URL:https://accesswinnipeg.com/event/family-song-and-dance-party-andrina-turenne/
CATEGORIES:Music
END:VEVENT
BEGIN:VEVENT
DTSTART;TZID=America/Winnipeg:20190505T000000
DTEND;TZID=America/Winnipeg:20190506T000000
DTSTAMP:20260423T164921
CREATED:20190506T022047Z
LAST-MODIFIED:20190506T022047Z
UID:63812-1557014400-1557100800@accesswinnipeg.com
SUMMARY:Blues Jam: Big Dave McLean
DESCRIPTION:Venue: Times Change(d) High & Lonesome Club	 234 Main Street	 Winnipeg
URL:https://accesswinnipeg.com/event/blues-jam-big-dave-mclean/
CATEGORIES:Music
END:VEVENT
BEGIN:VEVENT
DTSTART;TZID=America/Winnipeg:20190505T000000
DTEND;TZID=America/Winnipeg:20190506T000000
DTSTAMP:20260423T164921
CREATED:20190506T022047Z
LAST-MODIFIED:20190506T022047Z
UID:63807-1557014400-1557100800@accesswinnipeg.com
SUMMARY:Micah Erenberg\,Cole Shway\,Erika Fowler
DESCRIPTION:Venue: The Good Will Social Club	 625 Portage Avenue	 Winnipeg Come join Micah Erenberg\, Cole Shway\, and Erika Fowler at The Good Will Social Club on Sunday\, May 5th for Micah Erenberg\’s UK & Germany Tour kick-off show!
URL:https://accesswinnipeg.com/event/micah-erenbergcole-shwayerika-fowler/
CATEGORIES:Music
END:VEVENT
BEGIN:VEVENT
DTSTART;TZID=America/Winnipeg:20190505T000000
DTEND;TZID=America/Winnipeg:20190506T000000
DTSTAMP:20260423T164921
CREATED:20190506T022047Z
LAST-MODIFIED:20190506T022047Z
UID:63813-1557014400-1557100800@accesswinnipeg.com
SUMMARY:Jacob Brodovsky Album Release: Jacob Brodovsky\,Sophie Stevens
DESCRIPTION:Venue: The Tallest Poppy	 103 Sherbrook Street	 Winnipeg
URL:https://accesswinnipeg.com/event/jacob-brodovsky-album-release-jacob-brodovskysophie-stevens/
CATEGORIES:Music
END:VEVENT
BEGIN:VEVENT
DTSTART;TZID=America/Winnipeg:20190505T000000
DTEND;TZID=America/Winnipeg:20190506T000000
DTSTAMP:20260423T164921
CREATED:20190506T022047Z
LAST-MODIFIED:20190506T022047Z
UID:63808-1557014400-1557100800@accesswinnipeg.com
SUMMARY:Open Mic
DESCRIPTION:Venue: Bulldog Pizza	 1364 Main Street	 Winnipeg
URL:https://accesswinnipeg.com/event/open-mic-82/
CATEGORIES:Music
END:VEVENT
BEGIN:VEVENT
DTSTART;TZID=America/Winnipeg:20190505T000000
DTEND;TZID=America/Winnipeg:20190506T000000
DTSTAMP:20260423T164921
CREATED:20190506T022047Z
LAST-MODIFIED:20190506T022047Z
UID:63809-1557014400-1557100800@accesswinnipeg.com
SUMMARY:Open Mic
DESCRIPTION:Venue: Winnipeg South Osborne Legion	 436 Osborne Street	 Winnipeg
URL:https://accesswinnipeg.com/event/open-mic-83/
CATEGORIES:Music
END:VEVENT
BEGIN:VEVENT
DTSTART;TZID=America/Winnipeg:20190505T000000
DTEND;TZID=America/Winnipeg:20190506T000000
DTSTAMP:20260423T164921
CREATED:20190506T022047Z
LAST-MODIFIED:20190506T022047Z
UID:63810-1557014400-1557100800@accesswinnipeg.com
SUMMARY:Winnipeg Wind Chamber\,The Manitoba Trombone Collective
DESCRIPTION:Venue: Crescent Fort Rouge United Church	 525 Wardlaw Avenue	 Winnipeg Winnipeg Wind Chamber and The Manitoba Trombone Collective finish the season with this dynamic entertainment event. Tickets are $15.00 and can be obtained at the door. Stay for refreshments afterwards! Sponsored by Baked Expectations.
URL:https://accesswinnipeg.com/event/winnipeg-wind-chamberthe-manitoba-trombone-collective/
CATEGORIES:Music
END:VEVENT
BEGIN:VEVENT
DTSTART;VALUE=DATE:20190505
DTEND;VALUE=DATE:20190509
DTSTAMP:20260423T164921
CREATED:20190204T204944Z
LAST-MODIFIED:20190508T031948Z
UID:62040-1557014400-1557359999@accesswinnipeg.com
SUMMARY:National Conference for Canada's Credit Unions
DESCRIPTION:The Canadian Credit Union Association (CCUA) is once again excited to present the National Conference for Canada’s Credit Unions. The gathering presents an outstanding opportunity for leaders across the country to share knowledge and best practices\, network with peers\, and to discuss common issues and opportunities.  https://ccua.com/events/national_conference/2019
URL:https://accesswinnipeg.com/event/national-conference-for-canadas-credit-unions/
CATEGORIES:Conference
END:VEVENT
BEGIN:VEVENT
DTSTART;VALUE=DATE:20190506
DTEND;VALUE=DATE:20190507
DTSTAMP:20260423T164921
CREATED:20190318T234950Z
LAST-MODIFIED:20190506T031958Z
UID:62882-1557100800-1557187199@accesswinnipeg.com
SUMMARY:VIP Luncheon with the Bank of Canada and ​Governor Stephen Poloz
DESCRIPTION:The Winnipeg Chamber of Commerce along with the Canadian Credit Union Association is pleased to welcome the Bank of Canada and Governor Stephen Poloz for a special VIP Luncheon. The luncheon will feature a presentation on behalf of the Bank of Canada\, as well as a ‘Fireside Chat’ with Governor Stephen Poloz. https://www.winnipeg-chamber.com/bankofcanada.html
URL:https://accesswinnipeg.com/event/vip-luncheon-with-the-bank-of-canada-and-%e2%80%8bgovernor-stephen-poloz/
CATEGORIES:Conference
END:VEVENT
BEGIN:VEVENT
DTSTART;TZID=America/Winnipeg:20190506T000000
DTEND;TZID=America/Winnipeg:20190507T000000
DTSTAMP:20260423T164921
CREATED:20190507T021949Z
LAST-MODIFIED:20190507T021949Z
UID:63830-1557100800-1557187200@accesswinnipeg.com
SUMMARY:Body Lens\,Coop\,People\'s Republic of Amsterdam\,face lift
DESCRIPTION:Venue: Forth	 171 McDermot Ave	 Winnipeg
URL:https://accesswinnipeg.com/event/body-lenscooppeoples-republic-of-amsterdamface-lift/
CATEGORIES:Music
END:VEVENT
BEGIN:VEVENT
DTSTART;TZID=America/Winnipeg:20190506T000000
DTEND;TZID=America/Winnipeg:20190507T000000
DTSTAMP:20260423T164921
CREATED:20190507T021949Z
LAST-MODIFIED:20190507T021949Z
UID:63829-1557100800-1557187200@accesswinnipeg.com
SUMMARY:Godsmack\,Volbeat
DESCRIPTION:Venue: Bell MTS Place	 260 Hargrave Street	 Winnipeg
URL:https://accesswinnipeg.com/event/godsmackvolbeat/
CATEGORIES:Music
END:VEVENT
BEGIN:VEVENT
DTSTART;TZID=America/Winnipeg:20190506T000000
DTEND;TZID=America/Winnipeg:20190507T000000
DTSTAMP:20260423T164921
CREATED:20190507T021950Z
LAST-MODIFIED:20190507T021950Z
UID:63831-1557100800-1557187200@accesswinnipeg.com
SUMMARY:Allan Andrusco
DESCRIPTION:Venue: Palm Lounge	 222 Broadway	 Winnipeg
URL:https://accesswinnipeg.com/event/allan-andrusco-17/
CATEGORIES:Music
END:VEVENT
BEGIN:VEVENT
DTSTART;TZID=America/Winnipeg:20190506T193000
DTEND;TZID=America/Winnipeg:20190506T193000
DTSTAMP:20260423T164921
CREATED:20190205T160456Z
LAST-MODIFIED:20190506T204956Z
UID:62056-1557171000-1557171000@accesswinnipeg.com
SUMMARY:Godsmack & Volbeat
DESCRIPTION:
URL:https://accesswinnipeg.com/event/godsmack-volbeat/
LOCATION:Bell MTS Place\, 300 Portage Avenue\, Winnipeg\, Manitoba\, R3C 5S4\, Canada
END:VEVENT
BEGIN:VEVENT
DTSTART;TZID=America/Winnipeg:20190507T000000
DTEND;TZID=America/Winnipeg:20190508T000000
DTSTAMP:20260423T164921
CREATED:20190507T021950Z
LAST-MODIFIED:20190508T021957Z
UID:63832-1557187200-1557273600@accesswinnipeg.com
SUMMARY:Chris Webby
DESCRIPTION:Venue: The Garrick	 330 Garry Street	 Winnipeg Promoters: MRG Concerts
URL:https://accesswinnipeg.com/event/chris-webby/
CATEGORIES:Music
END:VEVENT
BEGIN:VEVENT
DTSTART;TZID=America/Winnipeg:20190507T000000
DTEND;TZID=America/Winnipeg:20190508T000000
DTSTAMP:20260423T164921
CREATED:20190507T021950Z
LAST-MODIFIED:20190508T021957Z
UID:63833-1557187200-1557273600@accesswinnipeg.com
SUMMARY:The Village Idiots Open Mic: Kevin Hogg
DESCRIPTION:Venue: Sonix Bar & Grill	 423 McMillan Ave.	 Winnipeg Promoters: The Village Idiots Every Tuesday we’re at Sonix Bar & Grill for Open Mic hosted by Kevin Hogg from Bright Righteous. Bring an instrument\, use Kevin’s guitar or simply come down and enjoy the free music. All skill levels welcome and a safe place for all :) 
URL:https://accesswinnipeg.com/event/the-village-idiots-open-mic-kevin-hogg-24/
CATEGORIES:Music
END:VEVENT
BEGIN:VEVENT
DTSTART;TZID=America/Winnipeg:20190507T000000
DTEND;TZID=America/Winnipeg:20190508T000000
DTSTAMP:20260423T164921
CREATED:20190507T021951Z
LAST-MODIFIED:20190508T021957Z
UID:63836-1557187200-1557273600@accesswinnipeg.com
SUMMARY:Mardi Jazz: Devon Gillingham
DESCRIPTION:Venue: Centre Culturel Franco-Manitobain	 340 Provencher Boulevard	 Winnipeg Jeune prodige du jazz manitobain\, le bassiste Devon Gillingham partage actuellement son temps entre la ville de New-York et sa ville natale\, Winnipeg. Ce 7 mai\, Devon sera sur scène avec un collaborateur de longue date\, le guitariste Lucas Kadish\, pour une soirée de musique improvisée\, de composi…
URL:https://accesswinnipeg.com/event/mardi-jazz-devon-gillingham/
CATEGORIES:Music
END:VEVENT
BEGIN:VEVENT
DTSTART;TZID=America/Winnipeg:20190507T000000
DTEND;TZID=America/Winnipeg:20190508T000000
DTSTAMP:20260423T164921
CREATED:20190507T021951Z
LAST-MODIFIED:20190508T021957Z
UID:63834-1557187200-1557273600@accesswinnipeg.com
SUMMARY:Kyle McKiernan
DESCRIPTION:Venue: Palm Lounge	 222 Broadway	 Winnipeg
URL:https://accesswinnipeg.com/event/kyle-mckiernan-17/
CATEGORIES:Music
END:VEVENT
BEGIN:VEVENT
DTSTART;TZID=America/Winnipeg:20190507T000000
DTEND;TZID=America/Winnipeg:20190508T000000
DTSTAMP:20260423T164921
CREATED:20190507T021951Z
LAST-MODIFIED:20190508T021957Z
UID:63835-1557187200-1557273600@accesswinnipeg.com
SUMMARY:Dr. Hotbottom
DESCRIPTION:Venue: Cavern	 112 Osborne Street	 Winnipeg
URL:https://accesswinnipeg.com/event/dr-hotbottom/
CATEGORIES:Music
END:VEVENT
BEGIN:VEVENT
DTSTART;TZID=America/Winnipeg:20190508T000000
DTEND;TZID=America/Winnipeg:20190509T000000
DTSTAMP:20260423T164921
CREATED:20190507T021951Z
LAST-MODIFIED:20190509T021951Z
UID:63837-1557273600-1557360000@accesswinnipeg.com
SUMMARY:Rodriguez
DESCRIPTION:Venue: Burton Cummings Theatre for the Performing Arts	 364 Smith Street	 Winnipeg
URL:https://accesswinnipeg.com/event/rodriguez-2/
CATEGORIES:Music
END:VEVENT
BEGIN:VEVENT
DTSTART;TZID=America/Winnipeg:20190508T000000
DTEND;TZID=America/Winnipeg:20190509T000000
DTSTAMP:20260423T164921
CREATED:20190507T021951Z
LAST-MODIFIED:20190509T021952Z
UID:63838-1557273600-1557360000@accesswinnipeg.com
SUMMARY:Concert 3: Filament: Jennifer Thiessen\,Nancy Hennen\,Tatiana Friesen\,Blair Burns\,Nathaniel Froese\,Carol Piller
DESCRIPTION:Venue: Dalnavert Museum	 61 Carlton Street	 Winnipeg Guest artist Jennifer Thiessen and her viola d’amore lead us in a programme of music for this odd and delightful instrument. More details to come! Performers Jennifer Thiessen\, viola d’amore Nancy Hennen\, flute Tatiana Friesen\, viola Blair Burns\, cello Nathaniel Froese\, cello Carol Pil…
URL:https://accesswinnipeg.com/event/concert-3-filament-jennifer-thiessennancy-hennentatiana-friesenblair-burnsnathaniel-froesecarol-piller/
CATEGORIES:Music
END:VEVENT
END:VCALENDAR