BEGIN:VCALENDAR
VERSION:2.0
PRODID:-//Access Winnipeg - ECPv6.15.20//NONSGML v1.0//EN
CALSCALE:GREGORIAN
METHOD:PUBLISH
X-ORIGINAL-URL:https://accesswinnipeg.com
X-WR-CALDESC:Events for Access Winnipeg
REFRESH-INTERVAL;VALUE=DURATION:PT1H
X-Robots-Tag:noindex
X-PUBLISHED-TTL:PT1H
BEGIN:VTIMEZONE
TZID:America/Winnipeg
BEGIN:DAYLIGHT
TZOFFSETFROM:-0600
TZOFFSETTO:-0500
TZNAME:CDT
DTSTART:20180311T080000
END:DAYLIGHT
BEGIN:STANDARD
TZOFFSETFROM:-0500
TZOFFSETTO:-0600
TZNAME:CST
DTSTART:20181104T070000
END:STANDARD
BEGIN:DAYLIGHT
TZOFFSETFROM:-0600
TZOFFSETTO:-0500
TZNAME:CDT
DTSTART:20190310T080000
END:DAYLIGHT
BEGIN:STANDARD
TZOFFSETFROM:-0500
TZOFFSETTO:-0600
TZNAME:CST
DTSTART:20191103T070000
END:STANDARD
BEGIN:DAYLIGHT
TZOFFSETFROM:-0600
TZOFFSETTO:-0500
TZNAME:CDT
DTSTART:20200308T080000
END:DAYLIGHT
BEGIN:STANDARD
TZOFFSETFROM:-0500
TZOFFSETTO:-0600
TZNAME:CST
DTSTART:20201101T070000
END:STANDARD
END:VTIMEZONE
BEGIN:VEVENT
DTSTART;TZID=America/Winnipeg:20190130T000000
DTEND;TZID=America/Winnipeg:20190131T000000
DTSTAMP:20260419T092519
CREATED:20190128T210447Z
LAST-MODIFIED:20190130T210444Z
UID:61811-1548806400-1548892800@accesswinnipeg.com
SUMMARY:Winnipeg New Music Festival | Celebrating 100 Years of Theremin: Keri Latimer
DESCRIPTION:Venue: Manitoba Legislative Building	 450 Broadway	 Winnipeg Keri Latimer\, theremin
URL:https://accesswinnipeg.com/event/winnipeg-new-music-festival-celebrating-100-years-of-theremin-keri-latimer/
CATEGORIES:Music
END:VEVENT
BEGIN:VEVENT
DTSTART;TZID=America/Winnipeg:20190130T000000
DTEND;TZID=America/Winnipeg:20190131T000000
DTSTAMP:20260419T092519
CREATED:20190129T210445Z
LAST-MODIFIED:20190130T210444Z
UID:61835-1548806400-1548892800@accesswinnipeg.com
SUMMARY:Open Mic
DESCRIPTION:Venue: Elsie Bear\’s Kitchen	 150 Henry Ave	 Winnipeg P.A.\, Mics\, Drum Kit\, Amps provided free tea and coffee
URL:https://accesswinnipeg.com/event/open-mic-54/
CATEGORIES:Music
END:VEVENT
BEGIN:VEVENT
DTSTART;TZID=America/Winnipeg:20190130T000000
DTEND;TZID=America/Winnipeg:20190131T000000
DTSTAMP:20260419T092519
CREATED:20190129T210445Z
LAST-MODIFIED:20190130T210444Z
UID:61837-1548806400-1548892800@accesswinnipeg.com
SUMMARY:Open Mic: Rory Verbrugge
DESCRIPTION:Venue: Shannon\’s Irish Pub	 175 Carlton Street	 Winnipeg
URL:https://accesswinnipeg.com/event/open-mic-rory-verbrugge-15/
CATEGORIES:Music
END:VEVENT
BEGIN:VEVENT
DTSTART;TZID=America/Winnipeg:20190130T000000
DTEND;TZID=America/Winnipeg:20190131T000000
DTSTAMP:20260419T092519
CREATED:20190129T210445Z
LAST-MODIFIED:20190130T210444Z
UID:61838-1548806400-1548892800@accesswinnipeg.com
SUMMARY:Music \'N\' Mavens: CMU Jazz Allstars
DESCRIPTION:Venue: Gwen Secter Creative Living Centre	 1588 Main Street	 Winnipeg Young\, full of vigour and outstanding talent\, these jazz vocal students from Canadian Mennonite University are led by Helen White.  Incorporating many favourite standards either solo\, duo or as a quartet\, this hardworking up and coming group are sure to amaze.
URL:https://accesswinnipeg.com/event/music-n-mavens-cmu-jazz-allstars/
CATEGORIES:Music
END:VEVENT
BEGIN:VEVENT
DTSTART;TZID=America/Winnipeg:20190130T000000
DTEND;TZID=America/Winnipeg:20190131T000000
DTSTAMP:20260419T092519
CREATED:20190129T210445Z
LAST-MODIFIED:20190130T210445Z
UID:61839-1548806400-1548892800@accesswinnipeg.com
SUMMARY:Manitoba Chamber Orchestra
DESCRIPTION:Venue: Westminster United Church	 745 Westminster Avenue	 Winnipeg Tafelmusik Baroque Orchestra is “one of the world’s top orchestras” (Gramophone). Hosted by the Manitoba Chamber Orchestra\, they present JS Bach: The Circle of Creation — a celebration of the genius of Bach and the latest multi-media creation by Alison Mackay\, the creator of phenomenally successf…
URL:https://accesswinnipeg.com/event/manitoba-chamber-orchestra/
CATEGORIES:Music
END:VEVENT
BEGIN:VEVENT
DTSTART;TZID=America/Winnipeg:20190130T000000
DTEND;TZID=America/Winnipeg:20190131T000000
DTSTAMP:20260419T092519
CREATED:20190130T210444Z
LAST-MODIFIED:20190130T210444Z
UID:61850-1548806400-1548892800@accesswinnipeg.com
SUMMARY:Mike Manny
DESCRIPTION:Venue: Palm Lounge	 222 Broadway	 Winnipeg
URL:https://accesswinnipeg.com/event/mike-manny-4/
CATEGORIES:Music
END:VEVENT
BEGIN:VEVENT
DTSTART;TZID=America/Winnipeg:20190130T000000
DTEND;TZID=America/Winnipeg:20190131T000000
DTSTAMP:20260419T092519
CREATED:20190130T210444Z
LAST-MODIFIED:20190130T210444Z
UID:61851-1548806400-1548892800@accesswinnipeg.com
SUMMARY:The Jim Beam Songwriter Series: Okay Mann\,Smoky Tiger\,Dana Kowalsky
DESCRIPTION:Venue: Cavern	 112 Osborne Street	 Winnipeg Starting in the New Year! Every Wednesday! Sure Shot Bookings and Jim Beam present a weekly songwriter series with Winnipeg’s best writers.  No Cover! Doors 9pm Show 9:30pm-11:30pm Every Wednesday starting Jan 2\, three songwriters will be featured each week.  Here is the Jan and Fe…
URL:https://accesswinnipeg.com/event/the-jim-beam-songwriter-series-okay-mannsmoky-tigerdana-kowalsky/
CATEGORIES:Music
END:VEVENT
BEGIN:VEVENT
DTSTART;TZID=America/Winnipeg:20190130T000000
DTEND;TZID=America/Winnipeg:20190131T000000
DTSTAMP:20260419T092519
CREATED:20190130T210444Z
LAST-MODIFIED:20190130T210444Z
UID:61852-1548806400-1548892800@accesswinnipeg.com
SUMMARY:Winnipeg New Music Festival | New Visions: Winnipeg Symphony Orchestra\,Gwen Hoebig\,Mike Kemp\,Winnipeg Singers\,Animals As Leaders\,DJ Tony Neu
DESCRIPTION:Venue: Centennial Concert Hall	 555 Main Street	 Winnipeg The WSO’s new Music Director Daniel Raiskin takes the podium in his first full WNMF program\, giving Winnipeg a taste of his wide-ranging musical vision. A noted advocate of contemporary music\, Maestro Raiskin is joined by his long-time collaborator\, Latvian composer Pēteris Vasks\, who serves as t…
URL:https://accesswinnipeg.com/event/winnipeg-new-music-festival-new-visions-winnipeg-symphony-orchestragwen-hoebigmike-kempwinnipeg-singersanimals-as-leadersdj-tony-neu/
CATEGORIES:Music
END:VEVENT
BEGIN:VEVENT
DTSTART;TZID=America/Winnipeg:20190130T000000
DTEND;TZID=America/Winnipeg:20190131T000000
DTSTAMP:20260419T092519
CREATED:20190130T210444Z
LAST-MODIFIED:20190130T210444Z
UID:61855-1548806400-1548892800@accesswinnipeg.com
SUMMARY:Live @ the Roslyn: House Handshake
DESCRIPTION:Venue: Facebook Live	 Live @ the Roslyn	 Winnipeg Promoters: The Village Idiots In Episode 12 of Season 3 Live at The Roslyn\, we feature House Handshake! Watch them play a full set\, from the comfort of your OWN home\, on Facebook Live. All you have to do is go to The Village Idiots page Wednesday Jan. 30th at 8pm CST sharp! Special thanks to our friends at Kings Head Pub
URL:https://accesswinnipeg.com/event/live-the-roslyn-house-handshake/
CATEGORIES:Music
END:VEVENT
BEGIN:VEVENT
DTSTART;TZID=America/Winnipeg:20190130T000000
DTEND;TZID=America/Winnipeg:20190131T000000
DTSTAMP:20260419T092519
CREATED:20190130T210444Z
LAST-MODIFIED:20190130T210444Z
UID:61848-1548806400-1548892800@accesswinnipeg.com
SUMMARY:Tafelmusik Orchestra
DESCRIPTION:Venue: Westminster United Church	 745 Westminster Avenue	 Winnipeg
URL:https://accesswinnipeg.com/event/tafelmusik-orchestra/
CATEGORIES:Music
END:VEVENT
BEGIN:VEVENT
DTSTART;TZID=America/Winnipeg:20190130T000000
DTEND;TZID=America/Winnipeg:20190131T000000
DTSTAMP:20260419T092519
CREATED:20190130T210445Z
LAST-MODIFIED:20190130T210445Z
UID:61858-1548806400-1548892800@accesswinnipeg.com
SUMMARY:Wine Wednesday: Nazeem & Travis
DESCRIPTION:Venue: Pony Corral Pier 7	 1700 Pembina Highway	 Winnipeg
URL:https://accesswinnipeg.com/event/wine-wednesday-nazeem-travis/
CATEGORIES:Music
END:VEVENT
BEGIN:VEVENT
DTSTART;TZID=America/Winnipeg:20190130T000000
DTEND;TZID=America/Winnipeg:20190131T000000
DTSTAMP:20260419T092519
CREATED:20190130T210445Z
LAST-MODIFIED:20190130T210445Z
UID:61856-1548806400-1548892800@accesswinnipeg.com
SUMMARY:Vanic
DESCRIPTION:Venue: OV Club	 108 Osborne St	 Winnipeg With rabid fans and internet acclaim DJ/Producer\, Vanic\, has breathed new energy into electronic music with his pop-perfect yet indie-minded future bass. Known for his powerfully melodic and gracefully composed remix work\, the musician born Jesse Hughes achieved breakout success with his 2014 tak…
URL:https://accesswinnipeg.com/event/vanic/
CATEGORIES:Music
END:VEVENT
BEGIN:VEVENT
DTSTART;VALUE=DATE:20190131
DTEND;VALUE=DATE:20190202
DTSTAMP:20260419T092519
CREATED:20190121T193956Z
LAST-MODIFIED:20190130T201941Z
UID:61534-1548892800-1549065599@accesswinnipeg.com
SUMMARY:DisruptED19
DESCRIPTION:At DisruptED19\, work and education are brought together in a technology conference\, unlike any other. This conference engages a diverse group of disruptive thinkers including movers\, shakers and policy makers. Together\, we’ll explore the future of work. This ground breaking two-day conference will spark meaningful conversations about how to create a stronger\, more successful future for youth\, employees and employers\, one that embraces technology as a tool for improvement. http://www.educationdisrupted.ca/
URL:https://accesswinnipeg.com/event/disrupted19/
CATEGORIES:Conference
END:VEVENT
BEGIN:VEVENT
DTSTART;TZID=America/Winnipeg:20190131T190000
DTEND;TZID=America/Winnipeg:20190131T190000
DTSTAMP:20260419T092519
CREATED:20181102T154656Z
LAST-MODIFIED:20190130T160449Z
UID:60039-1548961200-1548961200@accesswinnipeg.com
SUMMARY:Jets vs. Blue Jackets
DESCRIPTION:
URL:https://accesswinnipeg.com/event/jets-vs-blue-jackets-7/
LOCATION:Bell MTS Place\, 300 Portage Avenue\, Winnipeg\, Manitoba\, R3C 5S4\, Canada
END:VEVENT
BEGIN:VEVENT
DTSTART;TZID=America/Winnipeg:20190201T000000
DTEND;TZID=America/Winnipeg:20190202T000000
DTSTAMP:20260419T092519
CREATED:20190131T210446Z
LAST-MODIFIED:20190201T210443Z
UID:61950-1548979200-1549065600@accesswinnipeg.com
SUMMARY:Winnipeg New Music Festival: River East Collegiate Wind Ensemble
DESCRIPTION:Venue: Winnipeg Richardson International Airport (Arrivals)	 Winnipeg Jeff Kula\, director
URL:https://accesswinnipeg.com/event/winnipeg-new-music-festival-river-east-collegiate-wind-ensemble/
CATEGORIES:Music
END:VEVENT
BEGIN:VEVENT
DTSTART;TZID=America/Winnipeg:20190201T000000
DTEND;TZID=America/Winnipeg:20190202T000000
DTSTAMP:20260419T092519
CREATED:20190131T210446Z
LAST-MODIFIED:20190201T210444Z
UID:61951-1548979200-1549065600@accesswinnipeg.com
SUMMARY:Ron Paley
DESCRIPTION:Venue: Palm Lounge	 222 Broadway	 Winnipeg
URL:https://accesswinnipeg.com/event/ron-paley-12/
CATEGORIES:Music
END:VEVENT
BEGIN:VEVENT
DTSTART;TZID=America/Winnipeg:20190201T000000
DTEND;TZID=America/Winnipeg:20190202T000000
DTSTAMP:20260419T092519
CREATED:20190201T210443Z
LAST-MODIFIED:20190201T210443Z
UID:61971-1548979200-1549065600@accesswinnipeg.com
SUMMARY:Ariel Posen
DESCRIPTION:Venue: West End Cultural Centre	 586 Ellice Avenue	 Winnipeg Singer/songwriter. Internationally-renowned guitarist. Producer. Solo artist. Member of the Juno Award-winning band\, The Bros. Landreth.  A lifelong musician\, there are few roles Ariel Posen hasn\’t played.  Although born in Winnipeg\, Posen spent much of his childhood on the road\, traveling …
URL:https://accesswinnipeg.com/event/ariel-posen/
CATEGORIES:Music
END:VEVENT
BEGIN:VEVENT
DTSTART;TZID=America/Winnipeg:20190201T000000
DTEND;TZID=America/Winnipeg:20190202T000000
DTSTAMP:20260419T092519
CREATED:20190201T210443Z
LAST-MODIFIED:20190201T210443Z
UID:61972-1548979200-1549065600@accesswinnipeg.com
SUMMARY:Papa John\'s Blues Trio
DESCRIPTION:Venue: Anavets – John Osborn VC Unit #1	 300-1395 Ellice Ave	 Winnipeg Promoters: Ian Dawson Papa John\’s Blues Trio – 60/70\’s music!
URL:https://accesswinnipeg.com/event/papa-johns-blues-trio-5/
CATEGORIES:Music
END:VEVENT
BEGIN:VEVENT
DTSTART;TZID=America/Winnipeg:20190201T000000
DTEND;TZID=America/Winnipeg:20190202T000000
DTSTAMP:20260419T092519
CREATED:20190201T210443Z
LAST-MODIFIED:20190201T210443Z
UID:61973-1548979200-1549065600@accesswinnipeg.com
SUMMARY:Winnipeg New Music Festival | Cosmic Time: Winnipeg Symphony Orchestra\,Roomful of Teeth\,DJ Tony Neu
DESCRIPTION:Venue: Centennial Concert Hall	 555 Main Street	 Winnipeg Daniel Raiskin and the WSO retake the stage on closing night to present epic works by three international luminaries of contemporary music. The program opens with the Canadian premiere of METACOSMOS\, a consciousness-expanding orchestral work by star Icelandic composer Anna Thorvaldsdottir\, her…
URL:https://accesswinnipeg.com/event/winnipeg-new-music-festival-cosmic-time-winnipeg-symphony-orchestraroomful-of-teethdj-tony-neu/
CATEGORIES:Music
END:VEVENT
BEGIN:VEVENT
DTSTART;TZID=America/Winnipeg:20190201T000000
DTEND;TZID=America/Winnipeg:20190202T000000
DTSTAMP:20260419T092519
CREATED:20190201T210443Z
LAST-MODIFIED:20190201T210443Z
UID:61975-1548979200-1549065600@accesswinnipeg.com
SUMMARY:Forthwith Festival: ODD NARRATIVE\,BRAM STADHOUDERS\,MIKE THOMSEN\,LOCAL BOY\,3 MOONJASK\,DJ PAPEPI\,SOFTCORESOF
DESCRIPTION:Venue: Forth	 171 McDermot Ave	 Winnipeg With a new edition of Forthwith Festival on the weekend of 1 – 3 February 2019\, we will present an eclectic and bold selection of visual artists and live acts ranging from Industrial Techno to experimental sets with DIY electronics. Concerts\, workshops and installations will be hosted at Forth\, V…
URL:https://accesswinnipeg.com/event/forthwith-festival-odd-narrativebram-stadhoudersmike-thomsenlocal-boy3-moonjaskdj-papepisoftcoresof/
CATEGORIES:Music
END:VEVENT
BEGIN:VEVENT
DTSTART;TZID=America/Winnipeg:20190201T000000
DTEND;TZID=America/Winnipeg:20190202T000000
DTSTAMP:20260419T092519
CREATED:20190201T210443Z
LAST-MODIFIED:20190201T210443Z
UID:61976-1548979200-1549065600@accesswinnipeg.com
SUMMARY:Open Mic
DESCRIPTION:Venue: Strong Badger Coffeehouse	 679 Sargent Avenue	 Winnipeg Come out and share your music\, poetry\, or whatever else inspires you! Ten minute sets\, and registration begins at 5:30! Come out and share your music\, poetry\, or whatever else inspires you! Ten minute sets\, and registration begins at 5:30!  
URL:https://accesswinnipeg.com/event/open-mic-55/
CATEGORIES:Music
END:VEVENT
BEGIN:VEVENT
DTSTART;TZID=America/Winnipeg:20190201T000000
DTEND;TZID=America/Winnipeg:20190202T000000
DTSTAMP:20260419T092519
CREATED:20190201T210444Z
LAST-MODIFIED:20190201T210444Z
UID:61978-1548979200-1549065600@accesswinnipeg.com
SUMMARY:Lindsey White
DESCRIPTION:Venue: Prairie Ink	 McNally Robinson Grant Park	 1120 Grant Avenue	 Winnipeg Trio performance with Steve Martens on drums and Alasdair Dunlop on bass. No cover. Reservations recommended.
URL:https://accesswinnipeg.com/event/lindsey-white-8/
CATEGORIES:Music
END:VEVENT
BEGIN:VEVENT
DTSTART;TZID=America/Winnipeg:20190201T000000
DTEND;TZID=America/Winnipeg:20190202T000000
DTSTAMP:20260419T092519
CREATED:20190201T210444Z
LAST-MODIFIED:20190201T210444Z
UID:61980-1548979200-1549065600@accesswinnipeg.com
SUMMARY:3 Kings
DESCRIPTION:Venue: Palm Lounge	 222 Broadway	 Winnipeg 3 Kings : Breeze\, Mike Manny and John Ervin
URL:https://accesswinnipeg.com/event/3-kings/
CATEGORIES:Music
END:VEVENT
BEGIN:VEVENT
DTSTART;TZID=America/Winnipeg:20190201T000000
DTEND;TZID=America/Winnipeg:20190202T000000
DTSTAMP:20260419T092519
CREATED:20190201T210444Z
LAST-MODIFIED:20190201T210444Z
UID:61981-1548979200-1549065600@accesswinnipeg.com
SUMMARY:NOLA Night: Dirty Catfish Brass Band
DESCRIPTION:Venue: Times Change(d) High & Lonesome Club	 234 Main Street	 Winnipeg
URL:https://accesswinnipeg.com/event/nola-night-dirty-catfish-brass-band-3/
CATEGORIES:Music
END:VEVENT
BEGIN:VEVENT
DTSTART;TZID=America/Winnipeg:20190201T000000
DTEND;TZID=America/Winnipeg:20190202T000000
DTSTAMP:20260419T092519
CREATED:20190201T210444Z
LAST-MODIFIED:20190201T210444Z
UID:61982-1548979200-1549065600@accesswinnipeg.com
SUMMARY:Friday Night Live: The Valentinos
DESCRIPTION:Venue: Pony Corral Pier 7	 1700 Pembina Highway	 Winnipeg
URL:https://accesswinnipeg.com/event/friday-night-live-the-valentinos-2/
CATEGORIES:Music
END:VEVENT
BEGIN:VEVENT
DTSTART;TZID=America/Winnipeg:20190201T000000
DTEND;TZID=America/Winnipeg:20190202T000000
DTSTAMP:20260419T092519
CREATED:20190201T210444Z
LAST-MODIFIED:20190201T210444Z
UID:61977-1548979200-1549065600@accesswinnipeg.com
SUMMARY:Metal Gods (Judas Priest Tribute)\,The Bloodshots
DESCRIPTION:Venue: Pyramid Cabaret	 176 Fort Street	 Winnipeg
URL:https://accesswinnipeg.com/event/metal-gods-judas-priest-tributethe-bloodshots/
CATEGORIES:Music
END:VEVENT
BEGIN:VEVENT
DTSTART;TZID=America/Winnipeg:20190202T000000
DTEND;TZID=America/Winnipeg:20190203T000000
DTSTAMP:20260419T092519
CREATED:20190202T210444Z
LAST-MODIFIED:20190202T210444Z
UID:61992-1549065600-1549152000@accesswinnipeg.com
SUMMARY:Virtuosi Concerts: Ensemble Made in Canada
DESCRIPTION:Venue: Eckhardt-Gramatté Hall	 University of Winnipeg\, 515 Portage Avenue	 Winnipeg ENSEMBLE MADE IN CANADA Elissa Lee\, violin Sharon Wei\, viola Rachel Mercer\, cello Angela Park\, piano Ensemble Made In Canada (EMIC) is this country’s premier piano quartet\, now making a return engagement to our stage. “Beautiful\, thoughtful\, passionate playing”\, one Virtuosi patron wrote. …
URL:https://accesswinnipeg.com/event/virtuosi-concerts-ensemble-made-in-canada/
CATEGORIES:Music
END:VEVENT
BEGIN:VEVENT
DTSTART;TZID=America/Winnipeg:20190202T000000
DTEND;TZID=America/Winnipeg:20190203T000000
DTSTAMP:20260419T092519
CREATED:20190202T210444Z
LAST-MODIFIED:20190202T210444Z
UID:61993-1549065600-1549152000@accesswinnipeg.com
SUMMARY:Jazz at The Heights: The McMahon Group
DESCRIPTION:Venue: Silver Heights Restaurant and Lounge	 2169 Portage Ave	 Winnipeg
URL:https://accesswinnipeg.com/event/jazz-at-the-heights-the-mcmahon-group-19/
CATEGORIES:Music
END:VEVENT
BEGIN:VEVENT
DTSTART;TZID=America/Winnipeg:20190202T000000
DTEND;TZID=America/Winnipeg:20190203T000000
DTSTAMP:20260419T092519
CREATED:20190202T210444Z
LAST-MODIFIED:20190202T210444Z
UID:61994-1549065600-1549152000@accesswinnipeg.com
SUMMARY:Forthwith Festival: UYARAKQ\,KARIN WEISSENBRUNNER\,SCOTT FITZPATRICK\,KAUNSEL\,MARTIN TETRAULT\,HAINBACH
DESCRIPTION:Venue: Forth	 171 McDermot Ave	 Winnipeg With a new edition of Forthwith Festival on the weekend of 1 – 3 February 2019\, we will present an eclectic and bold selection of visual artists and live acts ranging from Industrial Techno to experimental sets with DIY electronics. Concerts\, workshops and installations will be hosted at Forth\, V…
URL:https://accesswinnipeg.com/event/forthwith-festival-uyarakqkarin-weissenbrunnerscott-fitzpatrickkaunselmartin-tetraulthainbach/
CATEGORIES:Music
END:VEVENT
BEGIN:VEVENT
DTSTART;TZID=America/Winnipeg:20190202T000000
DTEND;TZID=America/Winnipeg:20190203T000000
DTSTAMP:20260419T092519
CREATED:20190202T210444Z
LAST-MODIFIED:20190202T210444Z
UID:61995-1549065600-1549152000@accesswinnipeg.com
SUMMARY:Forthwith Festival: Victor Mazon
DESCRIPTION:Venue: Videopool	 100 Arthur St #300	 Winnipeg With a new edition of Forthwith Festival on the weekend of 1 – 3 February 2019\, we will present an eclectic and bold selection of visual artists and live acts ranging from Industrial Techno to experimental sets with DIY electronics. Concerts\, workshops and installations will be hosted at Forth\, V…
URL:https://accesswinnipeg.com/event/forthwith-festival-victor-mazon/
CATEGORIES:Music
END:VEVENT
END:VCALENDAR