BEGIN:VCALENDAR
VERSION:2.0
PRODID:-//Access Winnipeg - ECPv6.15.20//NONSGML v1.0//EN
CALSCALE:GREGORIAN
METHOD:PUBLISH
X-WR-CALNAME:Access Winnipeg
X-ORIGINAL-URL:https://accesswinnipeg.com
X-WR-CALDESC:Events for Access Winnipeg
REFRESH-INTERVAL;VALUE=DURATION:PT1H
X-Robots-Tag:noindex
X-PUBLISHED-TTL:PT1H
BEGIN:VTIMEZONE
TZID:America/Winnipeg
BEGIN:DAYLIGHT
TZOFFSETFROM:-0600
TZOFFSETTO:-0500
TZNAME:CDT
DTSTART:20180311T080000
END:DAYLIGHT
BEGIN:STANDARD
TZOFFSETFROM:-0500
TZOFFSETTO:-0600
TZNAME:CST
DTSTART:20181104T070000
END:STANDARD
BEGIN:DAYLIGHT
TZOFFSETFROM:-0600
TZOFFSETTO:-0500
TZNAME:CDT
DTSTART:20190310T080000
END:DAYLIGHT
BEGIN:STANDARD
TZOFFSETFROM:-0500
TZOFFSETTO:-0600
TZNAME:CST
DTSTART:20191103T070000
END:STANDARD
BEGIN:DAYLIGHT
TZOFFSETFROM:-0600
TZOFFSETTO:-0500
TZNAME:CDT
DTSTART:20200308T080000
END:DAYLIGHT
BEGIN:STANDARD
TZOFFSETFROM:-0500
TZOFFSETTO:-0600
TZNAME:CST
DTSTART:20201101T070000
END:STANDARD
END:VTIMEZONE
BEGIN:VEVENT
DTSTART;TZID=America/Winnipeg:20190201T000000
DTEND;TZID=America/Winnipeg:20190202T000000
DTSTAMP:20260421T135153
CREATED:20190201T210443Z
LAST-MODIFIED:20190201T210443Z
UID:61972-1548979200-1549065600@accesswinnipeg.com
SUMMARY:Papa John\'s Blues Trio
DESCRIPTION:Venue: Anavets – John Osborn VC Unit #1	 300-1395 Ellice Ave	 Winnipeg Promoters: Ian Dawson Papa John\’s Blues Trio – 60/70\’s music!
URL:https://accesswinnipeg.com/event/papa-johns-blues-trio-5/
CATEGORIES:Music
END:VEVENT
BEGIN:VEVENT
DTSTART;TZID=America/Winnipeg:20190201T000000
DTEND;TZID=America/Winnipeg:20190202T000000
DTSTAMP:20260421T135153
CREATED:20190201T210444Z
LAST-MODIFIED:20190201T210444Z
UID:61980-1548979200-1549065600@accesswinnipeg.com
SUMMARY:3 Kings
DESCRIPTION:Venue: Palm Lounge	 222 Broadway	 Winnipeg 3 Kings : Breeze\, Mike Manny and John Ervin
URL:https://accesswinnipeg.com/event/3-kings/
CATEGORIES:Music
END:VEVENT
BEGIN:VEVENT
DTSTART;TZID=America/Winnipeg:20190201T000000
DTEND;TZID=America/Winnipeg:20190202T000000
DTSTAMP:20260421T135153
CREATED:20190201T210444Z
LAST-MODIFIED:20190201T210444Z
UID:61981-1548979200-1549065600@accesswinnipeg.com
SUMMARY:NOLA Night: Dirty Catfish Brass Band
DESCRIPTION:Venue: Times Change(d) High & Lonesome Club	 234 Main Street	 Winnipeg
URL:https://accesswinnipeg.com/event/nola-night-dirty-catfish-brass-band-3/
CATEGORIES:Music
END:VEVENT
BEGIN:VEVENT
DTSTART;TZID=America/Winnipeg:20190201T000000
DTEND;TZID=America/Winnipeg:20190202T000000
DTSTAMP:20260421T135153
CREATED:20190201T210444Z
LAST-MODIFIED:20190201T210444Z
UID:61982-1548979200-1549065600@accesswinnipeg.com
SUMMARY:Friday Night Live: The Valentinos
DESCRIPTION:Venue: Pony Corral Pier 7	 1700 Pembina Highway	 Winnipeg
URL:https://accesswinnipeg.com/event/friday-night-live-the-valentinos-2/
CATEGORIES:Music
END:VEVENT
BEGIN:VEVENT
DTSTART;TZID=America/Winnipeg:20190201T000000
DTEND;TZID=America/Winnipeg:20190202T000000
DTSTAMP:20260421T135153
CREATED:20190201T210444Z
LAST-MODIFIED:20190201T210444Z
UID:61977-1548979200-1549065600@accesswinnipeg.com
SUMMARY:Metal Gods (Judas Priest Tribute)\,The Bloodshots
DESCRIPTION:Venue: Pyramid Cabaret	 176 Fort Street	 Winnipeg
URL:https://accesswinnipeg.com/event/metal-gods-judas-priest-tributethe-bloodshots/
CATEGORIES:Music
END:VEVENT
BEGIN:VEVENT
DTSTART;TZID=America/Winnipeg:20190201T000000
DTEND;TZID=America/Winnipeg:20190202T000000
DTSTAMP:20260421T135153
CREATED:20190201T210444Z
LAST-MODIFIED:20190201T210444Z
UID:61978-1548979200-1549065600@accesswinnipeg.com
SUMMARY:Lindsey White
DESCRIPTION:Venue: Prairie Ink	 McNally Robinson Grant Park	 1120 Grant Avenue	 Winnipeg Trio performance with Steve Martens on drums and Alasdair Dunlop on bass. No cover. Reservations recommended.
URL:https://accesswinnipeg.com/event/lindsey-white-8/
CATEGORIES:Music
END:VEVENT
BEGIN:VEVENT
DTSTART;TZID=America/Winnipeg:20190202T000000
DTEND;TZID=America/Winnipeg:20190203T000000
DTSTAMP:20260421T135153
CREATED:20190202T210444Z
LAST-MODIFIED:20190202T210444Z
UID:61994-1549065600-1549152000@accesswinnipeg.com
SUMMARY:Forthwith Festival: UYARAKQ\,KARIN WEISSENBRUNNER\,SCOTT FITZPATRICK\,KAUNSEL\,MARTIN TETRAULT\,HAINBACH
DESCRIPTION:Venue: Forth	 171 McDermot Ave	 Winnipeg With a new edition of Forthwith Festival on the weekend of 1 – 3 February 2019\, we will present an eclectic and bold selection of visual artists and live acts ranging from Industrial Techno to experimental sets with DIY electronics. Concerts\, workshops and installations will be hosted at Forth\, V…
URL:https://accesswinnipeg.com/event/forthwith-festival-uyarakqkarin-weissenbrunnerscott-fitzpatrickkaunselmartin-tetraulthainbach/
CATEGORIES:Music
END:VEVENT
BEGIN:VEVENT
DTSTART;TZID=America/Winnipeg:20190202T000000
DTEND;TZID=America/Winnipeg:20190203T000000
DTSTAMP:20260421T135153
CREATED:20190202T210444Z
LAST-MODIFIED:20190202T210444Z
UID:61995-1549065600-1549152000@accesswinnipeg.com
SUMMARY:Forthwith Festival: Victor Mazon
DESCRIPTION:Venue: Videopool	 100 Arthur St #300	 Winnipeg With a new edition of Forthwith Festival on the weekend of 1 – 3 February 2019\, we will present an eclectic and bold selection of visual artists and live acts ranging from Industrial Techno to experimental sets with DIY electronics. Concerts\, workshops and installations will be hosted at Forth\, V…
URL:https://accesswinnipeg.com/event/forthwith-festival-victor-mazon/
CATEGORIES:Music
END:VEVENT
BEGIN:VEVENT
DTSTART;TZID=America/Winnipeg:20190202T000000
DTEND;TZID=America/Winnipeg:20190203T000000
DTSTAMP:20260421T135153
CREATED:20190202T210444Z
LAST-MODIFIED:20190202T210444Z
UID:61996-1549065600-1549152000@accesswinnipeg.com
SUMMARY:Forthwith Festival: Aqqalu Berthelsen
DESCRIPTION:Venue: Studio 393	 393 Portage Ave	 Winnipeg With a new edition of Forthwith Festival on the weekend of 1 – 3 February 2019\, we will present an eclectic and bold selection of visual artists and live acts ranging from Industrial Techno to experimental sets with DIY electronics. Concerts\, workshops and installations will be hosted at Forth\, V…
URL:https://accesswinnipeg.com/event/forthwith-festival-aqqalu-berthelsen/
CATEGORIES:Music
END:VEVENT
BEGIN:VEVENT
DTSTART;TZID=America/Winnipeg:20190202T000000
DTEND;TZID=America/Winnipeg:20190203T000000
DTSTAMP:20260421T135153
CREATED:20190202T210444Z
LAST-MODIFIED:20190202T210444Z
UID:61992-1549065600-1549152000@accesswinnipeg.com
SUMMARY:Virtuosi Concerts: Ensemble Made in Canada
DESCRIPTION:Venue: Eckhardt-Gramatté Hall	 University of Winnipeg\, 515 Portage Avenue	 Winnipeg ENSEMBLE MADE IN CANADA Elissa Lee\, violin Sharon Wei\, viola Rachel Mercer\, cello Angela Park\, piano Ensemble Made In Canada (EMIC) is this country’s premier piano quartet\, now making a return engagement to our stage. “Beautiful\, thoughtful\, passionate playing”\, one Virtuosi patron wrote. …
URL:https://accesswinnipeg.com/event/virtuosi-concerts-ensemble-made-in-canada/
CATEGORIES:Music
END:VEVENT
BEGIN:VEVENT
DTSTART;TZID=America/Winnipeg:20190202T000000
DTEND;TZID=America/Winnipeg:20190203T000000
DTSTAMP:20260421T135153
CREATED:20190202T210444Z
LAST-MODIFIED:20190202T210444Z
UID:61993-1549065600-1549152000@accesswinnipeg.com
SUMMARY:Jazz at The Heights: The McMahon Group
DESCRIPTION:Venue: Silver Heights Restaurant and Lounge	 2169 Portage Ave	 Winnipeg
URL:https://accesswinnipeg.com/event/jazz-at-the-heights-the-mcmahon-group-19/
CATEGORIES:Music
END:VEVENT
BEGIN:VEVENT
DTSTART;TZID=America/Winnipeg:20190202T000000
DTEND;TZID=America/Winnipeg:20190203T000000
DTSTAMP:20260421T135153
CREATED:20190202T210445Z
LAST-MODIFIED:20190202T210445Z
UID:61999-1549065600-1549152000@accesswinnipeg.com
SUMMARY:22nd Annual Live Music is Better Coffee House
DESCRIPTION:Venue: St. James Anglican Church Hall	 195 Collegiate 	 Winnipeg This is Happy Mike\’s annual fundraising concert in support of Winnipeg Harvest\, five musical acts (no open mic) with goodies and a silent auction. $10 at the door and a tin for the bin.
URL:https://accesswinnipeg.com/event/22nd-annual-live-music-is-better-coffee-house/
CATEGORIES:Music
END:VEVENT
BEGIN:VEVENT
DTSTART;TZID=America/Winnipeg:20190202T000000
DTEND;TZID=America/Winnipeg:20190203T000000
DTSTAMP:20260421T135153
CREATED:20190202T210445Z
LAST-MODIFIED:20190202T210445Z
UID:62000-1549065600-1549152000@accesswinnipeg.com
SUMMARY:Monika Wall
DESCRIPTION:Venue: House concert	 Winnipeg From opera singer to jazz singer to singer/songwriter Monika Walls\’ music reflects a remarkable journey. Her new release \’Earth\’ is a prairie folk/pop and gospel /blues album that reflects the craftsmanship and heart of its maker. Etched into every truthful phrase is a search for living life well…
URL:https://accesswinnipeg.com/event/monika-wall/
CATEGORIES:Music
END:VEVENT
BEGIN:VEVENT
DTSTART;TZID=America/Winnipeg:20190202T000000
DTEND;TZID=America/Winnipeg:20190203T000000
DTSTAMP:20260421T135153
CREATED:20190202T210445Z
LAST-MODIFIED:20190202T210445Z
UID:62001-1549065600-1549152000@accesswinnipeg.com
SUMMARY:Robert Burton
DESCRIPTION:Venue: Palm Lounge	 222 Broadway	 Winnipeg
URL:https://accesswinnipeg.com/event/robert-burton-6/
CATEGORIES:Music
END:VEVENT
BEGIN:VEVENT
DTSTART;TZID=America/Winnipeg:20190202T000000
DTEND;TZID=America/Winnipeg:20190203T000000
DTSTAMP:20260421T135153
CREATED:20190202T210445Z
LAST-MODIFIED:20190202T210445Z
UID:62002-1549065600-1549152000@accesswinnipeg.com
SUMMARY:Jungtion
DESCRIPTION:Venue: Windsor Hotel	 187 Garry Street	 Winnipeg Jungtion is Windsor host house band on fourth Saturday rotation Windsor Saturday Jam format is typical for any of 4 rotating host house bands. Host house band performs first set from 3pm until 4pm while jammers arrive and sign up. Then\, around 4pm\, we start organizing order of jammers fo…
URL:https://accesswinnipeg.com/event/jungtion-6/
CATEGORIES:Music
END:VEVENT
BEGIN:VEVENT
DTSTART;TZID=America/Winnipeg:20190202T000000
DTEND;TZID=America/Winnipeg:20190203T000000
DTSTAMP:20260421T135153
CREATED:20190202T210445Z
LAST-MODIFIED:20190202T210445Z
UID:61997-1549065600-1549152000@accesswinnipeg.com
SUMMARY:Vince Andrushko
DESCRIPTION:Venue: Strong Badger Coffeehouse	 679 Sargent Avenue	 Winnipeg Join the West End\’s own Vince Andrushko LIVE for a Groundhog Day Spectacular at the Strong Badger. Vince plays a mixed plate of straight up country songs to toe tappin’ two chord bluesy numbers to fictional tales brushed with a touch of humour (depending on your sense of humour). Let’s call…
URL:https://accesswinnipeg.com/event/vince-andrushko/
CATEGORIES:Music
END:VEVENT
BEGIN:VEVENT
DTSTART;TZID=America/Winnipeg:20190202T000000
DTEND;TZID=America/Winnipeg:20190203T000000
DTSTAMP:20260421T135153
CREATED:20190202T210445Z
LAST-MODIFIED:20190202T210445Z
UID:62003-1549065600-1549152000@accesswinnipeg.com
SUMMARY:Live Music Is Better Coffee House: Jelly B & The Kmart Shoppers\,Jones and Simpson\,Alboro Road\,Movin\' Right Along\,Valarie Williams and Friends
DESCRIPTION:Venue: Happy Mike\’s – St. James Anglican Church Hall	 195 Collegiate	 Winnipeg Jelly B & The Kmart Shoppers will be joining 4 other acts at the 22nd annual \”Live Music Is Better\” fundraiser for Winnipeg Harvest hosted by the good people at Happy Mikes Coffee House.  Silent auction\, delicious desserts\, free trade beverages and of course a lot of live music! We would love to …
URL:https://accesswinnipeg.com/event/live-music-is-better-coffee-house-jelly-b-the-kmart-shoppersjones-and-simpsonalboro-roadmovin-right-alongvalarie-williams-and-friends/
CATEGORIES:Music
END:VEVENT
BEGIN:VEVENT
DTSTART;TZID=America/Winnipeg:20190202T000000
DTEND;TZID=America/Winnipeg:20190203T000000
DTSTAMP:20260421T135153
CREATED:20190202T210445Z
LAST-MODIFIED:20190202T210445Z
UID:61998-1549065600-1549152000@accesswinnipeg.com
SUMMARY:Katrina Van Humbeck
DESCRIPTION:Venue: Joe Black Coffee Bar	 2037 Portage Ave	 Winnipeg
URL:https://accesswinnipeg.com/event/katrina-van-humbeck-4/
CATEGORIES:Music
END:VEVENT
BEGIN:VEVENT
DTSTART;TZID=America/Winnipeg:20190202T180000
DTEND;TZID=America/Winnipeg:20190202T180000
DTSTAMP:20260421T135153
CREATED:20181104T154957Z
LAST-MODIFIED:20190202T160447Z
UID:60072-1549130400-1549130400@accesswinnipeg.com
SUMMARY:Jets vs. Ducks
DESCRIPTION:
URL:https://accesswinnipeg.com/event/jets-vs-ducks-5/
LOCATION:Bell MTS Place\, 300 Portage Avenue\, Winnipeg\, Manitoba\, R3C 5S4\, Canada
END:VEVENT
BEGIN:VEVENT
DTSTART;TZID=America/Winnipeg:20190203T000000
DTEND;TZID=America/Winnipeg:20190204T000000
DTSTAMP:20260421T135153
CREATED:20190203T210442Z
LAST-MODIFIED:20190203T210442Z
UID:62010-1549152000-1549238400@accesswinnipeg.com
SUMMARY:Canzona
DESCRIPTION:Venue: Park Theatre	 698 Osborne Street	 Winnipeg Founded in 1989 by Henry Engbrecht and a group of enthusiastic young singers\, Canzona has performed major works of the Baroque at the highest level for thousands of audience members. Come celebrate the past\, present and future of Canzona with some old and new music for choir and Baroque instrumen…
URL:https://accesswinnipeg.com/event/canzona/
CATEGORIES:Music
END:VEVENT
BEGIN:VEVENT
DTSTART;TZID=America/Winnipeg:20190203T000000
DTEND;TZID=America/Winnipeg:20190204T000000
DTSTAMP:20260421T135153
CREATED:20190203T210442Z
LAST-MODIFIED:20190203T210442Z
UID:62011-1549152000-1549238400@accesswinnipeg.com
SUMMARY:Neil Young
DESCRIPTION:Venue: Burton Cummings Theatre for the Performing Arts	 364 Smith Street	 Winnipeg
URL:https://accesswinnipeg.com/event/neil-young/
CATEGORIES:Music
END:VEVENT
BEGIN:VEVENT
DTSTART;TZID=America/Winnipeg:20190203T000000
DTEND;TZID=America/Winnipeg:20190204T000000
DTSTAMP:20260421T135153
CREATED:20190203T210443Z
LAST-MODIFIED:20190203T210443Z
UID:62012-1549152000-1549238400@accesswinnipeg.com
SUMMARY:Forthwith Festival: BRUNCH WITH PEPE & FRIENDS\,WOUTER\,HAINBACH\,SAGE TRASHERS\,HAFFAR / DOBLER / WILSON\,ARCTIC WOUTER + MIKE THOMSEN\,JEREMY PARKIN\,TROPICAL CONTACT HIGH
DESCRIPTION:Venue: Forth	 171 McDermot Ave	 Winnipeg With a new edition of Forthwith Festival on the weekend of 1 – 3 February 2019\, we will present an eclectic and bold selection of visual artists and live acts ranging from Industrial Techno to experimental sets with DIY electronics. Concerts\, workshops and installations will be hosted at Forth\, V…
URL:https://accesswinnipeg.com/event/forthwith-festival-brunch-with-pepe-friendswouterhainbachsage-trashershaffar-dobler-wilsonarctic-wouter-mike-thomsenjeremy-parkintropical-contact-high/
CATEGORIES:Music
END:VEVENT
BEGIN:VEVENT
DTSTART;TZID=America/Winnipeg:20190203T000000
DTEND;TZID=America/Winnipeg:20190204T000000
DTSTAMP:20260421T135153
CREATED:20190203T210443Z
LAST-MODIFIED:20190203T210443Z
UID:62013-1549152000-1549238400@accesswinnipeg.com
SUMMARY:Winter Workshop Series - Songwriting: Keri Latimer
DESCRIPTION:Venue: West End Cultural Centre	 586 Ellice Avenue	 Winnipeg All ages welcome All events are free to attend For more information and/or to register\, please contact Jessee at community@wecc.ca or 204.783.6918 Keri Latimer (Songwriting) Keri Latimer is a musician from Winnipeg\, Manitoba. With her alt-folk group Leaf Rapids and previous band Nathan…
URL:https://accesswinnipeg.com/event/winter-workshop-series-songwriting-keri-latimer/
CATEGORIES:Music
END:VEVENT
BEGIN:VEVENT
DTSTART;TZID=America/Winnipeg:20190203T000000
DTEND;TZID=America/Winnipeg:20190204T000000
DTSTAMP:20260421T135153
CREATED:20190203T210444Z
LAST-MODIFIED:20190203T210444Z
UID:62014-1549152000-1549238400@accesswinnipeg.com
SUMMARY:Ego Spank\,Charlotte Martin\,Sol James\,Jennifer Hanson\,Andrina Turenne
DESCRIPTION:Venue: West End Cultural Centre	 586 Ellice Avenue	 Winnipeg This show features Winnipeg\’s best backing band\, fronted by Charlotte Martin\, Sol James\, Jennifer Hanson & Andrina Turenne.   Tickets In Advance – $25.00 [$30.00 Mezzanine] Door – $30.00 [$35 Mezzanine] Tickets available at eventbrite.com or by contacting the WECC box office.
URL:https://accesswinnipeg.com/event/ego-spankcharlotte-martinsol-jamesjennifer-hansonandrina-turenne/
CATEGORIES:Music
END:VEVENT
BEGIN:VEVENT
DTSTART;TZID=America/Winnipeg:20190203T000000
DTEND;TZID=America/Winnipeg:20190204T000000
DTSTAMP:20260421T135153
CREATED:20190203T210444Z
LAST-MODIFIED:20190203T210444Z
UID:62015-1549152000-1549238400@accesswinnipeg.com
SUMMARY:Ron Halldorson
DESCRIPTION:Venue: Palm Lounge	 222 Broadway	 Winnipeg
URL:https://accesswinnipeg.com/event/ron-halldorson-4/
CATEGORIES:Music
END:VEVENT
BEGIN:VEVENT
DTSTART;TZID=America/Winnipeg:20190203T000000
DTEND;TZID=America/Winnipeg:20190204T000000
DTSTAMP:20260421T135153
CREATED:20190203T210444Z
LAST-MODIFIED:20190203T210444Z
UID:62016-1549152000-1549238400@accesswinnipeg.com
SUMMARY:Jam with Big Dave McLean: Big Dave McLean
DESCRIPTION:Venue: Times Change(d) High & Lonesome Club	 234 Main Street	 Winnipeg
URL:https://accesswinnipeg.com/event/jam-with-big-dave-mclean-big-dave-mclean-17/
CATEGORIES:Music
END:VEVENT
BEGIN:VEVENT
DTSTART;TZID=America/Winnipeg:20190204T000000
DTEND;TZID=America/Winnipeg:20190205T000000
DTSTAMP:20260421T135153
CREATED:20190203T210444Z
LAST-MODIFIED:20190204T210447Z
UID:62019-1549238400-1549324800@accesswinnipeg.com
SUMMARY:Make Music Mondays
DESCRIPTION:Venue: The Millennium Library – ideaMILL	 251 Donald Street	 Winnipeg Want to jam\, write a song\, or just learn the basics of a new instrument? Join us in the ideaMILL for an acoustic jam session and connect with local musicians. Bring your own acoustic instrument.
URL:https://accesswinnipeg.com/event/make-music-mondays-13/
CATEGORIES:Music
END:VEVENT
BEGIN:VEVENT
DTSTART;TZID=America/Winnipeg:20190204T000000
DTEND;TZID=America/Winnipeg:20190205T000000
DTSTAMP:20260421T135153
CREATED:20190203T210444Z
LAST-MODIFIED:20190204T210447Z
UID:62020-1549238400-1549324800@accesswinnipeg.com
SUMMARY:Helen White
DESCRIPTION:Venue: Palm Lounge	 222 Broadway	 Winnipeg
URL:https://accesswinnipeg.com/event/helen-white-14/
CATEGORIES:Music
END:VEVENT
BEGIN:VEVENT
DTSTART;TZID=America/Winnipeg:20190204T000000
DTEND;TZID=America/Winnipeg:20190205T000000
DTSTAMP:20260421T135153
CREATED:20190203T210444Z
LAST-MODIFIED:20190204T210446Z
UID:62017-1549238400-1549324800@accesswinnipeg.com
SUMMARY:CaRaVaN Open Mic & Stage
DESCRIPTION:Venue: X-Cues Cafe & Lounge	 551 Sargent Ave	 Winnipeg CaRaVaN is an \”Anything Goes\” open mic. A mix of music\, spoken word\, comedy\, magic\, dance\, storytelling\, or anything else you can think up\, you\’ll see a range of performances from experienced artists trying out new things to people taking the stage for the first time. CaRaVaN Open Mic & Open S…
URL:https://accesswinnipeg.com/event/caravan-open-mic-stage-9/
CATEGORIES:Music
END:VEVENT
BEGIN:VEVENT
DTSTART;TZID=America/Winnipeg:20190204T000000
DTEND;TZID=America/Winnipeg:20190205T000000
DTSTAMP:20260421T135153
CREATED:20190203T210444Z
LAST-MODIFIED:20190204T210447Z
UID:62018-1549238400-1549324800@accesswinnipeg.com
SUMMARY:Neil Young
DESCRIPTION:Venue: Centennial Concert Hall	 555 Main Street	 Winnipeg
URL:https://accesswinnipeg.com/event/neil-young-2/
CATEGORIES:Music
END:VEVENT
END:VCALENDAR