BEGIN:VCALENDAR
VERSION:2.0
PRODID:-//Access Winnipeg - ECPv6.15.20//NONSGML v1.0//EN
CALSCALE:GREGORIAN
METHOD:PUBLISH
X-WR-CALNAME:Access Winnipeg
X-ORIGINAL-URL:https://accesswinnipeg.com
X-WR-CALDESC:Events for Access Winnipeg
REFRESH-INTERVAL;VALUE=DURATION:PT1H
X-Robots-Tag:noindex
X-PUBLISHED-TTL:PT1H
BEGIN:VTIMEZONE
TZID:America/Winnipeg
BEGIN:DAYLIGHT
TZOFFSETFROM:-0600
TZOFFSETTO:-0500
TZNAME:CDT
DTSTART:20180311T080000
END:DAYLIGHT
BEGIN:STANDARD
TZOFFSETFROM:-0500
TZOFFSETTO:-0600
TZNAME:CST
DTSTART:20181104T070000
END:STANDARD
BEGIN:DAYLIGHT
TZOFFSETFROM:-0600
TZOFFSETTO:-0500
TZNAME:CDT
DTSTART:20190310T080000
END:DAYLIGHT
BEGIN:STANDARD
TZOFFSETFROM:-0500
TZOFFSETTO:-0600
TZNAME:CST
DTSTART:20191103T070000
END:STANDARD
BEGIN:DAYLIGHT
TZOFFSETFROM:-0600
TZOFFSETTO:-0500
TZNAME:CDT
DTSTART:20200308T080000
END:DAYLIGHT
BEGIN:STANDARD
TZOFFSETFROM:-0500
TZOFFSETTO:-0600
TZNAME:CST
DTSTART:20201101T070000
END:STANDARD
END:VTIMEZONE
BEGIN:VEVENT
DTSTART;TZID=America/Winnipeg:20190509T000000
DTEND;TZID=America/Winnipeg:20190510T000000
DTSTAMP:20260424T054105
CREATED:20190509T021954Z
LAST-MODIFIED:20190510T021951Z
UID:63870-1557360000-1557446400@accesswinnipeg.com
SUMMARY:Frannie and Guest
DESCRIPTION:Venue: Shannon\’s Irish Pub	 175 Carlton Street	 Winnipeg
URL:https://accesswinnipeg.com/event/frannie-and-guest-10/
LOCATION:MB
CATEGORIES:Music
END:VEVENT
BEGIN:VEVENT
DTSTART;TZID=America/Winnipeg:20190509T000000
DTEND;TZID=America/Winnipeg:20190510T000000
DTSTAMP:20260424T054105
CREATED:20190509T021954Z
LAST-MODIFIED:20190510T021952Z
UID:63871-1557360000-1557446400@accesswinnipeg.com
SUMMARY:Jammin\'
DESCRIPTION:Venue: Belgian Club	 407 Provencher Boulevard	 Winnipeg
URL:https://accesswinnipeg.com/event/jammin-11/
LOCATION:MB
CATEGORIES:Music
END:VEVENT
BEGIN:VEVENT
DTSTART;VALUE=DATE:20190509
DTEND;VALUE=DATE:20190513
DTSTAMP:20260424T054105
CREATED:20190320T001946Z
LAST-MODIFIED:20190511T144941Z
UID:62918-1557360000-1557705599@accesswinnipeg.com
SUMMARY:View Dance Competition
DESCRIPTION:https://www.viewdancechallenge.com/competitions/winnipeg-mb-1.html
URL:https://accesswinnipeg.com/event/view-dance-competition/
LOCATION:MB
CATEGORIES:Conference
END:VEVENT
BEGIN:VEVENT
DTSTART;VALUE=DATE:20190510
DTEND;VALUE=DATE:20190511
DTSTAMP:20260424T054105
CREATED:20190209T210451Z
LAST-MODIFIED:20190510T033446Z
UID:62147-1557446400-1557532799@accesswinnipeg.com
SUMMARY:Jewish Foundation of Manitoba Luncheon
DESCRIPTION:The 2019 JFM Luncheon in support of the Women’s Endowment Fund will feature Canadian television personality\, fashion editor\, and author Jeanne Beker as its keynote speaker. https://www.jewishfoundation.org/events/womensendowmentfundluncheon
URL:https://accesswinnipeg.com/event/jewish-foundation-of-manitoba-luncheon/
LOCATION:MB
CATEGORIES:Conference
END:VEVENT
BEGIN:VEVENT
DTSTART;VALUE=DATE:20190510
DTEND;VALUE=DATE:20190511
DTSTAMP:20260424T054105
CREATED:20190222T220455Z
LAST-MODIFIED:20190510T033446Z
UID:62399-1557446400-1557532799@accesswinnipeg.com
SUMMARY:Leadercast Live
DESCRIPTION:Leadercast Live is the largest one-day leadership event in the world. Broadcast live each year from Atlanta to hundreds of Host Sites around the world\, Leadercast Live assembles globally respected leadership experts on one stage to share knowledge and insights from their leadership journeys. https://lmva.ca/events/leadercast2019/
URL:https://accesswinnipeg.com/event/leadercast-live/
LOCATION:MB
CATEGORIES:Conference
END:VEVENT
BEGIN:VEVENT
DTSTART;TZID=America/Winnipeg:20190510T000000
DTEND;TZID=America/Winnipeg:20190511T000000
DTSTAMP:20260424T054105
CREATED:20190509T021954Z
LAST-MODIFIED:20190511T022043Z
UID:63873-1557446400-1557532800@accesswinnipeg.com
SUMMARY:David Graham
DESCRIPTION:Venue: Palm Lounge	 222 Broadway	 Winnipeg
URL:https://accesswinnipeg.com/event/david-graham-7/
LOCATION:MB
CATEGORIES:Music
END:VEVENT
BEGIN:VEVENT
DTSTART;TZID=America/Winnipeg:20190510T000000
DTEND;TZID=America/Winnipeg:20190511T000000
DTSTAMP:20260424T054105
CREATED:20190510T021952Z
LAST-MODIFIED:20190510T021952Z
UID:63895-1557446400-1557532800@accesswinnipeg.com
SUMMARY:Hana LuLu\,Liabilities\,Dobranski
DESCRIPTION:Venue: Cavern	 112 Osborne Street	 Winnipeg
URL:https://accesswinnipeg.com/event/hana-lululiabilitiesdobranski/
LOCATION:MB
CATEGORIES:Music
END:VEVENT
BEGIN:VEVENT
DTSTART;TZID=America/Winnipeg:20190510T000000
DTEND;TZID=America/Winnipeg:20190511T000000
DTSTAMP:20260424T054105
CREATED:20190510T021952Z
LAST-MODIFIED:20190511T022042Z
UID:63890-1557446400-1557532800@accesswinnipeg.com
SUMMARY:On Target Underground
DESCRIPTION:Venue: Shannon\’s Irish Pub	 175 Carlton Street	 Winnipeg Get into it Winnipeg! For this city’s ONLY all vinyl 60’s Night. This semi-monthly event is a chance for all to experience the best in Soul\, Jazz\, Popcorn\, New Breed\, Northern Soul\, Jump Blues\, British Invasion\, Freakbeat\, Mod Beat\, Garage\, Psych and SO MUCH more. Come for dinner\, stay for dri…
URL:https://accesswinnipeg.com/event/on-target-underground-5/
LOCATION:MB
CATEGORIES:Music
END:VEVENT
BEGIN:VEVENT
DTSTART;TZID=America/Winnipeg:20190510T000000
DTEND;TZID=America/Winnipeg:20190511T000000
DTSTAMP:20260424T054105
CREATED:20190510T021952Z
LAST-MODIFIED:20190511T022042Z
UID:63891-1557446400-1557532800@accesswinnipeg.com
SUMMARY:Papa John\'s Blues\, Roots & more (trio)
DESCRIPTION:Venue: FM Café\, St Amant	 440 chemin River Road	 Winnipeg FM Café provides music entertainment  for onsite residents\, group home clients\,  support workers\, families and friends 
URL:https://accesswinnipeg.com/event/papa-johns-blues-roots-more-trio-4/
LOCATION:MB
CATEGORIES:Music
END:VEVENT
BEGIN:VEVENT
DTSTART;TZID=America/Winnipeg:20190510T000000
DTEND;TZID=America/Winnipeg:20190511T000000
DTSTAMP:20260424T054105
CREATED:20190510T021952Z
LAST-MODIFIED:20190511T022043Z
UID:63892-1557446400-1557532800@accesswinnipeg.com
SUMMARY:Dance In UR Pantz
DESCRIPTION:Venue: Travelodge	 20 Alpine Ave	 Winnipeg
URL:https://accesswinnipeg.com/event/dance-in-ur-pantz-3/
LOCATION:MB
CATEGORIES:Music
END:VEVENT
BEGIN:VEVENT
DTSTART;TZID=America/Winnipeg:20190510T000000
DTEND;TZID=America/Winnipeg:20190511T000000
DTSTAMP:20260424T054105
CREATED:20190510T021952Z
LAST-MODIFIED:20190511T022043Z
UID:63894-1557446400-1557532800@accesswinnipeg.com
SUMMARY:black-eyed SUZIE
DESCRIPTION:Venue: St. Vital Park Duck Pond	 190 River Road	 Winnipeg Spring has sprung! Meet us at the St.Vital Duck Pond in the community building for a potluck supper and warm company while we celebrate community spirit and play some of our favorite tunes to kick off another beautiful spring weekend in the park! Meet our new bandie Bobby\, bring a potluck item\, a…
URL:https://accesswinnipeg.com/event/black-eyed-suzie/
LOCATION:MB
CATEGORIES:Music
END:VEVENT
BEGIN:VEVENT
DTSTART;TZID=America/Winnipeg:20190510T000000
DTEND;TZID=America/Winnipeg:20190511T000000
DTSTAMP:20260424T054105
CREATED:20190510T021953Z
LAST-MODIFIED:20190510T021953Z
UID:63896-1557446400-1557532800@accesswinnipeg.com
SUMMARY:Frets Alive III: The Tyborowski Duo\,Duo Déz \,Brian Meads\,Gloria aza Farje
DESCRIPTION:Venue: 603 Wellington Crescent	 Winnipeg This Friday Frets Alive won\’t dissapoint! Six talented guitarists from the Desaultes Faculty of Music at The University of Manitoba will entertain and inspire.  Exciting guitar duos and sensational soloists celebrating spring and the classical guitar\, an evening not to be missed! to reserve ti…
URL:https://accesswinnipeg.com/event/frets-alive-iii-the-tyborowski-duoduo-dez-brian-meadsgloria-aza-farje/
LOCATION:MB
CATEGORIES:Music
END:VEVENT
BEGIN:VEVENT
DTSTART;TZID=America/Winnipeg:20190510T000000
DTEND;TZID=America/Winnipeg:20190511T000000
DTSTAMP:20260424T054105
CREATED:20190510T021953Z
LAST-MODIFIED:20190510T021953Z
UID:63897-1557446400-1557532800@accesswinnipeg.com
SUMMARY:Anna Eileen \,Marcel Desilets
DESCRIPTION:Venue: Sam\’s Place	 159 Henderson Highway	 Winnipeg Anna Eileen is a singer-songwriter\, pop vocalist\, soprano\, and music educator currently based in Winnipeg\, Manitoba. Her music is influenced by big feelings\, Joni Mitchell\, 90s RnB\, Andy Shauf\, jazz standards\, and the power of women. She also sings in \”kindie\” band Seanster and the Monsters\, and …
URL:https://accesswinnipeg.com/event/anna-eileen-marcel-desilets/
LOCATION:MB
CATEGORIES:Music
END:VEVENT
BEGIN:VEVENT
DTSTART;TZID=America/Winnipeg:20190510T000000
DTEND;TZID=America/Winnipeg:20190511T000000
DTSTAMP:20260424T054105
CREATED:20190511T022043Z
LAST-MODIFIED:20190511T022043Z
UID:63912-1557446400-1557532800@accesswinnipeg.com
SUMMARY:NYB 2019 Concert Series: The National Youth Band of Canada
DESCRIPTION:Venue: MBCI Jubilee Place	 173 Talbot Avenue	 Winnipeg The National Youth Band of Canada’s Manitoba tour has been announced and tickets are available now for Concerts 1-6. The Winnipeg Wind Ensemble will be opening for the National Youth Band at Jubilee Place on Talbot Avenue! There are no pre-sale tickets for the Gala Concert (concert 7). Come out a…
URL:https://accesswinnipeg.com/event/nyb-2019-concert-series-the-national-youth-band-of-canada-2/
LOCATION:MB
CATEGORIES:Music
END:VEVENT
BEGIN:VEVENT
DTSTART;TZID=America/Winnipeg:20190510T000000
DTEND;TZID=America/Winnipeg:20190511T000000
DTSTAMP:20260424T054105
CREATED:20190511T022043Z
LAST-MODIFIED:20190511T022043Z
UID:63913-1557446400-1557532800@accesswinnipeg.com
SUMMARY:Preston Tanghe
DESCRIPTION:Venue: Station 8 Cafe	 325 Talbot Avenue	 Winnipeg Preston Tanghe and is an artist from Winnipeg\, Manitoba. Songs written by Preston are best described as honest & vunerable\, soulful\, conscious\, John Mayer-esque and heart felt. \”My vision for my music is that it inspires people\, connects us\, and makes people feel good despite the painful thing…
URL:https://accesswinnipeg.com/event/preston-tanghe/
LOCATION:MB
CATEGORIES:Music
END:VEVENT
BEGIN:VEVENT
DTSTART;TZID=America/Winnipeg:20190510T000000
DTEND;TZID=America/Winnipeg:20190511T000000
DTSTAMP:20260424T054105
CREATED:20190511T022043Z
LAST-MODIFIED:20190511T022043Z
UID:63914-1557446400-1557532800@accesswinnipeg.com
SUMMARY:Gravel Roads Band
DESCRIPTION:Venue: Westbrook	 64 Keewatin Street	 Winnipeg
URL:https://accesswinnipeg.com/event/gravel-roads-band/
LOCATION:MB
CATEGORIES:Music
END:VEVENT
BEGIN:VEVENT
DTSTART;TZID=America/Winnipeg:20190510T000000
DTEND;TZID=America/Winnipeg:20190511T000000
DTSTAMP:20260424T054105
CREATED:20190511T022043Z
LAST-MODIFIED:20190511T022043Z
UID:63915-1557446400-1557532800@accesswinnipeg.com
SUMMARY:Woody & The Wild Ones
DESCRIPTION:Venue: Transcona Centennial Square	 135 Regent Ave West	 Winnipeg
URL:https://accesswinnipeg.com/event/woody-the-wild-ones/
LOCATION:MB
CATEGORIES:Music
END:VEVENT
BEGIN:VEVENT
DTSTART;TZID=America/Winnipeg:20190510T000000
DTEND;TZID=America/Winnipeg:20190511T000000
DTSTAMP:20260424T054105
CREATED:20190511T022043Z
LAST-MODIFIED:20190511T022043Z
UID:63916-1557446400-1557532800@accesswinnipeg.com
SUMMARY:Flaming Trolleys
DESCRIPTION:Venue: Ragpickers	 92 Gomez Street	 Winnipeg If you want to try Trolleying and see how much you love it or if you\’re already a Trolleyite and you want to brush up your tunes or if you want to learn some brand new tunes\, this is the place and time!
URL:https://accesswinnipeg.com/event/flaming-trolleys/
LOCATION:MB
CATEGORIES:Music
END:VEVENT
BEGIN:VEVENT
DTSTART;TZID=America/Winnipeg:20190510T000000
DTEND;TZID=America/Winnipeg:20190511T000000
DTSTAMP:20260424T054105
CREATED:20190511T022043Z
LAST-MODIFIED:20190511T022043Z
UID:63911-1557446400-1557532800@accesswinnipeg.com
SUMMARY:NYB 2019 Concert Series: The National Youth Band of Canada
DESCRIPTION:Venue: 855 Wilkes Avenue	 Winnipeg The National Youth Band of Canada’s Manitoba tour has been announced and tickets are available now for Concerts 1-6. The Winnipeg Wind Ensemble will be opening for the National Youth Band at Jubilee Place on Talbot Avenue! There are no pre-sale tickets for the Gala Concert (concert 7). Come out a…
URL:https://accesswinnipeg.com/event/nyb-2019-concert-series-the-national-youth-band-of-canada/
LOCATION:MB
CATEGORIES:Music
END:VEVENT
BEGIN:VEVENT
DTSTART;TZID=America/Winnipeg:20190510T000000
DTEND;TZID=America/Winnipeg:20190511T000000
DTSTAMP:20260424T054105
CREATED:20190511T022044Z
LAST-MODIFIED:20190511T022044Z
UID:63917-1557446400-1557532800@accesswinnipeg.com
SUMMARY:Pat Barrett\,Chris McClarney
DESCRIPTION:Venue: My Church	 955 Wilkes Avenue	 Winnipeg
URL:https://accesswinnipeg.com/event/pat-barrettchris-mcclarney/
LOCATION:MB
CATEGORIES:Music
END:VEVENT
BEGIN:VEVENT
DTSTART;VALUE=DATE:20190511
DTEND;VALUE=DATE:20190512
DTSTAMP:20260424T054105
CREATED:20190430T023442Z
LAST-MODIFIED:20190511T144941Z
UID:63710-1557532800-1557619199@accesswinnipeg.com
SUMMARY:MABBA Provincial Championships
DESCRIPTION:Manitoba Amateur Bodybuilding Provincial Qualifier & Provincial Championships. http://www.bodybuilding.ca/Events/Events.html
URL:https://accesswinnipeg.com/event/mabba-provincial-championships/
LOCATION:MB
CATEGORIES:Conference
END:VEVENT
BEGIN:VEVENT
DTSTART;VALUE=DATE:20190511
DTEND;VALUE=DATE:20190512
DTSTAMP:20260424T054105
CREATED:20190510T033446Z
LAST-MODIFIED:20190511T144941Z
UID:63899-1557532800-1557619199@accesswinnipeg.com
SUMMARY:Manitoba Cheer Federation
DESCRIPTION:The 2019 provincial competition is Manitoba’s largest cheerleading event.  https://www.mbcheer.ca/competitions
URL:https://accesswinnipeg.com/event/manitoba-cheer-federation/
LOCATION:MB
CATEGORIES:Conference
END:VEVENT
BEGIN:VEVENT
DTSTART;VALUE=DATE:20190513
DTEND;VALUE=DATE:20190514
DTSTAMP:20260424T054105
CREATED:20190311T232008Z
LAST-MODIFIED:20190511T144942Z
UID:62752-1557705600-1557791999@accesswinnipeg.com
SUMMARY:Regine Velasquez in Concert
DESCRIPTION:Regine Velasquez in Songbird Sings Canada Tour 2019 with special guest Ogie Alcasid. Doors open at 6 pm. Show starts at 7 pm. https://www.facebook.com/pinoytribewinnipeg
URL:https://accesswinnipeg.com/event/regine-velasquez-in-concert/
LOCATION:MB
CATEGORIES:Conference
END:VEVENT
BEGIN:VEVENT
DTSTART;VALUE=DATE:20190514
DTEND;VALUE=DATE:20190517
DTSTAMP:20260424T054105
CREATED:20190213T213447Z
LAST-MODIFIED:20190516T134738Z
UID:62236-1557792000-1558051199@accesswinnipeg.com
SUMMARY:Vision Quest Conference & Trade Show
DESCRIPTION:Homepage
URL:https://accesswinnipeg.com/event/vision-quest-conference-trade-show/
LOCATION:MB
CATEGORIES:Conference
END:VEVENT
BEGIN:VEVENT
DTSTART;VALUE=DATE:20190515
DTEND;VALUE=DATE:20190516
DTSTAMP:20260424T054105
CREATED:20190214T213450Z
LAST-MODIFIED:20190515T132804Z
UID:62244-1557878400-1557964799@accesswinnipeg.com
SUMMARY:Winnipeg General Strike Centennial Gala Dinner
DESCRIPTION:In recognition of the 100th Anniversary of the Winnipeg General Strike\, the Manitoba Building Trades will be hosting a gala dinner featuring performances by CBC’s The Debaters Steve Patterson\, Rainbow Stage’s Strike! The Musical and the Danny Kramer Dance Band..http://mfl.ca/node/1897
URL:https://accesswinnipeg.com/event/manitoba-building-trades-gala-dinner/
LOCATION:MB
CATEGORIES:Conference
END:VEVENT
BEGIN:VEVENT
DTSTART;VALUE=DATE:20190515
DTEND;VALUE=DATE:20190516
DTSTAMP:20260424T054105
CREATED:20190424T023449Z
LAST-MODIFIED:20190515T132804Z
UID:63598-1557878400-1557964799@accesswinnipeg.com
SUMMARY:Westland Foundation Education Fund Breakfast
DESCRIPTION:13th annual signature fundraising event of the year in support of the Westland Foundation Education Fund. This year’s guest speaker\, Mayor Brian Bowman. https://westlandfoundation.ca/events/2019-fundraising-breakfast/
URL:https://accesswinnipeg.com/event/westland-foundation-education-fund-breakfast/
LOCATION:MB
CATEGORIES:Conference
END:VEVENT
BEGIN:VEVENT
DTSTART;TZID=America/Winnipeg:20190515T000000
DTEND;TZID=America/Winnipeg:20190516T000000
DTSTAMP:20260424T054105
CREATED:20190515T131404Z
LAST-MODIFIED:20190515T132835Z
UID:63941-1557878400-1557964800@accesswinnipeg.com
SUMMARY:Seussical the Musical: Winnipeg Youth Chorus
DESCRIPTION:Venue: Asper Centre for Theatre and Film	 400 Colony Street	 Winnipeg Showtimes: Wednesday May 15\, 2019 7:00pm Thursday May 16\, 2019 1:30pm Thursday May 16\, 2019 7:00pm  Friday May 17\, 2019 1:30pm Friday May 17\, 2019 7:00pm  Saturday May 18\, 2019 1:00pm Saturday May 18\, 2019 5:00pm  The Winnipeg Youth Chorus presents Seussical the Musical May 15-1…
URL:https://accesswinnipeg.com/event/seussical-the-musical-winnipeg-youth-chorus/
LOCATION:MB
CATEGORIES:Music
END:VEVENT
BEGIN:VEVENT
DTSTART;TZID=America/Winnipeg:20190515T000000
DTEND;TZID=America/Winnipeg:20190516T000000
DTSTAMP:20260424T054105
CREATED:20190515T131404Z
LAST-MODIFIED:20190515T132835Z
UID:63942-1557878400-1557964800@accesswinnipeg.com
SUMMARY:Wine Wednesday: Kitchen Party
DESCRIPTION:Venue: Brazen Hall	 800 Pembina Hwy	 Winnipeg
URL:https://accesswinnipeg.com/event/wine-wednesday-kitchen-party-11/
LOCATION:MB
CATEGORIES:Music
END:VEVENT
BEGIN:VEVENT
DTSTART;TZID=America/Winnipeg:20190515T000000
DTEND;TZID=America/Winnipeg:20190516T000000
DTSTAMP:20260424T054105
CREATED:20190515T131404Z
LAST-MODIFIED:20190515T132836Z
UID:63943-1557878400-1557964800@accesswinnipeg.com
SUMMARY:Open Mic: Rory Verbrugge
DESCRIPTION:Venue: Shannon’s Irish Pub	 175 Carlton Street	 Winnipeg Weekly Open Mic hosted by Rory Verbrugge. Sign up at 7:30pm Music starts at 8:00pm till close All are welcome! There will be a house guitar for people to use. Performers get a free domestic beer. Bonus: Free pool
URL:https://accesswinnipeg.com/event/open-mic-rory-verbrugge-26/
LOCATION:MB
CATEGORIES:Music
END:VEVENT
BEGIN:VEVENT
DTSTART;TZID=America/Winnipeg:20190515T000000
DTEND;TZID=America/Winnipeg:20190516T000000
DTSTAMP:20260424T054106
CREATED:20190515T131404Z
LAST-MODIFIED:20190515T132836Z
UID:63944-1557878400-1557964800@accesswinnipeg.com
SUMMARY:Awaiting the Answer\,Lucky Monkey
DESCRIPTION:Venue: Pyramid Cabaret	 176 Fort Street	 Winnipeg
URL:https://accesswinnipeg.com/event/awaiting-the-answerlucky-monkey/
LOCATION:MB
CATEGORIES:Music
END:VEVENT
END:VCALENDAR