BEGIN:VCALENDAR
VERSION:2.0
PRODID:-//Access Winnipeg - ECPv6.15.20//NONSGML v1.0//EN
CALSCALE:GREGORIAN
METHOD:PUBLISH
X-ORIGINAL-URL:https://accesswinnipeg.com
X-WR-CALDESC:Events for Access Winnipeg
REFRESH-INTERVAL;VALUE=DURATION:PT1H
X-Robots-Tag:noindex
X-PUBLISHED-TTL:PT1H
BEGIN:VTIMEZONE
TZID:America/Winnipeg
BEGIN:DAYLIGHT
TZOFFSETFROM:-0600
TZOFFSETTO:-0500
TZNAME:CDT
DTSTART:20180311T080000
END:DAYLIGHT
BEGIN:STANDARD
TZOFFSETFROM:-0500
TZOFFSETTO:-0600
TZNAME:CST
DTSTART:20181104T070000
END:STANDARD
BEGIN:DAYLIGHT
TZOFFSETFROM:-0600
TZOFFSETTO:-0500
TZNAME:CDT
DTSTART:20190310T080000
END:DAYLIGHT
BEGIN:STANDARD
TZOFFSETFROM:-0500
TZOFFSETTO:-0600
TZNAME:CST
DTSTART:20191103T070000
END:STANDARD
BEGIN:DAYLIGHT
TZOFFSETFROM:-0600
TZOFFSETTO:-0500
TZNAME:CDT
DTSTART:20200308T080000
END:DAYLIGHT
BEGIN:STANDARD
TZOFFSETFROM:-0500
TZOFFSETTO:-0600
TZNAME:CST
DTSTART:20201101T070000
END:STANDARD
END:VTIMEZONE
BEGIN:VEVENT
DTSTART;TZID=America/Winnipeg:20190515T000000
DTEND;TZID=America/Winnipeg:20190516T000000
DTSTAMP:20260425T214930
CREATED:20190515T131405Z
LAST-MODIFIED:20190515T132836Z
UID:63945-1557878400-1557964800@accesswinnipeg.com
SUMMARY:Ron Paley
DESCRIPTION:Venue: Palm Lounge	 222 Broadway	 Winnipeg
URL:https://accesswinnipeg.com/event/ron-paley-19/
LOCATION:MB
CATEGORIES:Music
END:VEVENT
BEGIN:VEVENT
DTSTART;TZID=America/Winnipeg:20190515T000000
DTEND;TZID=America/Winnipeg:20190516T000000
DTSTAMP:20260425T214930
CREATED:20190515T131405Z
LAST-MODIFIED:20190515T132836Z
UID:63946-1557878400-1557964800@accesswinnipeg.com
SUMMARY:Indigenous Music West: Celeigh Cardinal\,Mamarudegyal and Hope\,DJ Krazykree\,The Bloodshots
DESCRIPTION:Venue: King’s Head Pub	 120 King Street	 Winnipeg Promoters: Manitoba Music Artists from Western Canada will be in the spotlight at the Indigenous Music West showcase this month. Four acts will hit the stage at the King’s Head in the heart of Winnipeg’s Exchange District on May 15 to perform for and connect with industry in town for the Manito Ahbee Festival & Conference…
URL:https://accesswinnipeg.com/event/indigenous-music-west-celeigh-cardinalmamarudegyal-and-hopedj-krazykreethe-bloodshots/
LOCATION:MB
CATEGORIES:Music
END:VEVENT
BEGIN:VEVENT
DTSTART;TZID=America/Winnipeg:20190515T000000
DTEND;TZID=America/Winnipeg:20190516T000000
DTSTAMP:20260425T214930
CREATED:20190515T131405Z
LAST-MODIFIED:20190515T132836Z
UID:63947-1557878400-1557964800@accesswinnipeg.com
SUMMARY:The Carbons
DESCRIPTION:Venue: Le Garage Cafe	 166 Provencher Blvd	 Winnipeg The Carbons frontman Tomy Thisdale is going across the country once again to share the band’s latest releases “Black Mirror” and “Stuck in Your Head (Acoustic).
URL:https://accesswinnipeg.com/event/the-carbons/
LOCATION:MB
CATEGORIES:Music
END:VEVENT
BEGIN:VEVENT
DTSTART;TZID=America/Winnipeg:20190515T000000
DTEND;TZID=America/Winnipeg:20190516T000000
DTSTAMP:20260425T214930
CREATED:20190515T131405Z
LAST-MODIFIED:20190515T132836Z
UID:63948-1557878400-1557964800@accesswinnipeg.com
SUMMARY:Nazeem & Curtis
DESCRIPTION:Venue: Pony Corral Pier 7	 1700 Pembina Highway	 Winnipeg
URL:https://accesswinnipeg.com/event/nazeem-curtis/
LOCATION:MB
CATEGORIES:Music
END:VEVENT
BEGIN:VEVENT
DTSTART;VALUE=DATE:20190515
DTEND;VALUE=DATE:20190520
DTSTAMP:20260425T214930
CREATED:20190217T220446Z
LAST-MODIFIED:20190519T151745Z
UID:62306-1557878400-1558310399@accesswinnipeg.com
SUMMARY:Manito Ahbee Festival
DESCRIPTION:Hosting Indigenous Music Conference (May 16 & 17); Manito Ahbee Pow Wow (May 18 & 19); Getting Jiggy with It (May 18); Indigenous Marketplace & Trade Show (May 18 & 19); Art Challenge (May 18 & 19).\nhttps://www.manitoahbee.com/
URL:https://accesswinnipeg.com/event/manito-ahbee-festival/
LOCATION:MB
CATEGORIES:Conference
END:VEVENT
BEGIN:VEVENT
DTSTART;TZID=America/Winnipeg:20190516T000000
DTEND;TZID=America/Winnipeg:20190517T000000
DTSTAMP:20260425T214930
CREATED:20190515T131406Z
LAST-MODIFIED:20190516T133450Z
UID:63949-1557964800-1558051200@accesswinnipeg.com
SUMMARY:Seussical the Musical: Winnipeg Youth Chorus
DESCRIPTION:Venue: Asper Centre for Theatre and Film	 400 Colony Street	 Winnipeg Showtimes: Wednesday May 15\, 2019 7:00pm Thursday May 16\, 2019 1:30pm Thursday May 16\, 2019 7:00pm  Friday May 17\, 2019 1:30pm Friday May 17\, 2019 7:00pm  Saturday May 18\, 2019 1:00pm Saturday May 18\, 2019 5:00pm  The Winnipeg Youth Chorus presents Seussical the Musical May 15-1…
URL:https://accesswinnipeg.com/event/seussical-the-musical-winnipeg-youth-chorus-2/
LOCATION:MB
CATEGORIES:Music
END:VEVENT
BEGIN:VEVENT
DTSTART;TZID=America/Winnipeg:20190516T000000
DTEND;TZID=America/Winnipeg:20190517T000000
DTSTAMP:20260425T214930
CREATED:20190515T131406Z
LAST-MODIFIED:20190516T133450Z
UID:63950-1557964800-1558051200@accesswinnipeg.com
SUMMARY:Needtobreathe
DESCRIPTION:Venue: Burton Cummings Theatre for the Performing Arts	 364 Smith Street	 Winnipeg
URL:https://accesswinnipeg.com/event/needtobreathe/
LOCATION:MB
CATEGORIES:Music
END:VEVENT
BEGIN:VEVENT
DTSTART;TZID=America/Winnipeg:20190516T000000
DTEND;TZID=America/Winnipeg:20190517T000000
DTSTAMP:20260425T214930
CREATED:20190515T131406Z
LAST-MODIFIED:20190516T133451Z
UID:63951-1557964800-1558051200@accesswinnipeg.com
SUMMARY:Open Mic
DESCRIPTION:Venue: Sam\’s Place	 159 Henderson Highway	 Winnipeg Sam\’s Place is having an open mic every other Thursday.  Come by at 6:45pm to sign up and perform a song or two you wrote.
URL:https://accesswinnipeg.com/event/open-mic-84/
LOCATION:MB
CATEGORIES:Music
END:VEVENT
BEGIN:VEVENT
DTSTART;TZID=America/Winnipeg:20190516T000000
DTEND;TZID=America/Winnipeg:20190517T000000
DTSTAMP:20260425T214930
CREATED:20190515T131406Z
LAST-MODIFIED:20190516T133451Z
UID:63952-1557964800-1558051200@accesswinnipeg.com
SUMMARY:Yer Mum\,Red Seed\,Life of Consequence
DESCRIPTION:Venue: Bulldog Pizza	 1364 Main Street	 Winnipeg
URL:https://accesswinnipeg.com/event/yer-mumred-seedlife-of-consequence/
LOCATION:MB
CATEGORIES:Music
END:VEVENT
BEGIN:VEVENT
DTSTART;TZID=America/Winnipeg:20190516T000000
DTEND;TZID=America/Winnipeg:20190517T000000
DTSTAMP:20260425T214930
CREATED:20190516T133450Z
LAST-MODIFIED:20190516T133450Z
UID:63979-1557964800-1558051200@accesswinnipeg.com
SUMMARY:Phono Pony
DESCRIPTION:Venue: Pyramid Cabaret	 176 Fort Street	 Winnipeg
URL:https://accesswinnipeg.com/event/phono-pony/
LOCATION:MB
CATEGORIES:Music
END:VEVENT
BEGIN:VEVENT
DTSTART;TZID=America/Winnipeg:20190516T000000
DTEND;TZID=America/Winnipeg:20190517T000000
DTSTAMP:20260425T214930
CREATED:20190516T133450Z
LAST-MODIFIED:20190516T133450Z
UID:63980-1557964800-1558051200@accesswinnipeg.com
SUMMARY:A 25 Year Retrospective of Greg MacPherson: Greg MacPherson
DESCRIPTION:Venue: West End Cultural Centre	 586 Ellice Avenue	 Winnipeg With close to a thousand performances in his rear-view mirror\, MacPherson returns to Winnipeg\’s West End Cultural Centre on May 16\, the venue that hosted his first show back in May of 1994. This will be a celebration of 25 years of music\, with new\, unreleased material and a retrospective performa…
URL:https://accesswinnipeg.com/event/a-25-year-retrospective-of-greg-macpherson-greg-macpherson/
LOCATION:MB
CATEGORIES:Music
END:VEVENT
BEGIN:VEVENT
DTSTART;TZID=America/Winnipeg:20190516T000000
DTEND;TZID=America/Winnipeg:20190517T000000
DTSTAMP:20260425T214930
CREATED:20190516T133451Z
LAST-MODIFIED:20190516T133451Z
UID:63986-1557964800-1558051200@accesswinnipeg.com
SUMMARY:Melanie Brulee\,JD Edwards Band
DESCRIPTION:Venue: Times Change(d) High & Lonesome Club	 234 Main Street	 Winnipeg
URL:https://accesswinnipeg.com/event/melanie-bruleejd-edwards-band/
LOCATION:MB
CATEGORIES:Music
END:VEVENT
BEGIN:VEVENT
DTSTART;TZID=America/Winnipeg:20190516T000000
DTEND;TZID=America/Winnipeg:20190517T000000
DTSTAMP:20260425T214930
CREATED:20190516T133451Z
LAST-MODIFIED:20190516T133451Z
UID:63987-1557964800-1558051200@accesswinnipeg.com
SUMMARY:Indigenous Music Conference Open Mic Night
DESCRIPTION:Venue: King\’s Head Pub	 120 King Street	 Winnipeg Promoters: Manito Ahbee Festival Indigenous Music Conference Open Mic Night Thursday\, May 16\, 2019 The King\’s Head Pub 120 King Street 6:00 p.m. Reception 7:00 – 10:00 p.m. Open Mic Sign up at the venue – 1 song per performer Acoustic set-up
URL:https://accesswinnipeg.com/event/indigenous-music-conference-open-mic-night/
LOCATION:MB
CATEGORIES:Music
END:VEVENT
BEGIN:VEVENT
DTSTART;TZID=America/Winnipeg:20190516T000000
DTEND;TZID=America/Winnipeg:20190517T000000
DTSTAMP:20260425T214930
CREATED:20190516T133451Z
LAST-MODIFIED:20190516T133451Z
UID:63982-1557964800-1558051200@accesswinnipeg.com
SUMMARY:Helen White
DESCRIPTION:Venue: Palm Lounge	 222 Broadway	 Winnipeg
URL:https://accesswinnipeg.com/event/helen-white-19/
LOCATION:MB
CATEGORIES:Music
END:VEVENT
BEGIN:VEVENT
DTSTART;TZID=America/Winnipeg:20190516T000000
DTEND;TZID=America/Winnipeg:20190517T000000
DTSTAMP:20260425T214930
CREATED:20190516T133451Z
LAST-MODIFIED:20190516T133451Z
UID:63983-1557964800-1558051200@accesswinnipeg.com
SUMMARY:Squid Squad
DESCRIPTION:Venue: Cavern	 112 Osborne Street	 Winnipeg
URL:https://accesswinnipeg.com/event/squid-squad/
LOCATION:MB
CATEGORIES:Music
END:VEVENT
BEGIN:VEVENT
DTSTART;TZID=America/Winnipeg:20190516T000000
DTEND;TZID=America/Winnipeg:20190517T000000
DTSTAMP:20260425T214930
CREATED:20190516T133451Z
LAST-MODIFIED:20190516T133451Z
UID:63984-1557964800-1558051200@accesswinnipeg.com
SUMMARY:Lauren Mann
DESCRIPTION:Venue: Le Garage Cafe	 166 Provencher Blvd	 Winnipeg After stepping back from touring for a few years\, Lauren Mann is hitting the well worn road once again with new songs\, a new band\, and new energy. Since settling on British Columbia’s Southern Gulf Islands\, she has rediscovered her voice and creative expression\, finding new authenticity in her mu…
URL:https://accesswinnipeg.com/event/lauren-mann/
LOCATION:MB
CATEGORIES:Music
END:VEVENT
BEGIN:VEVENT
DTSTART;TZID=America/Winnipeg:20190516T000000
DTEND;TZID=America/Winnipeg:20190517T000000
DTSTAMP:20260425T214930
CREATED:20190516T133451Z
LAST-MODIFIED:20190516T133451Z
UID:63985-1557964800-1558051200@accesswinnipeg.com
SUMMARY:20 Years on FM Radio Celebration: Human Music\,Man Candy
DESCRIPTION:Venue: The Good Will Social Club	 625 Portage Avenue	 Winnipeg Join CKUW 95.9 FM in celebration on May 16th at the Good Will Social Club to mark 20 years on FM Radio!! Come hang out with your favourite CKUW volunteers and experience two live local bands Man Candy and Human Music with an incredible DJ lineup of Mama Cutsworth DJ No Contact\, TINY O and Brai…
URL:https://accesswinnipeg.com/event/20-years-on-fm-radio-celebration-human-musicman-candy/
LOCATION:MB
CATEGORIES:Music
END:VEVENT
BEGIN:VEVENT
DTSTART;TZID=America/Winnipeg:20190517T000000
DTEND;TZID=America/Winnipeg:20190518T000000
DTSTAMP:20260425T214930
CREATED:20190517T140506Z
LAST-MODIFIED:20190517T140506Z
UID:63993-1558051200-1558137600@accesswinnipeg.com
SUMMARY:Twenty One Pilots: Twenty One Pilots
DESCRIPTION:Venue: Bell MTS Place	 260 Hargrave Street	 Winnipeg
URL:https://accesswinnipeg.com/event/twenty-one-pilots-twenty-one-pilots/
LOCATION:MB
CATEGORIES:Music
END:VEVENT
BEGIN:VEVENT
DTSTART;TZID=America/Winnipeg:20190517T000000
DTEND;TZID=America/Winnipeg:20190518T000000
DTSTAMP:20260425T214930
CREATED:20190517T140506Z
LAST-MODIFIED:20190517T140506Z
UID:63994-1558051200-1558137600@accesswinnipeg.com
SUMMARY:Seussical the Musical: Winnipeg Youth Chorus
DESCRIPTION:Venue: Asper Centre for Theatre and Film	 400 Colony Street	 Winnipeg Showtimes: Wednesday May 15\, 2019 7:00pm Thursday May 16\, 2019 1:30pm Thursday May 16\, 2019 7:00pm  Friday May 17\, 2019 1:30pm Friday May 17\, 2019 7:00pm  Saturday May 18\, 2019 1:00pm Saturday May 18\, 2019 5:00pm  The Winnipeg Youth Chorus presents Seussical the Musical May 15-1…
URL:https://accesswinnipeg.com/event/seussical-the-musical-winnipeg-youth-chorus-3/
LOCATION:MB
CATEGORIES:Music
END:VEVENT
BEGIN:VEVENT
DTSTART;TZID=America/Winnipeg:20190517T000000
DTEND;TZID=America/Winnipeg:20190518T000000
DTSTAMP:20260425T214930
CREATED:20190517T140507Z
LAST-MODIFIED:20190517T140507Z
UID:64001-1558051200-1558137600@accesswinnipeg.com
SUMMARY:Bohemia: A Free Concert
DESCRIPTION:Venue: Fools + Horses	 379 Broadway	 Winnipeg The Composer + Coffee Project presents Bohemia\, a free concert on Friday\, May 17th at 8 pm at Fools + Horses Coffee Company. The performance will include a string quartet featuring Jeremy Buzash (violin)\, Chris Ansty (violin)\, Elise Lavallée (viola)\, and Minna Rose Chung (cello). Join us for a…
URL:https://accesswinnipeg.com/event/bohemia-a-free-concert/
LOCATION:MB
CATEGORIES:Music
END:VEVENT
BEGIN:VEVENT
DTSTART;TZID=America/Winnipeg:20190517T000000
DTEND;TZID=America/Winnipeg:20190518T000000
DTSTAMP:20260425T214930
CREATED:20190517T140507Z
LAST-MODIFIED:20190517T140507Z
UID:63996-1558051200-1558137600@accesswinnipeg.com
SUMMARY:Northern Royals\,VERITAH\,Airplane Voice
DESCRIPTION:Venue: Cavern	 112 Osborne Street	 Winnipeg
URL:https://accesswinnipeg.com/event/northern-royalsveritahairplane-voice/
LOCATION:MB
CATEGORIES:Music
END:VEVENT
BEGIN:VEVENT
DTSTART;TZID=America/Winnipeg:20190517T000000
DTEND;TZID=America/Winnipeg:20190518T000000
DTSTAMP:20260425T214930
CREATED:20190517T140507Z
LAST-MODIFIED:20190517T140507Z
UID:64002-1558051200-1558137600@accesswinnipeg.com
SUMMARY:Hellnback\,Lisa Muswagon\,Artson\,Hyper T\,Rhonda Head\,Mob Bounce\,Boogey The Beat
DESCRIPTION:Venue: Pyramid Cabaret	 176 Fort Street	 Winnipeg
URL:https://accesswinnipeg.com/event/hellnbacklisa-muswagonartsonhyper-trhonda-headmob-bounceboogey-the-beat/
LOCATION:MB
CATEGORIES:Music
END:VEVENT
BEGIN:VEVENT
DTSTART;TZID=America/Winnipeg:20190517T000000
DTEND;TZID=America/Winnipeg:20190518T000000
DTSTAMP:20260425T214930
CREATED:20190517T140507Z
LAST-MODIFIED:20190517T140507Z
UID:63997-1558051200-1558137600@accesswinnipeg.com
SUMMARY:Suture\,Cantor Dust
DESCRIPTION:Venue: Crescent Fort Rouge United Church	 525 Wardlaw Avenue	 Winnipeg Suture- Greg Hanec\’s open member ensemble featuring Gage + Kerrigan Salnikowski. Utilizing Open Instrument Freeform\, a dozen instruments are available to the trio to create compelling free-form musical movements. Some instruments include: percussion/french horn/violin/oboe/clarinet and more! …
URL:https://accesswinnipeg.com/event/suturecantor-dust/
LOCATION:MB
CATEGORIES:Music
END:VEVENT
BEGIN:VEVENT
DTSTART;TZID=America/Winnipeg:20190517T000000
DTEND;TZID=America/Winnipeg:20190518T000000
DTSTAMP:20260425T214930
CREATED:20190517T140507Z
LAST-MODIFIED:20190517T140507Z
UID:63998-1558051200-1558137600@accesswinnipeg.com
SUMMARY:All the Right Lights
DESCRIPTION:Venue: Station 8 Cafe	 325 Talbot Avenue	 Winnipeg They are energetic\, they are danceable\, they are funky\, they are many\, they defy categorization\, and\, best of all\, they are back. Station 8 Cafe is proud to welcome All the Right Lights back for a return engagement. Put on your dancing shoes and come out for a night of poppy\, funky tunes.
URL:https://accesswinnipeg.com/event/all-the-right-lights-2/
LOCATION:MB
CATEGORIES:Music
END:VEVENT
BEGIN:VEVENT
DTSTART;TZID=America/Winnipeg:20190517T000000
DTEND;TZID=America/Winnipeg:20190518T000000
DTSTAMP:20260425T214930
CREATED:20190517T140507Z
LAST-MODIFIED:20190517T140507Z
UID:63999-1558051200-1558137600@accesswinnipeg.com
SUMMARY:Bobcat
DESCRIPTION:Venue: Winnipeg South Osborne Legion	  426 Osborne St 	 Winnipeg
URL:https://accesswinnipeg.com/event/bobcat/
LOCATION:MB
CATEGORIES:Music
END:VEVENT
BEGIN:VEVENT
DTSTART;TZID=America/Winnipeg:20190517T000000
DTEND;TZID=America/Winnipeg:20190518T000000
DTSTAMP:20260425T214930
CREATED:20190517T140507Z
LAST-MODIFIED:20190517T140507Z
UID:64000-1558051200-1558137600@accesswinnipeg.com
SUMMARY:Gary Watkins
DESCRIPTION:Venue: Sam\’s Place	 159 Henderson Highway	 Winnipeg Gary \”Woody\” Watkins is a folk singer/lyricist (guitar/harmonica) who writes and performs original folk songs based in social comment. His lyrics are the essence of his music that blends with those of Woody Guthrie\, Pete Seeger and Bob Dylan\, etc. He mixes original songs of people and events with…
URL:https://accesswinnipeg.com/event/gary-watkins/
LOCATION:MB
CATEGORIES:Music
END:VEVENT
BEGIN:VEVENT
DTSTART;TZID=America/Winnipeg:20190517T000000
DTEND;TZID=America/Winnipeg:20190518T000000
DTSTAMP:20260425T214930
CREATED:20190517T140507Z
LAST-MODIFIED:20190517T140507Z
UID:63995-1558051200-1558137600@accesswinnipeg.com
SUMMARY:Aaron Shorr
DESCRIPTION:Venue: Palm Lounge	 222 Broadway	 Winnipeg
URL:https://accesswinnipeg.com/event/aaron-shorr-11/
LOCATION:MB
CATEGORIES:Music
END:VEVENT
BEGIN:VEVENT
DTSTART;TZID=America/Winnipeg:20190517T000000
DTEND;TZID=America/Winnipeg:20190518T000000
DTSTAMP:20260425T214930
CREATED:20190517T140508Z
LAST-MODIFIED:20190517T140508Z
UID:64003-1558051200-1558137600@accesswinnipeg.com
SUMMARY:Karlee Thiessen
DESCRIPTION:Venue: Winnipeg Evangelical Free Church	 500 Lagimodiere Blvd	 Winnipeg
URL:https://accesswinnipeg.com/event/karlee-thiessen/
LOCATION:MB
CATEGORIES:Music
END:VEVENT
BEGIN:VEVENT
DTSTART;TZID=America/Winnipeg:20190517T000000
DTEND;TZID=America/Winnipeg:20190518T000000
DTSTAMP:20260425T214930
CREATED:20190517T140508Z
LAST-MODIFIED:20190517T140508Z
UID:64004-1558051200-1558137600@accesswinnipeg.com
SUMMARY:Midlife Krysis
DESCRIPTION:Venue: Anavets	 300-1395 Ellice Avenue	 Winnipeg
URL:https://accesswinnipeg.com/event/midlife-krysis-2/
LOCATION:MB
CATEGORIES:Music
END:VEVENT
BEGIN:VEVENT
DTSTART;VALUE=DATE:20190517
DTEND;VALUE=DATE:20190520
DTSTAMP:20260425T214930
CREATED:20190121T191056Z
LAST-MODIFIED:20190121T191352Z
UID:57509-1558051200-1558310399@accesswinnipeg.com
SUMMARY:Keycon 36
DESCRIPTION:Keycon is Manitoba’s premier Science Fiction & Fantasy Literary Convention. It focuses on science fiction\, fantasy and related literary genres in any form. It includes\, but is not limited to\, writing\, visual arts\, television and film. \n“Monty and Max and Vampyres! Oh My!” \nThis year we are celebrating: \n-the 50th anniversary of Monty Python\n-the 40th anniversary of Mad Max\n-the 200th anniversary of “The Vampyre” appearing in print\n-and the 80th anniversary of the Wizard of Oz. \nWe have several special events planned through out the year like: \n-the Wasteland LARP with the Frontier LARP\n-Monty Python Halloween Social at the beginning of October\n-Vampyre theme game\n-and Keycon Lite in January \nKeycon will also host a Live Steel HEMA Tournament over the Victoria Day (May Long) Weekend with a viewing gallery.
URL:https://accesswinnipeg.com/event/keycon-36/
LOCATION:The Radisson Hotel Downtown Winnipeg\, 288 Portage Ave\, Winnipeg\, Manitoba\, Canada
CATEGORIES:Conference
ATTACH;FMTTYPE=image/jpeg:https://accesswinnipeg.com/wp-content/uploads/2018/06/fbgroupnew2.jpg
ORGANIZER;CN="Keycon":MAILTO:marketing36@keycon.org
END:VEVENT
END:VCALENDAR