BEGIN:VCALENDAR
VERSION:2.0
PRODID:-//Access Winnipeg - ECPv6.15.20//NONSGML v1.0//EN
CALSCALE:GREGORIAN
METHOD:PUBLISH
X-WR-CALNAME:Access Winnipeg
X-ORIGINAL-URL:https://accesswinnipeg.com
X-WR-CALDESC:Events for Access Winnipeg
REFRESH-INTERVAL;VALUE=DURATION:PT1H
X-Robots-Tag:noindex
X-PUBLISHED-TTL:PT1H
BEGIN:VTIMEZONE
TZID:America/Winnipeg
BEGIN:DAYLIGHT
TZOFFSETFROM:-0600
TZOFFSETTO:-0500
TZNAME:CDT
DTSTART:20180311T080000
END:DAYLIGHT
BEGIN:STANDARD
TZOFFSETFROM:-0500
TZOFFSETTO:-0600
TZNAME:CST
DTSTART:20181104T070000
END:STANDARD
BEGIN:DAYLIGHT
TZOFFSETFROM:-0600
TZOFFSETTO:-0500
TZNAME:CDT
DTSTART:20190310T080000
END:DAYLIGHT
BEGIN:STANDARD
TZOFFSETFROM:-0500
TZOFFSETTO:-0600
TZNAME:CST
DTSTART:20191103T070000
END:STANDARD
BEGIN:DAYLIGHT
TZOFFSETFROM:-0600
TZOFFSETTO:-0500
TZNAME:CDT
DTSTART:20200308T080000
END:DAYLIGHT
BEGIN:STANDARD
TZOFFSETFROM:-0500
TZOFFSETTO:-0600
TZNAME:CST
DTSTART:20201101T070000
END:STANDARD
END:VTIMEZONE
BEGIN:VEVENT
DTSTART;TZID=America/Winnipeg:20191124T000000
DTEND;TZID=America/Winnipeg:20191125T000000
DTSTAMP:20260423T090242
CREATED:20191124T144153Z
LAST-MODIFIED:20191124T144153Z
UID:67982-1574553600-1574640000@accesswinnipeg.com
SUMMARY:Rick Boughton
DESCRIPTION:Venue: Palm Lounge	 222 Broadway	 Winnipeg
URL:https://accesswinnipeg.com/event/rick-boughton-25/
LOCATION:MB
CATEGORIES:Music
END:VEVENT
BEGIN:VEVENT
DTSTART;TZID=America/Winnipeg:20191124T000000
DTEND;TZID=America/Winnipeg:20191125T000000
DTSTAMP:20260423T090242
CREATED:20191124T144153Z
LAST-MODIFIED:20191124T144153Z
UID:67980-1574553600-1574640000@accesswinnipeg.com
SUMMARY:Canzona - Magnificat: Canzona\,Winnipeg Symphony Orchestra\,Kathleen Allan\, conductor
DESCRIPTION:Venue: Crescent Fort Rouge United Church	 525 Wardlaw Avenue	 Winnipeg Promoters: Winnipeg Symphony Orchestra Canzona members as soloists Bach’s magnificent Magnificat rings in the holiday season with festive choruses and resounding trumpets. This version includes the rarely-heard carol insertions that highlight the Nativity story. Also on the program is Bach’s Cantata No. 147 which features the famou…
URL:https://accesswinnipeg.com/event/canzona-magnificat-canzonawinnipeg-symphony-orchestrakathleen-allan-conductor/
LOCATION:MB
CATEGORIES:Music
END:VEVENT
BEGIN:VEVENT
DTSTART;TZID=America/Winnipeg:20191124T000000
DTEND;TZID=America/Winnipeg:20191125T000000
DTSTAMP:20260423T090242
CREATED:20191124T144153Z
LAST-MODIFIED:20191124T144153Z
UID:67981-1574553600-1574640000@accesswinnipeg.com
SUMMARY:Chastity Belt\,Living Hour
DESCRIPTION:Venue: The Good Will Social Club	 625 Portage Avenue	 Winnipeg Chastity Belt’s energy is like a circuit\, circling around the silly and the sincere. Tongue-in-cheek shit-shooting and existential rumination feed into each other infinitely. Theirs is a long-term relationship\, and that loop sustains them. That’s a creative thesis in and ofitself\, but isn’t that …
URL:https://accesswinnipeg.com/event/chastity-beltliving-hour/
LOCATION:MB
CATEGORIES:Music
END:VEVENT
BEGIN:VEVENT
DTSTART;TZID=America/Winnipeg:20191124T000000
DTEND;TZID=America/Winnipeg:20191125T000000
DTSTAMP:20260423T090242
CREATED:20191124T144152Z
LAST-MODIFIED:20191124T144152Z
UID:67979-1574553600-1574640000@accesswinnipeg.com
SUMMARY:Open Mic
DESCRIPTION:Venue: Winnipeg South Osborne Legion	 436 Osborne Street	 Winnipeg
URL:https://accesswinnipeg.com/event/open-mic-126/
LOCATION:MB
CATEGORIES:Music
END:VEVENT
BEGIN:VEVENT
DTSTART;TZID=America/Winnipeg:20191123T180000
DTEND;TZID=America/Winnipeg:20191123T210000
DTSTAMP:20260423T090242
CREATED:20190825T200257Z
LAST-MODIFIED:20191123T134159Z
UID:66073-1574532000-1574542800@accesswinnipeg.com
SUMMARY:Jets vs. Blue Jackets
DESCRIPTION:
URL:https://accesswinnipeg.com/event/jets-vs-blue-jackets-8/
LOCATION:Bell MTS Place\, 300 Portage Avenue\, Winnipeg\, Manitoba\, R3C 5S4\, Canada
END:VEVENT
BEGIN:VEVENT
DTSTART;TZID=America/Winnipeg:20191123T000000
DTEND;TZID=America/Winnipeg:20191124T000000
DTSTAMP:20260423T090242
CREATED:20191123T144201Z
LAST-MODIFIED:20191123T144201Z
UID:67973-1574467200-1574553600@accesswinnipeg.com
SUMMARY:Holiday Alley 2019: FireHeart Women\'s Traditional Hand Drummers\,Howling Wolves Men\'s Group
DESCRIPTION:Venue: Head Start Indigenous Performers Stage	 222 Manitoba Ave	 Winnipeg
URL:https://accesswinnipeg.com/event/holiday-alley-2019-fireheart-womens-traditional-hand-drummershowling-wolves-mens-group/
LOCATION:MB
CATEGORIES:Music
END:VEVENT
BEGIN:VEVENT
DTSTART;TZID=America/Winnipeg:20191123T000000
DTEND;TZID=America/Winnipeg:20191124T000000
DTSTAMP:20260423T090242
CREATED:20191123T144200Z
LAST-MODIFIED:20191123T144200Z
UID:67972-1574467200-1574553600@accesswinnipeg.com
SUMMARY:Holiday Alley 2019: Nikki Komaksuitlksak\,Cohen Sieg\,Morgan Ginther\,Barry Gefreiter\,J3NN\,Stephen Tower
DESCRIPTION:Venue: House of Economy	 246 Manitoba Avenue	 Winnipeg 12:00PM Nikki Komaksuitlksak 12:30PM Coehn Sieg 1:00PM Morgan Ginther 1:30PM Barry Gefreiter 2:00PM J3NN 3:00PM Stephen Tower
URL:https://accesswinnipeg.com/event/holiday-alley-2019-nikki-komaksuitlksakcohen-siegmorgan-gintherbarry-gefreiterj3nnstephen-tower/
LOCATION:MB
CATEGORIES:Music
END:VEVENT
BEGIN:VEVENT
DTSTART;TZID=America/Winnipeg:20191123T000000
DTEND;TZID=America/Winnipeg:20191124T000000
DTSTAMP:20260423T090242
CREATED:20191123T144200Z
LAST-MODIFIED:20191123T144200Z
UID:67967-1574467200-1574553600@accesswinnipeg.com
SUMMARY:Ricky Bogart and the New Casbah Band
DESCRIPTION:Venue: Royal George	 123 Regent Avenue West	 Winnipeg
URL:https://accesswinnipeg.com/event/ricky-bogart-and-the-new-casbah-band/
LOCATION:MB
CATEGORIES:Music
END:VEVENT
BEGIN:VEVENT
DTSTART;TZID=America/Winnipeg:20191123T000000
DTEND;TZID=America/Winnipeg:20191124T000000
DTSTAMP:20260423T090242
CREATED:20191123T144200Z
LAST-MODIFIED:20191123T144200Z
UID:67968-1574467200-1574553600@accesswinnipeg.com
SUMMARY:Holiday Alley 2019: Lloyd Thomas\,Back Pew Boys Men\'s Choir\,Harlequin Barbershop Quartet\,Octavia Women\'s Choir\,LSRCSS Jazz Combo\,Tuckett Family Fiddlers\,Cindi Cain\,Sol James\,Ashley Bieniarz\,Gabrielle Fontaine\,Ashes and Dreams
DESCRIPTION:Venue: On the Rocks Bar	 219 Manitoba Avenue	 Winnipeg
URL:https://accesswinnipeg.com/event/holiday-alley-2019-lloyd-thomasback-pew-boys-mens-choirharlequin-barbershop-quartetoctavia-womens-choirlsrcss-jazz-combotuckett-family-fiddlerscindi-cainsol-jamesashley-bieniarzgabri/
LOCATION:MB
CATEGORIES:Music
END:VEVENT
BEGIN:VEVENT
DTSTART;TZID=America/Winnipeg:20191123T000000
DTEND;TZID=America/Winnipeg:20191124T000000
DTSTAMP:20260423T090242
CREATED:20191123T144200Z
LAST-MODIFIED:20191123T144200Z
UID:67969-1574467200-1574553600@accesswinnipeg.com
SUMMARY:Holiday Alley 2019: Morgan Ginther\,Harlequin Barbershop Quartet\,Nikki Komaksiutiksak\,Jess Armenti and Special Guests\,Morgan Ginther\,Framy\,James Culleton
DESCRIPTION:Venue: The Mighty Kiwi	 201 Manitoba Avenue	 Winnipeg
URL:https://accesswinnipeg.com/event/holiday-alley-2019-morgan-gintherharlequin-barbershop-quartetnikki-komaksiutiksakjess-armenti-and-special-guestsmorgan-gintherframyjames-culleton/
LOCATION:MB
CATEGORIES:Music
END:VEVENT
BEGIN:VEVENT
DTSTART;TZID=America/Winnipeg:20191123T000000
DTEND;TZID=America/Winnipeg:20191124T000000
DTSTAMP:20260423T090242
CREATED:20191123T144200Z
LAST-MODIFIED:20191123T144200Z
UID:67970-1574467200-1574553600@accesswinnipeg.com
SUMMARY:Rock \'N\' Roots Jam: The Throbtones
DESCRIPTION:Venue: Windsor Hotel	 187 Garry Street	 Winnipeg
URL:https://accesswinnipeg.com/event/rock-n-roots-jam-the-throbtones/
LOCATION:MB
CATEGORIES:Music
END:VEVENT
BEGIN:VEVENT
DTSTART;TZID=America/Winnipeg:20191123T000000
DTEND;TZID=America/Winnipeg:20191124T000000
DTSTAMP:20260423T090242
CREATED:20191123T144200Z
LAST-MODIFIED:20191123T144200Z
UID:67971-1574467200-1574553600@accesswinnipeg.com
SUMMARY:Jam with Sam
DESCRIPTION:Venue: Sam\’s Place	 159 Henderson Highway	 Winnipeg Bring your guitar or your voice and a song or two\, or just bring your friends and join us for Jam with Sam from noon to 3:00.  It\’s free and everyone is welcome.  Come down to Sam\’s for a great jam session.
URL:https://accesswinnipeg.com/event/jam-with-sam-23/
LOCATION:MB
CATEGORIES:Music
END:VEVENT
BEGIN:VEVENT
DTSTART;TZID=America/Winnipeg:20191123T000000
DTEND;TZID=America/Winnipeg:20191124T000000
DTSTAMP:20260423T090242
CREATED:20191123T144200Z
LAST-MODIFIED:20191123T144200Z
UID:67966-1574467200-1574553600@accesswinnipeg.com
SUMMARY:Leo Gosselin
DESCRIPTION:Venue: Palm Lounge	 222 Broadway	 Winnipeg
URL:https://accesswinnipeg.com/event/leo-gosselin-26/
LOCATION:MB
CATEGORIES:Music
END:VEVENT
BEGIN:VEVENT
DTSTART;TZID=America/Winnipeg:20191123T000000
DTEND;TZID=America/Winnipeg:20191124T000000
DTSTAMP:20260423T090242
CREATED:20191123T144159Z
LAST-MODIFIED:20191123T144159Z
UID:67965-1574467200-1574553600@accesswinnipeg.com
SUMMARY:Mark Morrisseau\,Mike Szekely\,Paul Kelly\,Tim Sutton
DESCRIPTION:Venue: Silver Spike Saloon	 202 Bond Street	 Winnipeg Round Up Band has been playing Traditional/Old Time Country Music on Saturday afternoons at the Silver Spike for 20 years and counting. ​
URL:https://accesswinnipeg.com/event/mark-morrisseaumike-szekelypaul-kellytim-sutton-8/
LOCATION:MB
CATEGORIES:Music
END:VEVENT
BEGIN:VEVENT
DTSTART;TZID=America/Winnipeg:20191123T000000
DTEND;TZID=America/Winnipeg:20191124T000000
DTSTAMP:20260423T090242
CREATED:20191123T144157Z
LAST-MODIFIED:20191123T144157Z
UID:67962-1574467200-1574553600@accesswinnipeg.com
SUMMARY:Joe Curtis
DESCRIPTION:Venue: Nicolett Inn	 632 Lafleche Ave.	 Winnipeg Joe Curtis band @ The Nicolette Inn
URL:https://accesswinnipeg.com/event/joe-curtis-6/
LOCATION:MB
CATEGORIES:Music
END:VEVENT
BEGIN:VEVENT
DTSTART;TZID=America/Winnipeg:20191123T000000
DTEND;TZID=America/Winnipeg:20191124T000000
DTSTAMP:20260423T090242
CREATED:20191123T144157Z
LAST-MODIFIED:20191123T144157Z
UID:67963-1574467200-1574553600@accesswinnipeg.com
SUMMARY:Jazz at the Heights: The Mahon Group
DESCRIPTION:Venue: Silver Heights Restaurant Lounge	 2169 Portage Ave	 Winnipeg
URL:https://accesswinnipeg.com/event/jazz-at-the-heights-the-mahon-group-12/
LOCATION:MB
CATEGORIES:Music
END:VEVENT
BEGIN:VEVENT
DTSTART;TZID=America/Winnipeg:20191123T000000
DTEND;TZID=America/Winnipeg:20191124T000000
DTSTAMP:20260423T090242
CREATED:20191123T144157Z
LAST-MODIFIED:20191123T144157Z
UID:67964-1574467200-1574553600@accesswinnipeg.com
SUMMARY:Celtic Jam
DESCRIPTION:Venue: Shannon\’s Irish Pub	 175 Carlton Street	 Winnipeg
URL:https://accesswinnipeg.com/event/celtic-jam-28/
LOCATION:MB
CATEGORIES:Music
END:VEVENT
BEGIN:VEVENT
DTSTART;TZID=America/Winnipeg:20191122T000000
DTEND;TZID=America/Winnipeg:20191123T000000
DTSTAMP:20260423T090242
CREATED:20191122T144157Z
LAST-MODIFIED:20191122T144157Z
UID:67957-1574380800-1574467200@accesswinnipeg.com
SUMMARY:Holiday Alley 2019: Barry Gefreiter\,Stephen Tower\,Cohen Sieg\,J3NN
DESCRIPTION:Venue: Gwen Fox Gallery	 250 Manitoba Ave	 Winnipeg
URL:https://accesswinnipeg.com/event/holiday-alley-2019-barry-gefreiterstephen-towercohen-siegj3nn/
LOCATION:MB
CATEGORIES:Music
END:VEVENT
BEGIN:VEVENT
DTSTART;TZID=America/Winnipeg:20191122T000000
DTEND;TZID=America/Winnipeg:20191123T000000
DTSTAMP:20260423T090242
CREATED:20191122T144156Z
LAST-MODIFIED:20191122T144156Z
UID:67955-1574380800-1574467200@accesswinnipeg.com
SUMMARY:Holiday Alley 2019: Double Bourbon\,Troyanda Ukrainian Dance
DESCRIPTION:Venue: On the Rocks Bar	 219 Manitoba Avenue	 Winnipeg
URL:https://accesswinnipeg.com/event/holiday-alley-2019-double-bourbontroyanda-ukrainian-dance/
LOCATION:MB
CATEGORIES:Music
END:VEVENT
BEGIN:VEVENT
DTSTART;TZID=America/Winnipeg:20191122T000000
DTEND;TZID=America/Winnipeg:20191123T000000
DTSTAMP:20260423T090242
CREATED:20191122T144156Z
LAST-MODIFIED:20191122T144156Z
UID:67956-1574380800-1574467200@accesswinnipeg.com
SUMMARY:Trish V and the Friends
DESCRIPTION:Venue: Sam\’s Place	 159 Henderson Highway	 Winnipeg Trish V is a Winnipeg musician who loves her family and loves exploring the pages of a good book. Singing and writing songs\, has always been a big part of her life. Drawing on her experiences of moving as a child\, Trish’s songs speak to the deep longing that we carry for a place to call home. …
URL:https://accesswinnipeg.com/event/trish-v-and-the-friends/
LOCATION:MB
CATEGORIES:Music
END:VEVENT
BEGIN:VEVENT
DTSTART;TZID=America/Winnipeg:20191122T000000
DTEND;TZID=America/Winnipeg:20191123T000000
DTSTAMP:20260423T090242
CREATED:20191122T144155Z
LAST-MODIFIED:20191122T144155Z
UID:67952-1574380800-1574467200@accesswinnipeg.com
SUMMARY:Live Music at ERA Bistro
DESCRIPTION:Venue: ERA Bistro	 85 Israel Asper Way	 Winnipeg
URL:https://accesswinnipeg.com/event/live-music-at-era-bistro/
LOCATION:MB
CATEGORIES:Music
END:VEVENT
BEGIN:VEVENT
DTSTART;TZID=America/Winnipeg:20191122T000000
DTEND;TZID=America/Winnipeg:20191123T000000
DTSTAMP:20260423T090242
CREATED:20191122T144155Z
LAST-MODIFIED:20191122T144155Z
UID:67953-1574380800-1574467200@accesswinnipeg.com
SUMMARY:Buxton Road\,Ecco Singers
DESCRIPTION:Venue: Park Theatre	 698 Osborne Street	 Winnipeg Come join Ecco Singers and Buxton Road as we host the best Roll and Roll party around for the SEVENTH YEAR IN A ROW! Featuring new singers\, new staging\, and hours of your favourite songs\, sung by your favourite Ecco singers! This year\, the show is called \”Everyday Superstars\” because our singe…
URL:https://accesswinnipeg.com/event/buxton-roadecco-singers/
LOCATION:MB
CATEGORIES:Music
END:VEVENT
BEGIN:VEVENT
DTSTART;TZID=America/Winnipeg:20191122T000000
DTEND;TZID=America/Winnipeg:20191123T000000
DTSTAMP:20260423T090242
CREATED:20191122T144155Z
LAST-MODIFIED:20191122T144155Z
UID:67954-1574380800-1574467200@accesswinnipeg.com
SUMMARY:Paula Berry\, soprano\,Lisa Rumpel\, piano
DESCRIPTION:Venue: St.Vital House	 Winnipeg As the leaves fall\, we look back on the days of summer with nostalgia and reminiscence\, wistfulness and gratitude. In this concert\, Paula and Lisa explore the nostalgia in life’s journey: from days of giddy youth to wishing for the past\, finally expressing hope for a beautiful future. Including w…
URL:https://accesswinnipeg.com/event/paula-berry-sopranolisa-rumpel-piano/
LOCATION:MB
CATEGORIES:Music
END:VEVENT
BEGIN:VEVENT
DTSTART;TZID=America/Winnipeg:20191122T000000
DTEND;TZID=America/Winnipeg:20191123T000000
DTSTAMP:20260423T090242
CREATED:20191122T144155Z
LAST-MODIFIED:20191122T144155Z
UID:67950-1574380800-1574467200@accesswinnipeg.com
SUMMARY:Cherry Cherry
DESCRIPTION:Venue: Into the Music	 B-245 McDermot Avenue	 Winnipeg
URL:https://accesswinnipeg.com/event/cherry-cherry/
LOCATION:MB
CATEGORIES:Music
END:VEVENT
BEGIN:VEVENT
DTSTART;TZID=America/Winnipeg:20191122T000000
DTEND;TZID=America/Winnipeg:20191123T000000
DTSTAMP:20260423T090242
CREATED:20191122T144155Z
LAST-MODIFIED:20191122T144155Z
UID:67951-1574380800-1574467200@accesswinnipeg.com
SUMMARY:Student Chamber Ensembles in Performance
DESCRIPTION:Venue: Desautels Faculty of Music	 136 Dafoe Road	 Winnipeg The Desautels Faculty of Music Chamber Ensembles will perform chamber music in these FREE concerts!
URL:https://accesswinnipeg.com/event/student-chamber-ensembles-in-performance-4/
LOCATION:MB
CATEGORIES:Music
END:VEVENT
BEGIN:VEVENT
DTSTART;TZID=America/Winnipeg:20191122T000000
DTEND;TZID=America/Winnipeg:20191123T000000
DTSTAMP:20260423T090242
CREATED:20191122T144154Z
LAST-MODIFIED:20191122T144154Z
UID:67947-1574380800-1574467200@accesswinnipeg.com
SUMMARY:Coeur d\'artiste: Angela Durand\,Robert Gallant\,Guy Lacroix\,Helene Perreault\,Mario Tanguay
DESCRIPTION:Venue: Centre Culturel Franco-Manitobain	 340 Provencher Boulevard	 Winnipeg
URL:https://accesswinnipeg.com/event/coeur-dartiste-angela-durandrobert-gallantguy-lacroixhelene-perreaultmario-tanguay/
LOCATION:MB
CATEGORIES:Music
END:VEVENT
BEGIN:VEVENT
DTSTART;TZID=America/Winnipeg:20191122T000000
DTEND;TZID=America/Winnipeg:20191123T000000
DTSTAMP:20260423T090242
CREATED:20191122T144154Z
LAST-MODIFIED:20191122T144154Z
UID:67948-1574380800-1574467200@accesswinnipeg.com
SUMMARY:David Frazer
DESCRIPTION:Venue: Palm Lounge	 222 Broadway	 Winnipeg
URL:https://accesswinnipeg.com/event/david-frazer/
LOCATION:MB
CATEGORIES:Music
END:VEVENT
BEGIN:VEVENT
DTSTART;TZID=America/Winnipeg:20191122T000000
DTEND;TZID=America/Winnipeg:20191123T000000
DTSTAMP:20260423T090242
CREATED:20191122T144154Z
LAST-MODIFIED:20191122T144154Z
UID:67949-1574380800-1574467200@accesswinnipeg.com
SUMMARY:In Flames
DESCRIPTION:Venue: The Garrick	 330 Garry Street	 Winnipeg Sweden’s leading metal band has never stopped moving forward during the more than 20 years they’ve been performing. The melodic death metal of the band’s early days has since evolved into a unique expression\, manifested in 12 albums like A Sense of Purpose\, Sounds of a Playground Fading\, Siren Ch…
URL:https://accesswinnipeg.com/event/in-flames/
LOCATION:MB
CATEGORIES:Music
END:VEVENT
BEGIN:VEVENT
DTSTART;TZID=America/Winnipeg:20191122T000000
DTEND;TZID=America/Winnipeg:20191123T000000
DTSTAMP:20260423T090242
CREATED:20191122T144154Z
LAST-MODIFIED:20191122T144154Z
UID:67946-1574380800-1574467200@accesswinnipeg.com
SUMMARY:Death Angel\,Exmortus\,Hellfire\,Zombie Assault
DESCRIPTION:Venue: Pyramid Cabaret	 176 Fort Street	 Winnipeg
URL:https://accesswinnipeg.com/event/death-angelexmortushellfirezombie-assault/
LOCATION:MB
CATEGORIES:Music
END:VEVENT
BEGIN:VEVENT
DTSTART;TZID=America/Winnipeg:20191121T190000
DTEND;TZID=America/Winnipeg:20191121T190000
DTSTAMP:20260423T090242
CREATED:20190825T200256Z
LAST-MODIFIED:20191121T132654Z
UID:66072-1574362800-1574362800@accesswinnipeg.com
SUMMARY:The Offspring + Sum 41
DESCRIPTION:
URL:https://accesswinnipeg.com/event/the-offspring-sum-41/
LOCATION:Bell MTS Place\, 300 Portage Avenue\, Winnipeg\, Manitoba\, R3C 5S4\, Canada
END:VEVENT
END:VCALENDAR