BEGIN:VCALENDAR
VERSION:2.0
PRODID:-//Access Winnipeg - ECPv6.15.20//NONSGML v1.0//EN
CALSCALE:GREGORIAN
METHOD:PUBLISH
X-WR-CALNAME:Access Winnipeg
X-ORIGINAL-URL:https://accesswinnipeg.com
X-WR-CALDESC:Events for Access Winnipeg
REFRESH-INTERVAL;VALUE=DURATION:PT1H
X-Robots-Tag:noindex
X-PUBLISHED-TTL:PT1H
BEGIN:VTIMEZONE
TZID:America/Winnipeg
BEGIN:DAYLIGHT
TZOFFSETFROM:-0600
TZOFFSETTO:-0500
TZNAME:CDT
DTSTART:20160313T080000
END:DAYLIGHT
BEGIN:STANDARD
TZOFFSETFROM:-0500
TZOFFSETTO:-0600
TZNAME:CST
DTSTART:20161106T070000
END:STANDARD
BEGIN:DAYLIGHT
TZOFFSETFROM:-0600
TZOFFSETTO:-0500
TZNAME:CDT
DTSTART:20170312T080000
END:DAYLIGHT
BEGIN:STANDARD
TZOFFSETFROM:-0500
TZOFFSETTO:-0600
TZNAME:CST
DTSTART:20171105T070000
END:STANDARD
BEGIN:DAYLIGHT
TZOFFSETFROM:-0600
TZOFFSETTO:-0500
TZNAME:CDT
DTSTART:20180311T080000
END:DAYLIGHT
BEGIN:STANDARD
TZOFFSETFROM:-0500
TZOFFSETTO:-0600
TZNAME:CST
DTSTART:20181104T070000
END:STANDARD
END:VTIMEZONE
BEGIN:VEVENT
DTSTART;TZID=America/Winnipeg:20170502T190000
DTEND;TZID=America/Winnipeg:20170502T190000
DTSTAMP:20260419T232521
CREATED:20170408T054518Z
LAST-MODIFIED:20170414T071522Z
UID:49874-1493751600-1493751600@accesswinnipeg.com
SUMMARY:Randy & Mr. Lahey
DESCRIPTION:Sale Dates and Times: \nPublic Onsale : Fri\, 7 Apr 2017 at 10:00 AM \nInternet Presale : Wed\, 5 Apr 2017 at 10:00 AM
URL:https://accesswinnipeg.com/event/randy-mr-lahey/
LOCATION:Burton Cummings Theatre\, 364 Smith Street\, Winnipeg\, Manitoba\, R3B 2H2\, Canada
ATTACH;FMTTYPE=image/jpeg:https://accesswinnipeg.com/wp-content/uploads/2017/04/30e263bf319d937c63dce98a76891141.jpg
END:VEVENT
BEGIN:VEVENT
DTSTART;TZID=America/Winnipeg:20170506T150000
DTEND;TZID=America/Winnipeg:20170506T150000
DTSTAMP:20260419T232521
CREATED:20161124T034920Z
LAST-MODIFIED:20170414T071522Z
UID:41826-1494082800-1494082800@accesswinnipeg.com
SUMMARY:Stomp
DESCRIPTION:Sale Dates and Times: \nPublic Onsale : Fri\, 25 Nov 2016 at 10:00 AM \nInternet Presale : Wed\, 23 Nov 2016 at 10:00 AM \nSpecial Offer : Fri\, 6 Jan 2017 at 10:00 AM
URL:https://accesswinnipeg.com/event/stomp/
LOCATION:Burton Cummings Theatre\, 364 Smith Street\, Winnipeg\, Manitoba\, R3B 2H2\, Canada
ATTACH;FMTTYPE=image/jpeg:https://accesswinnipeg.com/wp-content/uploads/2017/04/f8a04aea97cfadc2e1a06945579614b5.jpg
END:VEVENT
BEGIN:VEVENT
DTSTART;TZID=America/Winnipeg:20170506T190000
DTEND;TZID=America/Winnipeg:20170506T190000
DTSTAMP:20260419T232521
CREATED:20161124T034920Z
LAST-MODIFIED:20170414T071522Z
UID:41827-1494097200-1494097200@accesswinnipeg.com
SUMMARY:Stomp
DESCRIPTION:Sale Dates and Times: \nPublic Onsale : Fri\, 25 Nov 2016 at 10:00 AM \nInternet Presale : Wed\, 23 Nov 2016 at 10:00 AM \nSpecial Offer : Fri\, 6 Jan 2017 at 10:00 AM
URL:https://accesswinnipeg.com/event/stomp-2/
LOCATION:Burton Cummings Theatre\, 364 Smith Street\, Winnipeg\, Manitoba\, R3B 2H2\, Canada
ATTACH;FMTTYPE=image/jpeg:https://accesswinnipeg.com/wp-content/uploads/2017/04/d5102dea2c2405957e22b2cae7e7169b.jpg
END:VEVENT
BEGIN:VEVENT
DTSTART;TZID=America/Winnipeg:20170507T130000
DTEND;TZID=America/Winnipeg:20170507T130000
DTSTAMP:20260419T232521
CREATED:20161124T034920Z
LAST-MODIFIED:20170414T071522Z
UID:41828-1494162000-1494162000@accesswinnipeg.com
SUMMARY:Stomp
DESCRIPTION:Stomp
URL:https://accesswinnipeg.com/event/stomp-3/
LOCATION:Burton Cummings Theatre\, 364 Smith Street\, Winnipeg\, Manitoba\, R3B 2H2\, Canada
ATTACH;FMTTYPE=image/jpeg:https://accesswinnipeg.com/wp-content/uploads/2017/04/2bc77db3a41b535984593e23288454a5.jpg
END:VEVENT
BEGIN:VEVENT
DTSTART;TZID=America/Winnipeg:20170507T130000
DTEND;TZID=America/Winnipeg:20170507T130000
DTSTAMP:20260419T232521
CREATED:20161124T035212Z
LAST-MODIFIED:20170309T003015Z
UID:41889-1494162000-1494162000@accesswinnipeg.com
SUMMARY:Fred Penner
DESCRIPTION:Once upon a time Fred Penner sang a childrens song about a cat coming back. Now the children are coming back\, except they are adults and they are bringing their own kids to hear the magic of Fred Penner. Fred has been entertaining audiences of ALL ages for over 40 years. And with the WSO\, the experience becomes extra special!
URL:https://accesswinnipeg.com/event/fred-penner/
LOCATION:Centennial Concert Hall\, 555 Main St\, Winnipeg\, Manitoba\, R3B 1C3\, Canada
ATTACH;FMTTYPE=image/jpeg:https://accesswinnipeg.com/wp-content/uploads/2017/02/95a740444cc8662589f55da356e8de2f.jpg
END:VEVENT
BEGIN:VEVENT
DTSTART;TZID=America/Winnipeg:20170510T180000
DTEND;TZID=America/Winnipeg:20170510T180000
DTSTAMP:20260419T232521
CREATED:20170105T025138Z
LAST-MODIFIED:20170414T220113Z
UID:48139-1494439200-1494439200@accesswinnipeg.com
SUMMARY:Investors Group Stars on Ice Presented by Lindt
DESCRIPTION:Sale Dates and Times: \nPublic Onsale : Fri\, 9 Dec 2016 at 10:00 AM \nPresale Offers : Tue\, 6 Dec 2016 at 10:00 AM \nOffer : Fri\, 6 Jan 2017 at 10:00 AM \nSpecial Offers : Tue\, 7 Mar 2017 at 10:00 AM
URL:https://accesswinnipeg.com/event/investors-group-stars-on-ice-presented-by-lindt/
LOCATION:MTS Centre\, 300 Portage Ave\, Winnipeg\, Manitoba\, R3C 5S4\, Canada
ATTACH;FMTTYPE=image/jpeg:https://accesswinnipeg.com/wp-content/uploads/2017/04/20965896dab5d5ad0a45771a7468e69e.jpg
END:VEVENT
BEGIN:VEVENT
DTSTART;TZID=America/Winnipeg:20170510T190000
DTEND;TZID=America/Winnipeg:20170510T190000
DTSTAMP:20260419T232521
CREATED:20170214T191545Z
LAST-MODIFIED:20170414T072133Z
UID:48902-1494442800-1494442800@accesswinnipeg.com
SUMMARY:JoJo - Mad Love Tour
DESCRIPTION:JoJo – Mad Love Tour
URL:https://accesswinnipeg.com/event/jojo/
LOCATION:Burton Cummings Theatre\, 364 Smith Street\, Winnipeg\, Manitoba\, R3B 2H2\, Canada
ATTACH;FMTTYPE=image/jpeg:https://accesswinnipeg.com/wp-content/uploads/2017/04/33fc20b23ab4abadc13711101f766be1.jpg
END:VEVENT
BEGIN:VEVENT
DTSTART;TZID=America/Winnipeg:20170511T180000
DTEND;TZID=America/Winnipeg:20170511T210000
DTSTAMP:20260419T232521
CREATED:20161207T064252Z
LAST-MODIFIED:20170211T181549Z
UID:44629-1494525600-1494536400@accesswinnipeg.com
SUMMARY:An Evening With Charley Pride
DESCRIPTION:Click the “Find Tickets” link on this page or call 855-985-5000 \n6:00 PM Doors Open\n7:00 PM Central Show \nCome out and enjoy an evening full of hits as country music legend Charley Pride celebrates over 50 years as a recording artist! \nBetween 1967 and 1987\, Pride amassed no fewer than 52 Top-10 Country hits and went on to sell tens of millions of records worldwide. In 1971\, he won two Grammy Awards related to his Gospel album DID YOU THINK TO PRAY–“Best Sacred Performance\, Musical (Non-Classical)” for the album\, as well as “Best Gospel Performance Other Than Soul” for the single “Let Me Live.” Later that year\, his #1 crossover hit “Kiss An Angel Good Mornin’” sold over a million singles and helped him to win the Country Music Association’s “Entertainer of the Year” award and the “Top Male Vocalist” awards of 1971 and 1972. It also brought him a “Best Male Country Vocal Performance” Grammy Award in 1972. Some of Charley’s unforgettable hits from the 1960s\, 1970s and early 1980s include “All I Have To Offer You Is Me\,” “Is Anybody Goin’ To San Antone\,” “Amazing Love\,” “Mississippi Cotton Pickin’ Delta Town\,” “Burgers And Fries\,” “Roll On Mississippi” and “Mountain Of Love.”
URL:https://accesswinnipeg.com/event/charley-pride/
LOCATION:Club Regent Event Centre\, 1425 Regent Avenue West\, Winnipeg\, MB\, R2C 3B2\, Canada
ATTACH;FMTTYPE=image/png:https://accesswinnipeg.com/wp-content/uploads/2017/01/6d1165ac3c1d8deaed58b0204280a5f1-1.png
END:VEVENT
BEGIN:VEVENT
DTSTART;TZID=America/Winnipeg:20170512T180000
DTEND;TZID=America/Winnipeg:20170512T180000
DTSTAMP:20260419T232521
CREATED:20161207T065749Z
LAST-MODIFIED:20170211T181549Z
UID:44631-1494612000-1494612000@accesswinnipeg.com
SUMMARY:Frank Mills
DESCRIPTION:Rocklands Presents An Evening with FRANK MILLS Mr. Music Box Dancer 6pm Doors 7pm Show
URL:https://accesswinnipeg.com/event/frank-mills/
LOCATION:Club Regent Event Centre\, 1425 Regent Avenue West\, Winnipeg\, MB\, R2C 3B2\, Canada
ATTACH;FMTTYPE=image/jpeg:https://accesswinnipeg.com/wp-content/uploads/2016/12/f1ea936f0ff17710952cd6a10f55a4e2.jpg
END:VEVENT
BEGIN:VEVENT
DTSTART;TZID=America/Winnipeg:20170512T180000
DTEND;TZID=America/Winnipeg:20170512T220000
DTSTAMP:20260419T232521
CREATED:20170105T025139Z
LAST-MODIFIED:20170414T220113Z
UID:48141-1494612000-1494626400@accesswinnipeg.com
SUMMARY:Dean Brody's Beautiful Freakshow Tour 2017
DESCRIPTION:Dean Brody\nBeautiful Freakshow Tour 2017\nWith special guests Madeline Merlo and the James Barker Band \nFRIDAY\, MAY 12\nMTS Centre\, Winnipeg\nAll Ages / Reserved\nDoors: 6:00PM / Show: 7:00PM \nFB Presale: Thursday\, November 3 at 10AM – 10PM\nPassword: CHILL\nPublic On Sale: Friday\, November 4 at 10AM\nGet Tickets: http://bit.ly/2f60Qsx \nTickets: $39.50\, $49.50\, $65.00 (Incl. GST) + s/c \n-Dean Brody Online-\nWebsite: http://www.deanbrody.com\nFacebook: https://www.facebook.com/deanbrody\nTwitter: https://twitter.com/deanbrody\nYouTube: https://www.youtube.com/deanbrodytv \nIn the midst of an exhilarating album launch\, Dean Brody brings his brand new album\, Beautiful Freakshow\, coast to coast through local media appearances\, and country radio listener events\, culminating in a special live performance in Toronto\, to kick-off the announcement of national tour dates\, beginning April 2017. \nTickets officially go on sale November 4\, 2016\, at http://www.livenation.com with pre-sale beginning November 2 and 3. VIP tickets will include premium seats\, a pre-show meet and greet\, photo opportunity\, a pre-show acoustic performance and more. \nOn the west coast dates\, 2015 CCMA Rising Star and reigning BCCMA Female Artist of the Year\, Madeline Merlo will perform in advance of Brody taking to the stage\, and on the Ontario dates\, newly Warner Nashville signed act High Valley will bring fans straight into the headliner. Fun loving\, Top 5 Canadian country radio act\, James Barker Band will be opening the action-packed show across Canada. \nThe past year saw Brody take home a JUNO Award for Country Album of the Year\, along with 4 CCMA Awards for the top selling digital Canadian country single of all-time\, “Bring Down the House”. Beautiful Freakshow is Brody’s sixth album\, and it’s one that takes risks and delves outside of the comfort zone of traditional country\, with songs such as the progressive title track\, featuring a rap vocal from Halifax native Shevy Price\, and the mellow reggae vibe invoked from “Beautiful Girl”. And yet\, the record manages to simultaneously stay true to what many fans have come to love and expect from Brody\, with traditional tracks destined to be classics\, such as\, “Time”\, “8th Day” and “Blueberry Sky”\, which features iconic country legend\, Vince Gill on the guitar. \nStay up to date with Live Nation!\nhttps://www.facebook.com/livenationsaskatchewanandmanitoba\nhttps://twitter.com/livenationwest\nhttps://instagram.com/livenationskmb/\nhttp://www.livenation.com
URL:https://accesswinnipeg.com/event/dean-brodys-beautiful-freakshow-tour-2017/
LOCATION:MTS Centre\, 300 Portage Ave\, Winnipeg\, Manitoba\, R3C 5S4\, Canada
ATTACH;FMTTYPE=image/jpeg:https://accesswinnipeg.com/wp-content/uploads/2017/03/44abddea624e90b6dd424f2f53955620.jpg
END:VEVENT
BEGIN:VEVENT
DTSTART;TZID=America/Winnipeg:20170513T190000
DTEND;TZID=America/Winnipeg:20170513T190000
DTSTAMP:20260419T232521
CREATED:20170228T223004Z
LAST-MODIFIED:20170414T072133Z
UID:49216-1494702000-1494702000@accesswinnipeg.com
SUMMARY:Lisa Lampanelli - Live
DESCRIPTION:Lisa Lampanelli – Live
URL:https://accesswinnipeg.com/event/lisa-lampanelli-live/
LOCATION:Burton Cummings Theatre\, 364 Smith Street\, Winnipeg\, Manitoba\, R3B 2H2\, Canada
ATTACH;FMTTYPE=image/jpeg:https://accesswinnipeg.com/wp-content/uploads/2017/04/386aaeab14fb9a20bd0465bc9e37f7a9.jpg
END:VEVENT
BEGIN:VEVENT
DTSTART;TZID=America/Winnipeg:20170517T190000
DTEND;TZID=America/Winnipeg:20170517T220000
DTSTAMP:20260419T232521
CREATED:20170210T181637Z
LAST-MODIFIED:20170414T072133Z
UID:48819-1495047600-1495058400@accesswinnipeg.com
SUMMARY:Needtobreathe w/ special guests Colony House
DESCRIPTION:NEEDTOBREATHE\nWith special guests\nColony House \nWEDNESDAY\, MAY 17\nBurton Cummings Theatre\, Winnipeg\nAll Ages / Reserved Seating\nDoors 7:00PM / Show 8:00PM \nFacebook Presale: Wed\, Jan 25 at 10am – Thurs\, Jan 26 at 10pm\nPassword: DANCE\nOn Sale: Friday\, Jan 27 at 10am\nGet Tickets: http://bit.ly/2jIgY80 \nTickets (incl. GST) $26.00\, $36.00\, $50.50  \n– NEEDTOBREATHE Online –\nWebsite: http://www.needtobreathe.com/\nFacebook: https://www.facebook.com/NEEDTOBREATHE\nTwitter: https://twitter.com/NEEDTOBREATHE\nYouTube/VEVO: http://www.youtube.com/user/NEEDTOBREATHEVIDEOS\nInstagram: http://instagram.com/needtobreathe \n2016 was a monumental year for South Carolina rock band NEEDTOBREATHE. Their new album H A R D L O V E\, released via Atlantic Records/Warner Music Canada\, topped Billboard’s Top Albums chart as well as Top Current\, Rock and Alternative Albums charts. Rolling Stone called the foursome an “anomaly in the current pop-music landscape\,” with People Magazine commending that the band “adds synths and infectious pop melodies to their signature Southern rock…It’s easy to love.” \n2017 will see the GRAMMY-nominated band known for the dynamic energy of their live shows embark on a Canadian tour\, beginning on May 11 at Toronto’s Danforth Music Hall. Friends of the band and previous tour support act Colony House will open select dates. Full show dates are below. \nTickets go on sale to the general public on Friday\, January 27. \nABOUT NEEDTOBREATHE:\nNEEDTOBREATHE is a GRAMMY-nominated rock band hailing from South Carolina\, comprised of brothers Bear Rinehart (vocals\, guitar) and Bo Rinehart (guitar\, vocals\, strings)\, Seth Bolt (bass\, vocals) and Josh Lovelace (keys\, vocals). Highlighted by the lead single “HAPPINESS\,” their new album H A R D L O V E was released on July 2016 and debuted at No. 1 on the Billboard Top Albums\, Top Current Albums\, Top Rock Albums and Top Alternative Albums charts as well as No. 2 on the Billboard 200\, their greatest debut yet. In Canada\, the band scored their highest chart debuts\, entering the Nielsen SoundScan Current and Top Album charts at No. 3. \nH A R D L O V E is the follow-up to 2014’s Rivers In the Wasteland\, which debuted at No. 3 overall on the Billboard 200 and garnered the group their first GRAMMY nomination. Rivers In the Wasteland also spawned the RIAA-certified Gold single\, “Brother (feat. Gavin DeGraw)” as well as a pair of Billboard Music Award nominations. \nStay up to date with Live Nation!\nhttps://www.facebook.com/livenationsaskatchewanandmanitoba\nhttps://twitter.com/livenationwest\nhttps://instagram.com/livenationskmb\nhttp://www.livenation.com
URL:https://accesswinnipeg.com/event/needtobreathe-w-special-guests-colony-house/
LOCATION:Burton Cummings Theatre\, 364 Smith Street\, Winnipeg\, Manitoba\, R3B 2H2\, Canada
ATTACH;FMTTYPE=image/jpeg:https://accesswinnipeg.com/wp-content/uploads/2017/04/e2ff276957970cf166c6740098b16a0c.jpg
END:VEVENT
BEGIN:VEVENT
DTSTART;TZID=America/Winnipeg:20170518T183000
DTEND;TZID=America/Winnipeg:20170518T183000
DTSTAMP:20260419T232521
CREATED:20170408T054541Z
LAST-MODIFIED:20170414T072133Z
UID:49880-1495132200-1495132200@accesswinnipeg.com
SUMMARY:Bill Burr
DESCRIPTION:Sale Dates and Times:\nInternet Presale : Tue\, 14 Mar 2017 at 10:00 AM \nPublic Onsale : Fri\, 17 Mar 2017 at 10:00 AM
URL:https://accesswinnipeg.com/event/bill-burr/
LOCATION:Burton Cummings Theatre\, 364 Smith Street\, Winnipeg\, Manitoba\, R3B 2H2\, Canada
ATTACH;FMTTYPE=image/jpeg:https://accesswinnipeg.com/wp-content/uploads/2017/04/5435721b66c0434a8aaae7c2ef61771b.jpg
END:VEVENT
BEGIN:VEVENT
DTSTART;TZID=America/Winnipeg:20170519T180000
DTEND;TZID=America/Winnipeg:20170519T225900
DTSTAMP:20260419T232521
CREATED:20170408T054544Z
LAST-MODIFIED:20170414T072133Z
UID:49882-1495216800-1495234740@accesswinnipeg.com
SUMMARY:Chris Hadfield’s Canada 150 Tour
DESCRIPTION:Chris Hadfield’s Canada 150 Tour \nFRIDAY\, MAY 19\nBurton Cummings Theatre\, Winnipeg\nAll Ages / Reserved Seating\nDoors 7:00PM / Show 8:00PM \nFacebook Presale: Thurs\, March 16 10am to 10pm\nPassword: MUSIC\nGeneral On Sale: Fri\, March 17 at 10am\nGet Tickets: http://bit.ly/2oS8zhb\nVIP packages available here: http://bit.ly/2lXRANv \nTickets (incl. GST) $45.00\, $59.50\, $79.50 + s/c \n– Chris Hadfield Online –\nWebsite: http://chrishadfield.ca/\nFacebook: https://www.facebook.com/AstronautChrisHadfield\nTwitter: https://twitter.com/Cmdr_Hadfield\nYouTube/VEVO: https://www.youtube.com/user/ColChrisHadfield/videos\nInstagram: https://www.instagram.com/colchrishadfield/ \nCanada’s first spaceship commander\, Colonel Chris Hadfield shares a selection of stories\, images\, songs and ideas that celebrate the 150th birthday of the nation he is so proud to call home. From his unique perspective\, Chris looks at the history and future of Canada through its people and the land itself. Performing songs like his fun-loving\, patriotic single “In Canada”\, to his evocative “Beyond the Terra” that looks away from the land to the skies\, Colonel Hadfield ties his presentation together with stories of great Canadians and tales from his incredible career. Suitable for fans big\, small\, and in-between\, Chris customizes his performance to each audience\, and leaves everyone with the sense that Canada truly is “out of this world”. \nStay up to date with Live Nation!\nhttps://www.facebook.com/livenationsaskatchewanandmanitoba\nhttps://twitter.com/livenationwest\nhttps://instagram.com/livenationskmb\nhttp://www.livenation.com
URL:https://accesswinnipeg.com/event/chris-hadfields-canada-150-tour/
LOCATION:Burton Cummings Theatre\, 364 Smith Street\, Winnipeg\, Manitoba\, R3B 2H2\, Canada
ATTACH;FMTTYPE=image/jpeg:https://accesswinnipeg.com/wp-content/uploads/2017/04/f0e7f67a7bcef434717525eee1928c4d.jpg
END:VEVENT
BEGIN:VEVENT
DTSTART;TZID=America/Winnipeg:20170523T190000
DTEND;TZID=America/Winnipeg:20170523T190000
DTSTAMP:20260419T232521
CREATED:20170210T181626Z
LAST-MODIFIED:20170211T181549Z
UID:48818-1495566000-1495566000@accesswinnipeg.com
SUMMARY:George Canyon
DESCRIPTION:George Canyon
URL:https://accesswinnipeg.com/event/george-canyon/
LOCATION:Club Regent Event Centre\, 1425 Regent Avenue West\, Winnipeg\, MB\, R2C 3B2\, Canada
END:VEVENT
BEGIN:VEVENT
DTSTART;TZID=America/Winnipeg:20170524T190000
DTEND;TZID=America/Winnipeg:20170524T190000
DTSTAMP:20260419T232521
CREATED:20161213T102759Z
LAST-MODIFIED:20170414T073009Z
UID:45856-1495652400-1495652400@accesswinnipeg.com
SUMMARY:Unraveling The Wilburys
DESCRIPTION:Unraveling The Wilburys
URL:https://accesswinnipeg.com/event/unraveling-the-wilburys/
LOCATION:Burton Cummings Theatre\, 364 Smith Street\, Winnipeg\, Manitoba\, R3B 2H2\, Canada
ATTACH;FMTTYPE=image/jpeg:https://accesswinnipeg.com/wp-content/uploads/2017/04/fafb8de12185c16399a4f1231e804b8a.jpg
END:VEVENT
BEGIN:VEVENT
DTSTART;TZID=America/Winnipeg:20170524T190000
DTEND;TZID=America/Winnipeg:20170524T190000
DTSTAMP:20260419T232521
CREATED:20170210T181638Z
LAST-MODIFIED:20170211T181603Z
UID:48821-1495652400-1495652400@accesswinnipeg.com
SUMMARY:REMEMBERING ELVIS
DESCRIPTION:REMEMBERING ELVIS featuring Adam T Elvis\, Daylin James\, Corney Rempel & Gerry Barrett 7pm doors 8pm show All Ages
URL:https://accesswinnipeg.com/event/remembering-elvis/
LOCATION:Club Regent Event Centre\, 1425 Regent Avenue West\, Winnipeg\, MB\, R2C 3B2\, Canada
END:VEVENT
BEGIN:VEVENT
DTSTART;TZID=America/Winnipeg:20170525T190000
DTEND;TZID=America/Winnipeg:20170525T220000
DTSTAMP:20260419T232521
CREATED:20170216T194631Z
LAST-MODIFIED:20170309T003015Z
UID:48933-1495738800-1495749600@accesswinnipeg.com
SUMMARY:Royal Canoe w/ The Winnipeg Symphony Orchestra!
DESCRIPTION:We couldn’t be more excited to collaborate with the Winnipeg Symphony Orchestra. Our entire new album ‘Something Got Lost Between Here and the Orbit’ has been arranged for symphony and we’ll be playing the whole thing along with some old favorites! \n“Royal Canoe have established themselves as musical mad scientists\, throwing rock\, pop and hip hop into a blender to create catchy-as-hell\, dance floor-ready tunes. Add in the full force of the WSO in a brand new show and the JUNO-nominated indie rockers scale whole new heights!”
URL:https://accesswinnipeg.com/event/royal-canoe-w-the-winnipeg-symphony-orchestra/
LOCATION:Centennial Concert Hall\, 555 Main St\, Winnipeg\, Manitoba\, R3B 1C3\, Canada
ATTACH;FMTTYPE=image/jpeg:https://accesswinnipeg.com/wp-content/uploads/2017/02/df8a6fe07d7403aed9b23244d5c3fce4.jpg
END:VEVENT
BEGIN:VEVENT
DTSTART;TZID=America/Winnipeg:20170526T190000
DTEND;TZID=America/Winnipeg:20170526T190000
DTSTAMP:20260419T232521
CREATED:20161124T035214Z
LAST-MODIFIED:20170309T003015Z
UID:41890-1495825200-1495825200@accesswinnipeg.com
SUMMARY:Air Canada Pops - True North: The Canadian Songbook
DESCRIPTION:Multiple ECMA-nominated singer Eleanor McCain brings her unique and unmistakable style to the WSO with a sneak peek at True North: The Canadian Songbook\, her sixth studio album\, which is set for release in July 2017 to celebrate Canadas 150th birthday. The show celebrates iconic songs like Hallelujah\, A Case Of You\, Snowbird and Ordinary Day in new and imaginative orchestrations.
URL:https://accesswinnipeg.com/event/air-canada-pops-true-north-the-canadian-songbook/
LOCATION:Centennial Concert Hall\, 555 Main St\, Winnipeg\, Manitoba\, R3B 1C3\, Canada
ATTACH;FMTTYPE=image/jpeg:https://accesswinnipeg.com/wp-content/uploads/2017/02/1265c1aff240fa25e304a2d6008c5849.jpg
END:VEVENT
BEGIN:VEVENT
DTSTART;TZID=America/Winnipeg:20170526T190000
DTEND;TZID=America/Winnipeg:20170526T190000
DTSTAMP:20260419T232521
CREATED:20170210T181638Z
LAST-MODIFIED:20170211T181603Z
UID:48822-1495825200-1495825200@accesswinnipeg.com
SUMMARY:Thunder From Down Under
DESCRIPTION:AUSTRALIA’S THUNDER FROM DOWN UNDER Direct from Las Vegas 7pm Doors 8pm Show 18+ Only
URL:https://accesswinnipeg.com/event/thunder-from-down-under/
LOCATION:Club Regent Event Centre\, 1425 Regent Avenue West\, Winnipeg\, MB\, R2C 3B2\, Canada
END:VEVENT
BEGIN:VEVENT
DTSTART;TZID=America/Winnipeg:20170527T190000
DTEND;TZID=America/Winnipeg:20170527T190000
DTSTAMP:20260419T232521
CREATED:20161124T035214Z
LAST-MODIFIED:20170309T003015Z
UID:41891-1495911600-1495911600@accesswinnipeg.com
SUMMARY:Air Canada Pops - True North: The Canadian Songbook
DESCRIPTION:Multiple ECMA-nominated singer Eleanor McCain brings her unique and unmistakable style to the WSO with a sneak peek at True North: The Canadian Songbook\, her sixth studio album\, which is set for release in July 2017 to celebrate Canadas 150th birthday. The show celebrates iconic songs like Hallelujah\, A Case Of You\, Snowbird and Ordinary Day in new and imaginative orchestrations.
URL:https://accesswinnipeg.com/event/air-canada-pops-true-north-the-canadian-songbook-2/
LOCATION:Centennial Concert Hall\, 555 Main St\, Winnipeg\, Manitoba\, R3B 1C3\, Canada
ATTACH;FMTTYPE=image/jpeg:https://accesswinnipeg.com/wp-content/uploads/2017/02/7a433e6f4f6394f00f6164d41f58bd96.jpg
END:VEVENT
BEGIN:VEVENT
DTSTART;TZID=America/Winnipeg:20170527T190000
DTEND;TZID=America/Winnipeg:20170527T190000
DTSTAMP:20260419T232521
CREATED:20170210T181638Z
LAST-MODIFIED:20170211T181603Z
UID:48823-1495911600-1495911600@accesswinnipeg.com
SUMMARY:Thunder From Down Under
DESCRIPTION:AUSTRALIA’S THUNDER FROM DOWN UNDER Direct from Las Vegas 7pm Doors 8pm Show 18+ Only
URL:https://accesswinnipeg.com/event/thunder-from-down-under-2/
LOCATION:Club Regent Event Centre\, 1425 Regent Avenue West\, Winnipeg\, MB\, R2C 3B2\, Canada
END:VEVENT
BEGIN:VEVENT
DTSTART;TZID=America/Winnipeg:20170528T130000
DTEND;TZID=America/Winnipeg:20170528T130000
DTSTAMP:20260419T232521
CREATED:20161124T035214Z
LAST-MODIFIED:20170309T003015Z
UID:41892-1495976400-1495976400@accesswinnipeg.com
SUMMARY:Air Canada Pops - True North: The Canadian Songbook
DESCRIPTION:Multiple ECMA-nominated singer Eleanor McCain brings her unique and unmistakable style to the WSO with a sneak peek at True North: The Canadian Songbook\, her sixth studio album\, which is set for release in July 2017 to celebrate Canadas 150th birthday. The show celebrates iconic songs like Hallelujah\, A Case Of You\, Snowbird and Ordinary Day in new and imaginative orchestrations.
URL:https://accesswinnipeg.com/event/air-canada-pops-true-north-the-canadian-songbook-3/
LOCATION:Centennial Concert Hall\, 555 Main St\, Winnipeg\, Manitoba\, R3B 1C3\, Canada
ATTACH;FMTTYPE=image/jpeg:https://accesswinnipeg.com/wp-content/uploads/2017/03/dd904f487268979cdf7f98c63e434ca7.jpg
END:VEVENT
BEGIN:VEVENT
DTSTART;TZID=America/Winnipeg:20170531T190000
DTEND;TZID=America/Winnipeg:20170531T190000
DTSTAMP:20260419T232521
CREATED:20170210T181638Z
LAST-MODIFIED:20170414T073011Z
UID:48820-1496257200-1496257200@accesswinnipeg.com
SUMMARY:Winnipeg Folk Festival Presents The Head And The Heart
DESCRIPTION:Winnipeg Folk Festival Presents The Head And The Heart
URL:https://accesswinnipeg.com/event/winnipeg-folk-festival-presents-the-head-and-the-heart/
LOCATION:Burton Cummings Theatre\, 364 Smith Street\, Winnipeg\, Manitoba\, R3B 2H2\, Canada
ATTACH;FMTTYPE=image/jpeg:https://accesswinnipeg.com/wp-content/uploads/2017/04/0a45b3ccde11d1f84e21d8e087656e10.jpg
END:VEVENT
END:VCALENDAR